BEGIN:VCALENDAR
VERSION:2.0
PRODID:-//Lina Gálvez - ECPv6.15.20//NONSGML v1.0//EN
CALSCALE:GREGORIAN
METHOD:PUBLISH
X-WR-CALNAME:Lina Gálvez
X-ORIGINAL-URL:https://linagalvez.eu
X-WR-CALDESC:Eventos para Lina Gálvez
REFRESH-INTERVAL;VALUE=DURATION:PT1H
X-Robots-Tag:noindex
X-PUBLISHED-TTL:PT1H
BEGIN:VTIMEZONE
TZID:Europe/Madrid
BEGIN:DAYLIGHT
TZOFFSETFROM:+0100
TZOFFSETTO:+0200
TZNAME:CEST
DTSTART:20240331T010000
END:DAYLIGHT
BEGIN:STANDARD
TZOFFSETFROM:+0200
TZOFFSETTO:+0100
TZNAME:CET
DTSTART:20241027T010000
END:STANDARD
BEGIN:DAYLIGHT
TZOFFSETFROM:+0100
TZOFFSETTO:+0200
TZNAME:CEST
DTSTART:20250330T010000
END:DAYLIGHT
BEGIN:STANDARD
TZOFFSETFROM:+0200
TZOFFSETTO:+0100
TZNAME:CET
DTSTART:20251026T010000
END:STANDARD
BEGIN:DAYLIGHT
TZOFFSETFROM:+0100
TZOFFSETTO:+0200
TZNAME:CEST
DTSTART:20260329T010000
END:DAYLIGHT
BEGIN:STANDARD
TZOFFSETFROM:+0200
TZOFFSETTO:+0100
TZNAME:CET
DTSTART:20261025T010000
END:STANDARD
END:VTIMEZONE
BEGIN:VEVENT
DTSTART;TZID=Europe/Madrid:20250204T123000
DTEND;TZID=Europe/Madrid:20250204T133000
DTSTAMP:20260422T120322
CREATED:20250130T083947Z
LAST-MODIFIED:20250210T090027Z
UID:10467-1738672200-1738675800@linagalvez.eu
SUMMARY:S&D Reunión de la Delegación Socialista Española.
DESCRIPTION:Lina Gálvez asistirá a la reunión de la Delegación Socialista Española para debatir y coordinar estrategias sobre temas clave de la agenda política.
URL:https://linagalvez.eu/agenda/sd-reunion-delegacion-socialista-espanola-dse-25-02/
CATEGORIES:Actualidad,Parlamento,S&D
ATTACH;FMTTYPE=image/jpeg:https://linagalvez.eu/wp-content/uploads/2024/07/GP-Socialista-X-Legislatura.jpeg
END:VEVENT
BEGIN:VEVENT
DTSTART;TZID=Europe/Madrid:20250210T093000
DTEND;TZID=Europe/Madrid:20250210T130000
DTSTAMP:20260422T120322
CREATED:20250207T071547Z
LAST-MODIFIED:20250210T084840Z
UID:10663-1739179800-1739192400@linagalvez.eu
SUMMARY:Reunión de equipo
DESCRIPTION:Lina Gálvez se reunirá con su equipo para planificar y coordinar la semana de Estrasburgo.
URL:https://linagalvez.eu/agenda/reunion-equipo-25-02/
CATEGORIES:Actualidad,Parlamento
ATTACH;FMTTYPE=image/jpeg:https://linagalvez.eu/wp-content/uploads/2020/07/Calendario2.jpg
END:VEVENT
BEGIN:VEVENT
DTSTART;TZID=Europe/Madrid:20250211T090000
DTEND;TZID=Europe/Madrid:20250213T183000
DTSTAMP:20260422T120322
CREATED:20250207T164450Z
LAST-MODIFIED:20250213T204829Z
UID:10661-1739264400-1739471400@linagalvez.eu
SUMMARY:Pleno del Parlamento Europeo. Estrasburgo
DESCRIPTION:Destacados del pleno. Estrasburgo \n\nMartes 11 de febrero de 2025 \nLina Gálvez tendrá la palabra en el punto ‘Restricciones a la exportación de chips de IA de EE. UU.: un desafío para el desarrollo de la IA y la resiliencia económica de Europa’ \n\nJueves 13 de febrero de 2025 \nLina Gálvez tendrá la palabra en el debate ‘Amenazas a la soberanía de la UE a través de dependencias estratégicas en infraestructuras de comunicación’ \n\nSe podrán seguir las sesiones en el siguiente enlace AQUÍ
URL:https://linagalvez.eu/agenda/pleno-parlamento-europeo-estrasburgo-2025-02/
CATEGORIES:Actualidad,Parlamento
ATTACH;FMTTYPE=image/jpeg:https://linagalvez.eu/wp-content/uploads/2020/03/European_Parliament_Strasbourg_Hemicycle_-_Diliff-2-scaled.jpg
END:VEVENT
BEGIN:VEVENT
DTSTART;TZID=Europe/Madrid:20250211T120000
DTEND;TZID=Europe/Madrid:20250211T123000
DTSTAMP:20260422T120322
CREATED:20250207T080018Z
LAST-MODIFIED:20250210T085651Z
UID:10669-1739275200-1739277000@linagalvez.eu
SUMMARY:Votación plenario Parlamento
DESCRIPTION:La eurodiputada Lina Gálvez participará en el debate del lunes durante la Sesión Plenaria de Estrasburgo. En esta sesión se abordaran los siguientes temas \nMiércoles 17 \n\nLa necesidad de que la UE siga apoyando a Ucrania: declaraciones de los líderes de los grupos políticos y votación de una resolución\nElección de los cuestores del Parlamento Europeo\n\nLos Cuestores del Parlamento Europeo: Pilar Administrativo y Económico\nEn el entramado institucional del Parlamento Europeo\, los Cuestores juegan un rol fundamental en el funcionamiento diario de la cámara. Encargados de los asuntos administrativos y económicos que afectan directamente a las y los eurodiputados\, los Cuestores aseguran que las condiciones de trabajo sean óptimas y eficaces. \nGestión Administrativa y Económica \nLas y los cinco Cuestores\, miembros de la Mesa del Parlamento\, se encargan de gestionar las instalaciones y servicios generales necesarios para las y los diputados. Desde la provisión de oficinas hasta la implementación de recursos tecnológicos\, su labor es esencial para el buen desarrollo de las actividades parlamentarias. \nProceso de Elección \nLa elección de las y los Cuestores se realiza en votación secreta\, siguiendo la elección de la presidencia y las catorce vicepresidencias del Parlamento. Este proceso incluye tres vueltas: en las dos primeras se requiere la mayoría absoluta de los votos emitidos\, mientras que en la última basta con una mayoría relativa. Su mandato tiene una duración de dos años y medio. \nFunciones y Responsabilidades \nAdemás de su gestión administrativa\, las y los Cuestores tienen la capacidad de presentar propuestas para modificar o reformular reglamentaciones adoptadas por la Mesa del Parlamento. Se reúnen mensualmente para discutir y resolver cuestiones pertinentes\, y poseen una voz consultiva en la Mesa\, influyendo en la toma de decisiones sobre asuntos internos. \nInteracción con las y los Diputados \nCualquier diputada o diputado puede formular preguntas a las y los Cuestores sobre sus actividades\, garantizando así transparencia y una comunicación efectiva dentro del Parlamento. Esta interacción es vital para asegurar que las necesidades y preocupaciones de las y los diputados sean atendidas adecuadamente. \nPuedes seguir la intervención en streaming en el siguiente enlace: Sesión Plenaria del Parlamento Europeo.
URL:https://linagalvez.eu/agenda/votacion-plenario-parlamento-25-02/
CATEGORIES:Actualidad,Parlamento
ATTACH;FMTTYPE=image/jpeg:https://linagalvez.eu/wp-content/uploads/2024/06/lina-galvez-el-pasado-31-de-elina-galvez-psoe-bruselas.jpeg
END:VEVENT
BEGIN:VEVENT
DTSTART;TZID=Europe/Madrid:20250211T130000
DTEND;TZID=Europe/Madrid:20250211T140000
DTSTAMP:20260422T120322
CREATED:20250207T083947Z
LAST-MODIFIED:20250210T090640Z
UID:10674-1739278800-1739282400@linagalvez.eu
SUMMARY:S&D Reunión de la Delegación Socialista Española.
DESCRIPTION:Lina Gálvez asistirá a la reunión de la Delegación Socialista Española para debatir y coordinar estrategias sobre temas clave de la agenda política.
URL:https://linagalvez.eu/agenda/sd-reunion-delegacion-socialista-espanola-dse-25-02-2/
CATEGORIES:Actualidad,Parlamento,S&D
ATTACH;FMTTYPE=image/jpeg:https://linagalvez.eu/wp-content/uploads/2024/07/GP-Socialista-X-Legislatura.jpeg
END:VEVENT
BEGIN:VEVENT
DTSTART;TZID=Europe/Madrid:20250211T160000
DTEND;TZID=Europe/Madrid:20250211T180000
DTSTAMP:20260422T120322
CREATED:20250207T141425Z
LAST-MODIFIED:20250210T090820Z
UID:10676-1739289600-1739296800@linagalvez.eu
SUMMARY:Conference of Committee Chairs - CCC
DESCRIPTION:Conference of Committee Chairs (CCC) \nLina Gálvez participará\, como presidenta del Comité de Derechos de las Mujeres e Igualdad de Género (FEMM)\, en la reunión de Presidentas y Presidentes de las Comisiones del Parlamento Europeo.
URL:https://linagalvez.eu/agenda/conference-committee-chairs-ccc-2502/
CATEGORIES:Actualidad,FEMM,Parlamento
ATTACH;FMTTYPE=image/jpeg:https://linagalvez.eu/wp-content/uploads/2024/09/1726593435288_20240917_EP-172216A_EGZ_0333-Enhanced-NR_MOBILE.jpg
END:VEVENT
BEGIN:VEVENT
DTSTART;TZID=Europe/Madrid:20250211T191500
DTEND;TZID=Europe/Madrid:20250211T194500
DTSTAMP:20260422T120322
CREATED:20250202T125816Z
LAST-MODIFIED:20250213T210354Z
UID:10508-1739301300-1739303100@linagalvez.eu
SUMMARY:Intervención en Pleno "Restricciones a la exportación de chips de IA de EE. UU.: un desafío para el desarrollo de la IA y la resiliencia económica de Europa"
DESCRIPTION:19:26 Intervención en Pleno de Estrasburgo \nLina Gálvez tendrá la palabra en en el Pleno del Parlamento en el debate ‘Restricciones a la exportación de chips de IA de EE. UU.: un desafío para el desarrollo de la IA y la resiliencia económica de Europa’. \nSe puede seguir la intervención en el siguiente enlace: AQUÍ \nVer noticia relacionada: Lina Gálvez: Intervención en pleno sobre soberanía tecnológica en Europa y los chips de IA
URL:https://linagalvez.eu/agenda/intervencion-pleno-restricciones-exportaciones-chips-ia-eeuu-desafio-europa/
CATEGORIES:Actualidad,D-US,Destacado,Parlamento
ATTACH;FMTTYPE=image/jpeg:https://linagalvez.eu/wp-content/uploads/2020/03/European_Parliament_Strasbourg_Hemicycle_-_Diliff-2-scaled.jpg
END:VEVENT
BEGIN:VEVENT
DTSTART;TZID=Europe/Madrid:20250212T100000
DTEND;TZID=Europe/Madrid:20250212T110000
DTSTAMP:20260422T120322
CREATED:20250207T083947Z
LAST-MODIFIED:20250210T092346Z
UID:10688-1739354400-1739358000@linagalvez.eu
SUMMARY:S&D FEMM Working Group meeting
DESCRIPTION:Lina Gálvez asistirá la reunión de trabajo del grupo S&D Socialistas y Demócratas de la Comisión de Derechos de la Mujer e Igualdad de Género (FEMM)\, de la que es presidenta.
URL:https://linagalvez.eu/agenda/sd-femm-working-group-meeting-2502/
CATEGORIES:Actualidad,Destacado,FEMM,Parlamento,S&D
ATTACH;FMTTYPE=image/png:https://linagalvez.eu/wp-content/uploads/2023/01/femm_logo.png
END:VEVENT
BEGIN:VEVENT
DTSTART;TZID=Europe/Madrid:20250212T123000
DTEND;TZID=Europe/Madrid:20250212T130000
DTSTAMP:20260422T120322
CREATED:20250207T101254Z
LAST-MODIFIED:20250210T091916Z
UID:10684-1739363400-1739365200@linagalvez.eu
SUMMARY:Votación plenario Parlamento
DESCRIPTION:
URL:https://linagalvez.eu/agenda/votacion-plenario-parlamento-25-02-2/
CATEGORIES:Actualidad,Parlamento
ATTACH;FMTTYPE=image/png:https://linagalvez.eu/wp-content/uploads/2024/09/Captura-de-pantalla-2024-09-02-153140.png
END:VEVENT
BEGIN:VEVENT
DTSTART;TZID=Europe/Madrid:20250213T100000
DTEND;TZID=Europe/Madrid:20250213T103000
DTSTAMP:20260422T120322
CREATED:20250211T193216Z
LAST-MODIFIED:20250224T172758Z
UID:10796-1739440800-1739442600@linagalvez.eu
SUMMARY:Intervención en Pleno "Amenazas a la soberanía de la UE a través de dependencias estratégicas en infraestructuras de comunicación"
DESCRIPTION:10:00 Intervención en Pleno de Estrasburgo \nLina Gálvez tendrá la palabra en en el Pleno del Parlamento en el debate ‘Amenazas a la soberanía de la UE a través de dependencias estratégicas en infraestructuras de comunicación’. \nSe puede seguir la intervención en el siguiente enlace: AQUÍ \nVer noticia relacionada: Lina Gálvez: Intervención en pleno sobre las amenazas a la soberanía de la UE y Starlink
URL:https://linagalvez.eu/agenda/restricciones-exportacion-chips-ia-eeuu-desafio-eu/
CATEGORIES:Actualidad,D-US,Destacado,ITRE,Parlamento,STOA
ATTACH;FMTTYPE=image/jpeg:https://linagalvez.eu/wp-content/uploads/2024/12/Votacion-Estrasburgo-16-9.jpeg
END:VEVENT
BEGIN:VEVENT
DTSTART;TZID=Europe/Madrid:20250213T120000
DTEND;TZID=Europe/Madrid:20250213T123000
DTSTAMP:20260422T120322
CREATED:20250207T101254Z
LAST-MODIFIED:20250210T092021Z
UID:10686-1739448000-1739449800@linagalvez.eu
SUMMARY:Votación plenario Parlamento
DESCRIPTION:
URL:https://linagalvez.eu/agenda/votacion-plenario-parlamento-25-02-3/
CATEGORIES:Actualidad,Parlamento
ATTACH;FMTTYPE=image/png:https://linagalvez.eu/wp-content/uploads/2024/09/Captura-de-pantalla-2024-09-02-153140.png
END:VEVENT
BEGIN:VEVENT
DTSTART;TZID=Europe/Madrid:20250217T093000
DTEND;TZID=Europe/Madrid:20250217T130000
DTSTAMP:20260422T120322
CREATED:20250214T071547Z
LAST-MODIFIED:20250217T095621Z
UID:10843-1739784600-1739797200@linagalvez.eu
SUMMARY:Reunión de equipo
DESCRIPTION:Lina Gálvez se reunirá con su equipo para planificar y coordinar la semana.
URL:https://linagalvez.eu/agenda/reunion-equipo-25-02-2/
CATEGORIES:Actualidad,Parlamento
ATTACH;FMTTYPE=image/jpeg:https://linagalvez.eu/wp-content/uploads/2020/07/Calendario2.jpg
END:VEVENT
BEGIN:VEVENT
DTSTART;TZID=Europe/Madrid:20250217T200000
DTEND;TZID=Europe/Madrid:20250217T213000
DTSTAMP:20260422T120322
CREATED:20250214T113502Z
LAST-MODIFIED:20250217T090718Z
UID:10834-1739822400-1739827800@linagalvez.eu
SUMMARY:Evento “Representación femenina en el Parlamento Europeo”
DESCRIPTION:Lina Gálvez participará en el evento “Representación femenina en el Parlamento Europeo” organizado por el College of Europe en Brujas (Bélgica)\, sobre la situación de las mujeres en el Parlamento Europeo\, las barreras y los retos a los que se enfrentan para lograr una situación igualitaria. En el panel debatirán las eurodiputadas Maria Walsh (EPP)\, Benedetta Scuderi (Greens)\, Sigrid Friis (Renew) y Lina Gálvez (S&D).
URL:https://linagalvez.eu/agenda/evento-representacion-femenina-parlamento-europeo-brujas/
CATEGORIES:Actualidad,Destacado,FEMM,Parlamento
ATTACH;FMTTYPE=image/jpeg:https://linagalvez.eu/wp-content/uploads/2023/11/lina_R.jpg
END:VEVENT
BEGIN:VEVENT
DTSTART;TZID=Europe/Madrid:20250218T090000
DTEND;TZID=Europe/Madrid:20250218T123000
DTSTAMP:20260422T120322
CREATED:20250214T083947Z
LAST-MODIFIED:20250217T105143Z
UID:10856-1739869200-1739881800@linagalvez.eu
SUMMARY:Reunión de la Comisión de Derechos de las Mujeres e Igualdad de Género (FEMM)
DESCRIPTION:Lina Gálvez presidirá la Comisión de Derechos de las Mujeres e Igualdad de Género (FEMM)\, donde se llevará a cabo una audiencia sobre combatir la pobreza menstrual y mejorar los derechos de las mujeres en materia de salud menstrual. Además\, se llevará a cabo un diálogo con Hadja Lahbib\, Comisaria de Igualdad. \nVer en streaming aquí
URL:https://linagalvez.eu/agenda/reunion-comite-femm-2025-02/
CATEGORIES:Actualidad,FEMM,Parlamento
ATTACH;FMTTYPE=image/jpeg:https://linagalvez.eu/wp-content/uploads/2025/01/1733318827138_20241204_EP-176461A_AR2_066-scaled.jpg
END:VEVENT
BEGIN:VEVENT
DTSTART;TZID=Europe/Madrid:20250218T150000
DTEND;TZID=Europe/Madrid:20250218T173000
DTSTAMP:20260422T120322
CREATED:20241209T072047Z
LAST-MODIFIED:20250217T105516Z
UID:10858-1739890800-1739899800@linagalvez.eu
SUMMARY:Comisión de Derechos de las Mujeres e Igualdad de Género (FEMM)
DESCRIPTION:Lina Gálvez presidirá la Comisión de Derechos de las Mujeres e Igualdad de Género (FEMM)\, donde se presentarán los resultados de la investigación sobre la integración de las mujeres ucranianas en Europa y se reunirá la Gender Mainstreaming Network. \nVer en streaming aquí
URL:https://linagalvez.eu/agenda/reunion-comite-femm-2025-02-2/
CATEGORIES:Actualidad,FEMM,Parlamento
ATTACH;FMTTYPE=image/png:https://linagalvez.eu/wp-content/uploads/2023/01/femm_logo.png
END:VEVENT
BEGIN:VEVENT
DTSTART;TZID=Europe/Madrid:20250219T100000
DTEND;TZID=Europe/Madrid:20250219T113000
DTSTAMP:20260422T120322
CREATED:20250214T103954Z
LAST-MODIFIED:20250217T110252Z
UID:10865-1739959200-1739964600@linagalvez.eu
SUMMARY:Reunión de la Comisión de Industria\, Investigación y Energía (ITRE)
DESCRIPTION:Lina Gálvez asistirá a la reunión de la Comisión de Industria\, Investigación y Energía (ITRE)\, de la que forma parte. \nVer en streaming aquí
URL:https://linagalvez.eu/agenda/reunion-comision-industria-investigacion-energia-itre-25-02/
CATEGORIES:Actualidad,ITRE,Parlamento
ATTACH;FMTTYPE=image/png:https://linagalvez.eu/wp-content/uploads/2020/09/ITRE.-Logo.png
END:VEVENT
BEGIN:VEVENT
DTSTART;TZID=Europe/Madrid:20250219T143000
DTEND;TZID=Europe/Madrid:20250219T173000
DTSTAMP:20260422T120322
CREATED:20250214T103954Z
LAST-MODIFIED:20250217T110611Z
UID:10868-1739975400-1739986200@linagalvez.eu
SUMMARY:Reunión de la Comisión de Industria\, Investigación y Energía (ITRE)
DESCRIPTION:Lina Gálvez asistirá a la reunión de la Comisión de Industria\, Investigación y Energía (ITRE)\, de la que forma parte\, donde se dialogará con Ekaterina Zaharieva\, Comisaria de Empresas Emergentes\, Investigación e Innovación\, y con Maria Leptin\, Presidenta del Consejo Europeo de Investigación (CEI). \nVer en streaming aquí
URL:https://linagalvez.eu/agenda/reunion-comision-industria-investigacion-energia-itre-25-02-2/
CATEGORIES:Actualidad,ITRE,Parlamento
ATTACH;FMTTYPE=image/png:https://linagalvez.eu/wp-content/uploads/2020/09/ITRE.-Logo.png
END:VEVENT
BEGIN:VEVENT
DTSTART;TZID=Europe/Madrid:20250220T110000
DTEND;TZID=Europe/Madrid:20250220T123000
DTSTAMP:20260422T120322
CREATED:20250214T103954Z
LAST-MODIFIED:20250217T110909Z
UID:10867-1740049200-1740054600@linagalvez.eu
SUMMARY:Reunión de la Comisión de Industria\, Investigación y Energía (ITRE)
DESCRIPTION:Lina Gálvez asistirá a la reunión de la Comisión de Industria\, Investigación y Energía (ITRE)\, de la que forma parte\, donde se dialogará con Dan Jørgensen\, Comisario de Energía y Vivienda\, y se presentará el programa de la Presidencia del Consejo. \nVer en streaming aquí
URL:https://linagalvez.eu/agenda/reunion-comision-industria-investigacion-energia-itre-25-02-3/
CATEGORIES:Actualidad,ITRE,Parlamento
ATTACH;FMTTYPE=image/jpeg:https://linagalvez.eu/wp-content/uploads/2025/01/1695136327004_20230919_EP-155805A_EVD_158-scaled.jpg
END:VEVENT
BEGIN:VEVENT
DTSTART;TZID=Europe/Madrid:20250226T093000
DTEND;TZID=Europe/Madrid:20250226T130000
DTSTAMP:20260422T120322
CREATED:20250224T071047Z
LAST-MODIFIED:20250224T073835Z
UID:10917-1740562200-1740574800@linagalvez.eu
SUMMARY:Reunión de equipo
DESCRIPTION:Lina Gálvez se reunirá con su equipo para coordinar acciones próximas.
URL:https://linagalvez.eu/agenda/reunion-equipo-25-02-26/
CATEGORIES:Actualidad,Parlamento
ATTACH;FMTTYPE=image/jpeg:https://linagalvez.eu/wp-content/uploads/2020/07/Calendario2.jpg
END:VEVENT
BEGIN:VEVENT
DTSTART;TZID=Europe/Madrid:20250227T110000
DTEND;TZID=Europe/Madrid:20250227T200000
DTSTAMP:20260422T120322
CREATED:20250224T072016Z
LAST-MODIFIED:20250224T090159Z
UID:10925-1740654000-1740686400@linagalvez.eu
SUMMARY:Conmemoración del Día Internacional de las Mujeres en la EPLO de Barcelona
DESCRIPTION:La Oficina del Parlamento Europeo en Barcelona conmemora con Lina Gálvez el Día Internacional de las Mujeres el 27 de febrero. Durante el día\, la eurodiputada: \n– Se reunirá con la consellera de Igualdad y Feminismo del Gobierno de la Generalitat de Catalunya\, Eva Menor Cantador. \n– Se reunirá con la presidenta de la comisión de Igualdad de Foment\, Beatriz Fernández-Tubau\, la responsable de Igualdad en Foment\, Mireia Recio\, y el director de Laboral de Foment\, Javier Ibars. \n– Participará en un encuentro con creadoras de contenido. \n– Participará en el #afterwork de elPeriódico. Más información e inscripción AQUÍ. \n#8Marzo2025
URL:https://linagalvez.eu/agenda/conmemoracion-dia-mujeres-eplo-barcelona-2025/
CATEGORIES:Actualidad,Destacado,FEMM,Parlamento,S&D
ATTACH;FMTTYPE=image/jpeg:https://linagalvez.eu/wp-content/uploads/lina-galvez-afterowork-27F-2025.jpg
END:VEVENT
END:VCALENDAR