BEGIN:VCALENDAR
VERSION:2.0
PRODID:-//Lina Gálvez - ECPv6.15.20//NONSGML v1.0//EN
CALSCALE:GREGORIAN
METHOD:PUBLISH
X-ORIGINAL-URL:https://linagalvez.eu
X-WR-CALDESC:Eventos para Lina Gálvez
REFRESH-INTERVAL;VALUE=DURATION:PT1H
X-Robots-Tag:noindex
X-PUBLISHED-TTL:PT1H
BEGIN:VTIMEZONE
TZID:Europe/Madrid
BEGIN:DAYLIGHT
TZOFFSETFROM:+0100
TZOFFSETTO:+0200
TZNAME:CEST
DTSTART:20240331T010000
END:DAYLIGHT
BEGIN:STANDARD
TZOFFSETFROM:+0200
TZOFFSETTO:+0100
TZNAME:CET
DTSTART:20241027T010000
END:STANDARD
BEGIN:DAYLIGHT
TZOFFSETFROM:+0100
TZOFFSETTO:+0200
TZNAME:CEST
DTSTART:20250330T010000
END:DAYLIGHT
BEGIN:STANDARD
TZOFFSETFROM:+0200
TZOFFSETTO:+0100
TZNAME:CET
DTSTART:20251026T010000
END:STANDARD
BEGIN:DAYLIGHT
TZOFFSETFROM:+0100
TZOFFSETTO:+0200
TZNAME:CEST
DTSTART:20260329T010000
END:DAYLIGHT
BEGIN:STANDARD
TZOFFSETFROM:+0200
TZOFFSETTO:+0100
TZNAME:CET
DTSTART:20261025T010000
END:STANDARD
END:VTIMEZONE
BEGIN:VEVENT
DTSTART;TZID=Europe/Madrid:20250901T100000
DTEND;TZID=Europe/Madrid:20250901T103000
DTSTAMP:20260421T062111
CREATED:20250828T065506Z
LAST-MODIFIED:20251103T131439Z
UID:12295-1756720800-1756722600@linagalvez.eu
SUMMARY:My Voice My Choice
DESCRIPTION:Lina Gálvez se suma\, como presidenta de de la Comisión de Derechos de las Mujeres e Igualdad de Género (FEMM)\, al acto de respaldo a la Iniciativa Ciudadana Europea My Voice My Choice\, que promueve el acceso libre y seguro al aborto en toda Europa. El encuentro tendrá lugar frente al Parlamento Europeo y en la Plaza de Luxemburgo\, junto a otras y otros eurodiputados y sociedad civil.
URL:https://linagalvez.eu/agenda/my-voice-my-choice/
CATEGORIES:Actualidad,Destacado,FEMM,Parlamento
ATTACH;FMTTYPE=image/jpeg:https://linagalvez.eu/wp-content/uploads/LGM-my-voice-my-choice-2025.jpeg
END:VEVENT
BEGIN:VEVENT
DTSTART;TZID=Europe/Madrid:20250901T150000
DTEND;TZID=Europe/Madrid:20250901T183000
DTSTAMP:20260421T062111
CREATED:20250828T073947Z
LAST-MODIFIED:20250902T063833Z
UID:12259-1756738800-1756751400@linagalvez.eu
SUMMARY:Reunión de la Comisión de Derechos de las Mujeres e Igualdad de Género (FEMM)
DESCRIPTION:En su calidad de presidenta de la Comisión de Derechos de las Mujeres e Igualdad de Género (FEMM)\, Lina Gálvez presidirá la sesión en la que se abordarán\, entre otros temas\, dos informes clave de los que es rapporteur: \n\nPresupuesto general de la Unión Europea para el ejercicio 2026 (FEMM/10/03194\, 2025/0210(BUD))\nDesarrollo de una nueva estrategia europea contra la pobreza (FEMM/10/02837\, 2025/2095(INI))\n\nVer en streaming aquí y aquí
URL:https://linagalvez.eu/agenda/reunion-comite-femm-2025-09/
CATEGORIES:Actualidad,Destacado,FEMM,Parlamento
ATTACH;FMTTYPE=image/jpeg:https://linagalvez.eu/wp-content/uploads/2025/01/1734010167128_20241212_EP-177604A_35A_198-scaled.jpg
END:VEVENT
BEGIN:VEVENT
DTSTART;TZID=Europe/Madrid:20250902T110000
DTEND;TZID=Europe/Madrid:20250902T123000
DTSTAMP:20260421T062111
CREATED:20250828T073947Z
LAST-MODIFIED:20250902T075259Z
UID:12310-1756810800-1756816200@linagalvez.eu
SUMMARY:Reunión de la Delegación Socialista Española (DSE)
DESCRIPTION:Lina Gálvez participará en la reunión de la Delegación Socialista Española\, en calidad de secretaria general adjunta\, para debatir y coordinar estrategias políticas.
URL:https://linagalvez.eu/agenda/sd-reunion-delegacion-socialista-espanola-dse-25-09/
CATEGORIES:Actualidad,Parlamento,S&D
ATTACH;FMTTYPE=image/jpeg:https://linagalvez.eu/wp-content/uploads/2024/07/GP-Socialista-X-Legislatura.jpeg
END:VEVENT
BEGIN:VEVENT
DTSTART;TZID=Europe/Madrid:20250902T123000
DTEND;TZID=Europe/Madrid:20250902T130000
DTSTAMP:20260421T062111
CREATED:20250828T072809Z
LAST-MODIFIED:20250902T064335Z
UID:12285-1756816200-1756818000@linagalvez.eu
SUMMARY:Inauguración de la exposición “Endelea\, The life of Teresa”
DESCRIPTION:Lina Gálvez asistirá a la inauguración de la exposición “La Vida de Teresa”\, organizada por la presidenta del Grupo S&D\, Iratxe García. La muestra rinde homenaje a Teresa Rodríguez\, joven enfermera vallisoletana asesinada en Bruselas en 2023\, y busca preservar su memoria\, visibilizar la violencia de género que persiste en nuestras sociedades y reivindicar la necesidad de avanzar en políticas de prevención\, justicia y apoyo a las víctimas y sus familias. \nMás info aquí
URL:https://linagalvez.eu/agenda/inauguracion-exposicion-endelea-life-teresa/
CATEGORIES:Actualidad,FEMM
ATTACH;FMTTYPE=image/jpeg:https://linagalvez.eu/wp-content/uploads/Endelea-the-life-of-Teresa-16-9.jpg
END:VEVENT
BEGIN:VEVENT
DTSTART;TZID=Europe/Madrid:20250903T200000
DTEND;TZID=Europe/Madrid:20250903T213000
DTSTAMP:20260421T062111
CREATED:20250828T200903Z
LAST-MODIFIED:20250902T064725Z
UID:12272-1756929600-1756935000@linagalvez.eu
SUMMARY:Encuentro de “MEPs por los Derechos Sexuales y Reproductivos"
DESCRIPTION:Lina Gálvez participará en este encuentro de trabajo del grupo de eurodiputadas y eurodiputados por los derechos sexuales y reproductivos (SRR)\, orientado a evaluar logros\, renovar el liderazgo del grupo y planificar las prioridades para el nuevo curso político.
URL:https://linagalvez.eu/agenda/encuentro-red-meps-derechos-sexuales-reproductivos-25-09/
CATEGORIES:Actualidad,Destacado,FEMM,Parlamento,S&D
ATTACH;FMTTYPE=image/jpeg:https://linagalvez.eu/wp-content/uploads/MEPs-for-Sexual-and-Reproductive-Rights.jpg
END:VEVENT
BEGIN:VEVENT
DTSTART;TZID=Europe/Madrid:20250908T170000
DTEND;TZID=Europe/Madrid:20250911T140000
DTSTAMP:20260421T062111
CREATED:20250902T154450Z
LAST-MODIFIED:20250908T101211Z
UID:12320-1757350800-1757599200@linagalvez.eu
SUMMARY:Pleno del Parlamento Europeo. Estrasburgo
DESCRIPTION:Destacados del pleno. Estrasburgo \n\nMiércoles 10 de septiembre de 2025 \nDebate sobre el Estado de la Unión Europea \nPresentación y debate de la posición del Consejo Europeo sobre el proyecto de presupuesto general \n\nSe podrán seguir las sesiones en el siguiente enlace AQUÍ
URL:https://linagalvez.eu/agenda/pleno-parlamento-europeo-estrasburgo-2025-09/
CATEGORIES:Actualidad,Parlamento
ATTACH;FMTTYPE=image/jpeg:https://linagalvez.eu/wp-content/uploads/2020/03/European_Parliament_Strasbourg_Hemicycle_-_Diliff-2-scaled.jpg
END:VEVENT
BEGIN:VEVENT
DTSTART;TZID=Europe/Madrid:20250909T090000
DTEND;TZID=Europe/Madrid:20250909T100000
DTSTAMP:20260421T062111
CREATED:20250905T073947Z
LAST-MODIFIED:20250908T145225Z
UID:12328-1757408400-1757412000@linagalvez.eu
SUMMARY:S&D FEMM Working Group meeting
DESCRIPTION:Lina Gálvez presidirá y participará en la reunión de trabajo del grupo S&D Socialistas y Demócratas de la Comisión de Derechos de la Mujer e Igualdad de Género (FEMM).
URL:https://linagalvez.eu/agenda/sd-femm-working-group-meeting-2509/
CATEGORIES:Actualidad,FEMM,Parlamento,S&D
ATTACH;FMTTYPE=image/png:https://linagalvez.eu/wp-content/uploads/2023/01/femm_logo.png
END:VEVENT
BEGIN:VEVENT
DTSTART;TZID=Europe/Madrid:20250909T100000
DTEND;TZID=Europe/Madrid:20250909T110000
DTSTAMP:20260421T062111
CREATED:20250905T092200Z
LAST-MODIFIED:20250908T071930Z
UID:12330-1757412000-1757415600@linagalvez.eu
SUMMARY:Reunión de Committee Chairs de S&D
DESCRIPTION:Lina Gálvez participará\, como presidenta del Comité de Derechos de las Mujeres e Igualdad de Género (FEMM)\, en la reunión de Presidentas y Presidentes de las Comisiones del Grupo de Socialistas y Demócratas del Parlamento Europeo.
URL:https://linagalvez.eu/agenda/sd-committee-chairs-2509/
CATEGORIES:Actualidad,FEMM,Parlamento,S&D
ATTACH;FMTTYPE=image/png:https://linagalvez.eu/wp-content/uploads/2020/05/digital-europe.png
END:VEVENT
BEGIN:VEVENT
DTSTART;TZID=Europe/Madrid:20250909T123000
DTEND;TZID=Europe/Madrid:20250909T130000
DTSTAMP:20260421T062111
CREATED:20250905T091254Z
LAST-MODIFIED:20250909T104334Z
UID:12322-1757421000-1757422800@linagalvez.eu
SUMMARY:Votación plenario Parlamento
DESCRIPTION:
URL:https://linagalvez.eu/agenda/votacion-plenario-parlamento-25-09/
CATEGORIES:Actualidad,Parlamento
ATTACH;FMTTYPE=image/jpeg:https://linagalvez.eu/wp-content/uploads/2024/12/Votacion-Estrasburgo-16-9.jpeg
END:VEVENT
BEGIN:VEVENT
DTSTART;TZID=Europe/Madrid:20250909T130000
DTEND;TZID=Europe/Madrid:20250909T140000
DTSTAMP:20260421T062111
CREATED:20250905T073947Z
LAST-MODIFIED:20250908T073016Z
UID:12339-1757422800-1757426400@linagalvez.eu
SUMMARY:Reunión de la Delegación Socialista Española (DSE)
DESCRIPTION:Lina Gálvez participará en la reunión de la Delegación Socialista Española\, en calidad de secretaria general adjunta\, para debatir y coordinar estrategias políticas.
URL:https://linagalvez.eu/agenda/sd-reunion-delegacion-socialista-espanola-dse-25-09-2/
CATEGORIES:Actualidad,Parlamento,S&D
ATTACH;FMTTYPE=image/jpeg:https://linagalvez.eu/wp-content/uploads/DSE-Delegacion-Socialista-Espanola-10legislatura-en-PE.jpeg
END:VEVENT
BEGIN:VEVENT
DTSTART;TZID=Europe/Madrid:20250909T150000
DTEND;TZID=Europe/Madrid:20250909T170000
DTSTAMP:20260421T062111
CREATED:20250904T131425Z
LAST-MODIFIED:20250908T073206Z
UID:12341-1757430000-1757437200@linagalvez.eu
SUMMARY:Conference of Committee Chairs - CCC
DESCRIPTION:Conference of Committee Chairs (CCC) \nLina Gálvez participará\, como presidenta del Comité de Derechos de las Mujeres e Igualdad de Género (FEMM)\, en la reunión de Presidentas y Presidentes de las Comisiones del Parlamento Europeo.
URL:https://linagalvez.eu/agenda/conference-committee-chairs-ccc-2509/
CATEGORIES:Actualidad,FEMM,Parlamento
ATTACH;FMTTYPE=image/jpeg:https://linagalvez.eu/wp-content/uploads/2024/09/1726593435288_20240917_EP-172216A_EGZ_0333-Enhanced-NR_MOBILE.jpg
END:VEVENT
BEGIN:VEVENT
DTSTART;TZID=Europe/Madrid:20250910T120000
DTEND;TZID=Europe/Madrid:20250910T123000
DTSTAMP:20260421T062111
CREATED:20250905T091254Z
LAST-MODIFIED:20250908T071136Z
UID:12324-1757505600-1757507400@linagalvez.eu
SUMMARY:Votación plenario Parlamento
DESCRIPTION:
URL:https://linagalvez.eu/agenda/votacion-plenario-parlamento-25-09-2/
CATEGORIES:Actualidad,Parlamento
ATTACH;FMTTYPE=image/png:https://linagalvez.eu/wp-content/uploads/2024/09/Captura-de-pantalla-2024-09-02-153140.png
END:VEVENT
BEGIN:VEVENT
DTSTART;TZID=Europe/Madrid:20250910T130000
DTEND;TZID=Europe/Madrid:20250910T140000
DTSTAMP:20260421T062111
CREATED:20250905T083223Z
LAST-MODIFIED:20250908T084049Z
UID:12358-1757509200-1757512800@linagalvez.eu
SUMMARY:Debate del Kangaroo Group sobre "Mejora de la seguridad contra incendios en hogares de la UE"
DESCRIPTION:Debate del Kangaroo Group: “Mejora de la seguridad contra incendios en hogares de la UE – beneficios de los retardantes de llama bromados”.\nAnálisis y discusión sobre las ventajas de los retardantes de llama bromados para la seguridad en viviendas europeas.
URL:https://linagalvez.eu/agenda/debate-kangaroo-group-mejora-seguridad-incendios-hogares-ue/
CATEGORIES:Actualidad,Destacado
ATTACH;FMTTYPE=image/jpeg:https://linagalvez.eu/wp-content/uploads/kangaroo-group-16-9.jpg
END:VEVENT
BEGIN:VEVENT
DTSTART;TZID=Europe/Madrid:20250910T134500
DTEND;TZID=Europe/Madrid:20250910T140000
DTSTAMP:20260421T062111
CREATED:20250909T100716Z
LAST-MODIFIED:20250909T161955Z
UID:12385-1757511900-1757512800@linagalvez.eu
SUMMARY:Intervención en Pleno en el debate sobre migración masiva y protección de mujeres y menores
DESCRIPTION:13:45 Intervención en Pleno de Estrasburgo \nLina Gálvez tendrá la palabra en en el Pleno del Parlamento en el debate ‘Transcurridos diez años\, es hora de poner fin a la migración masiva: protejamos a nuestras mujeres y nuestros niños’. \nSe puede seguir la intervención en el siguiente enlace: AQUÍ
URL:https://linagalvez.eu/agenda/intervencion-pleno-migracion-masiva-proteccion-mujeres-menores/
CATEGORIES:Actualidad,FEMM,Parlamento
ATTACH;FMTTYPE=image/webp:https://linagalvez.eu/wp-content/uploads/LGM-Pleno-Skills-202503112.webp
END:VEVENT
BEGIN:VEVENT
DTSTART;TZID=Europe/Madrid:20250910T150000
DTEND;TZID=Europe/Madrid:20250910T151500
DTSTAMP:20260421T062111
CREATED:20250909T101816Z
LAST-MODIFIED:20250909T161739Z
UID:12387-1757516400-1757517300@linagalvez.eu
SUMMARY:Intervención en Pleno en el debate sobre acuerdos comerciales de UE con EEUU y otros más amplios
DESCRIPTION:15:00 Intervención en Pleno de Estrasburgo \nLina Gálvez tomará la palabra en en el Pleno del Parlamento en el debate ‘Aplicación del acuerdo comercial UE – EEUU y perspectivas de acuerdos comerciales de la Unión más amplios. Declaraciones del Consejo y de la Comisión (RSP)’. \nSe puede seguir la intervención en el siguiente enlace: AQUÍ
URL:https://linagalvez.eu/agenda/intervencion-pleno-acuerdos-comerciales-ue-eeuu-otros/
CATEGORIES:Actualidad,D-US,INTA,Parlamento
ATTACH;FMTTYPE=image/jpeg:https://linagalvez.eu/wp-content/uploads/LGM_EP-184318G_LD1_PB_062-1024x683-1.jpg
END:VEVENT
BEGIN:VEVENT
DTSTART;TZID=Europe/Madrid:20250911T120000
DTEND;TZID=Europe/Madrid:20250911T123000
DTSTAMP:20260421T062111
CREATED:20250905T091254Z
LAST-MODIFIED:20250908T071254Z
UID:12326-1757592000-1757593800@linagalvez.eu
SUMMARY:Votación plenario Parlamento
DESCRIPTION:
URL:https://linagalvez.eu/agenda/votacion-plenario-parlamento-25-09-3/
CATEGORIES:Actualidad,Parlamento
ATTACH;FMTTYPE=image/jpeg:https://linagalvez.eu/wp-content/uploads/2021/02/hemicycle_str.jpg
END:VEVENT
BEGIN:VEVENT
DTSTART;TZID=Europe/Madrid:20250917T111500
DTEND;TZID=Europe/Madrid:20250917T123000
DTSTAMP:20260421T062111
CREATED:20250912T073947Z
LAST-MODIFIED:20250915T120606Z
UID:12422-1758107700-1758112200@linagalvez.eu
SUMMARY:Reunión de trabajo de la DSE.
DESCRIPTION:Lina Gálvez asistirá a la reunión de la Delegación Socialista Española para debatir y coordinar estrategias sobre temas clave de la agenda política.
URL:https://linagalvez.eu/agenda/sd-reunion-delegacion-socialista-espanola-dse-25-09-3/
CATEGORIES:Actualidad,Parlamento,S&D
ATTACH;FMTTYPE=image/jpeg:https://linagalvez.eu/wp-content/uploads/2024/07/GP-Socialista-X-Legislatura.jpeg
END:VEVENT
BEGIN:VEVENT
DTSTART;TZID=Europe/Madrid:20250923T093000
DTEND;TZID=Europe/Madrid:20250923T130000
DTSTAMP:20260421T062111
CREATED:20250919T073947Z
LAST-MODIFIED:20250922T120005Z
UID:12483-1758619800-1758632400@linagalvez.eu
SUMMARY:Reunión del Comité FEMM - Avanzando hacia una sociedad de cuidados: abordando la brecha de género en el cuidado.
DESCRIPTION:Lina Gálvez presidirá la sesión de la Comisión de Derechos de las Mujeres e Igualdad de Género (FEMM)\, en la que se debatirán temas legislativos y estratégicos relacionados con la igualdad en la UE. \nVer en streaming aquí
URL:https://linagalvez.eu/agenda/reunion-comite-femm-2025-09-3/
CATEGORIES:Actualidad,FEMM,Parlamento
ATTACH;FMTTYPE=image/png:https://linagalvez.eu/wp-content/uploads/2023/01/femm_logo.png
END:VEVENT
BEGIN:VEVENT
DTSTART;TZID=Europe/Madrid:20250923T143000
DTEND;TZID=Europe/Madrid:20250923T183000
DTSTAMP:20260421T062111
CREATED:20250919T073947Z
LAST-MODIFIED:20251003T123228Z
UID:12484-1758637800-1758652200@linagalvez.eu
SUMMARY:Reunión del Comité FEMM - Importancia de una legislación sobre violación basada en el consentimiento en la UE
DESCRIPTION:Continúa la jornada de trabajo de la Comisión FEMM bajo la presidencia de Lina Gálvez. \nReunión conjunta con el Comité de Libertades Civiles\, Justicia y Asuntos de Interior (LIBE) \nSe debatirán estos dos informes en los que Lina es rapporteur:\n• Recomendación al consejo sobre las prioridades de la UE para la 70ª sesión de la Comisión de la ONU para la Condición Jurídica y Social de la Mujer\n• Ayuda humanitaria en tiempos de policrisis – reafirmando nuestros principios para una respuesta más efectiva y ambiciosa a las crisis humanitarias \nVer en streaming aquí
URL:https://linagalvez.eu/agenda/reunion-comite-femm-2025-09-4/
CATEGORIES:Actualidad,Destacado,FEMM,Parlamento
ATTACH;FMTTYPE=image/jpeg:https://linagalvez.eu/wp-content/uploads/2025/01/1733319067420_20241204_EP-176461A_AR2_025_R-scaled.jpg
END:VEVENT
BEGIN:VEVENT
DTSTART;TZID=Europe/Madrid:20250924T123000
DTEND;TZID=Europe/Madrid:20250924T143000
DTSTAMP:20260421T062111
CREATED:20250919T063247Z
LAST-MODIFIED:20251008T123831Z
UID:12474-1758717000-1758724200@linagalvez.eu
SUMMARY:Presentación del libro "Mujeres en la sombra de la construcción europea" de Júlia Manresa
DESCRIPTION:La Fundación Catalunya Europa presenta el libro Las mujeres en la sombra de la construcción europea\, de la periodista Júlia Manresa\, en la Biblioteca del Parlamento Europeo\, en Bruselas. El acto contará con la participación de la propia autora y de Lina Gálvez\, eurodiputada y presidenta de la Comisión de Derechos de las Mujeres e Igualdad de Género del Parlamento Europeo. En la presentación también participará Airy Maragall\, presidenta de la Fundación Catalunya Europa – Legado Pasqual Maragall. \nEl libro es el resultado del trabajo de fin de máster de Manresa\, galardonado con el Premio Legado Pasqual Maragall 2023. La obra pone el foco en el papel fundamental —y a menudo invisibilizado— de diversas mujeres en la construcción del proyecto europeo\, desde una mirada crítica y feminista que reivindica una memoria más justa e inclusiva de la Unión. \nMás información aquí \nNoticia sobre el evento celebrado aquí \nFuente de la imagen: evento anunciado en el que participa Lina Gálvez. En esta web se realiza un uso justo y no comercial de la imagen para la difusión del evento.
URL:https://linagalvez.eu/agenda/presentacion-libro-mujeres-sombra-construccion-europea-julia-manresa/
CATEGORIES:Actualidad,Destacado,FEPS,Parlamento
ATTACH;FMTTYPE=image/png:https://linagalvez.eu/wp-content/uploads/a8e29-ju-lia-manresa.png
END:VEVENT
BEGIN:VEVENT
DTSTART;TZID=Europe/Madrid:20250930T143000
DTEND;TZID=Europe/Madrid:20250930T160000
DTSTAMP:20260421T062111
CREATED:20250926T092200Z
LAST-MODIFIED:20250929T122117Z
UID:12524-1759242600-1759248000@linagalvez.eu
SUMMARY:Grupo de trabajo Horizontal: Nueva estrategia Europea para la Igualdad de Género
DESCRIPTION:Lina Gávez la Reunion del grupo de trabajo Horizontal C: Nueva estrategia Europea para la Igualdad de Género en la que participarán Marija Lugarić\, Presidenta de la Comisión de derechos de las mujeres e igualdad de género del Parlamento Croata y Marija Trcol\, Pariter – ONG Feminista de Rijeka.
URL:https://linagalvez.eu/agenda/sd-horizontal-working-groups-2506-croacia/
CATEGORIES:Actualidad,FEMM,Parlamento,S&D
ATTACH;FMTTYPE=image/png:https://linagalvez.eu/wp-content/uploads/2020/05/digital-europe.png
END:VEVENT
END:VCALENDAR