BEGIN:VCALENDAR
VERSION:2.0
PRODID:-//Lina Gálvez - ECPv6.15.20//NONSGML v1.0//EN
CALSCALE:GREGORIAN
METHOD:PUBLISH
X-ORIGINAL-URL:https://linagalvez.eu
X-WR-CALDESC:Eventos para Lina Gálvez
REFRESH-INTERVAL;VALUE=DURATION:PT1H
X-Robots-Tag:noindex
X-PUBLISHED-TTL:PT1H
BEGIN:VTIMEZONE
TZID:Europe/Madrid
BEGIN:DAYLIGHT
TZOFFSETFROM:+0100
TZOFFSETTO:+0200
TZNAME:CEST
DTSTART:20250330T010000
END:DAYLIGHT
BEGIN:STANDARD
TZOFFSETFROM:+0200
TZOFFSETTO:+0100
TZNAME:CET
DTSTART:20251026T010000
END:STANDARD
BEGIN:DAYLIGHT
TZOFFSETFROM:+0100
TZOFFSETTO:+0200
TZNAME:CEST
DTSTART:20260329T010000
END:DAYLIGHT
BEGIN:STANDARD
TZOFFSETFROM:+0200
TZOFFSETTO:+0100
TZNAME:CET
DTSTART:20261025T010000
END:STANDARD
BEGIN:DAYLIGHT
TZOFFSETFROM:+0100
TZOFFSETTO:+0200
TZNAME:CEST
DTSTART:20270328T010000
END:DAYLIGHT
BEGIN:STANDARD
TZOFFSETFROM:+0200
TZOFFSETTO:+0100
TZNAME:CET
DTSTART:20271031T010000
END:STANDARD
END:VTIMEZONE
BEGIN:VEVENT
DTSTART;TZID=Europe/Madrid:20260114T183000
DTEND;TZID=Europe/Madrid:20260114T203000
DTSTAMP:20260420T063849
CREATED:20260107T102540Z
LAST-MODIFIED:20260113T100150Z
UID:13263-1768415400-1768422600@linagalvez.eu
SUMMARY:Recepción de nuevo año del Consejo Europeo y la Comisión Europea
DESCRIPTION:La Eurodiputada Lina Gálvez asistirá a la recepción de nuevo año\, invitada por António Costa (Presidente del Consejo Europeo) y Ursula von der Leyen (Presidenta de la Comisión Europea).
URL:https://linagalvez.eu/agenda/recepcion-nuevo-ano-consejo-y-comision-europea-2026/
CATEGORIES:Actualidad,Parlamento
ATTACH;FMTTYPE=image/jpeg:https://linagalvez.eu/wp-content/uploads/2024/10/EU-Enlargement-package-scaled-1.jpg
END:VEVENT
BEGIN:VEVENT
DTSTART;TZID=Europe/Madrid:20260119T170000
DTEND;TZID=Europe/Madrid:20260122T140000
DTSTAMP:20260420T063849
CREATED:20260116T094450Z
LAST-MODIFIED:20260120T130548Z
UID:13300-1768842000-1769090400@linagalvez.eu
SUMMARY:Pleno del Parlamento Europeo. Estrasburgo
DESCRIPTION:Destacados del pleno. Estrasburgo \n\nLunes 19 de enero de 2026 \nAyuda humanitaria en tiempos de policrisis: reafirmar nuestros principios para una respuesta más eficaz y ambiciosa a las crisis humanitarias \n\nMartes 20 de enero de 2026 \nDebate sobre deepfakes e IA: lucha contra la explotación sexual en redes sociales \nDerechos Humanos: la represión contra manifestantes en Irán \n\nMiércoles 21 de enero de 2026 \nDebate Intervención sobre una Europa más fuerte y soberana ante las tensiones geopolíticas actuales \n\nSe podrán seguir las sesiones en el siguiente enlace AQUÍ
URL:https://linagalvez.eu/agenda/pleno-parlamento-europeo-estrasburgo-2026-01/
CATEGORIES:Actualidad,Parlamento
ATTACH;FMTTYPE=image/jpeg:https://linagalvez.eu/wp-content/uploads/2020/03/European_Parliament_Strasbourg_Hemicycle_-_Diliff-2-scaled.jpg
END:VEVENT
BEGIN:VEVENT
DTSTART;TZID=Europe/Madrid:20260120T090000
DTEND;TZID=Europe/Madrid:20260120T094500
DTSTAMP:20260420T063849
CREATED:20260116T083947Z
LAST-MODIFIED:20260120T093943Z
UID:13308-1768899600-1768902300@linagalvez.eu
SUMMARY:S&D FEMM Working Group meeting
DESCRIPTION:Lina Gálvez participará en la reunión de trabajo del grupo S&D Socialistas y Demócratas de la Comisión de Derechos de la Mujer e Igualdad de Género (FEMM).
URL:https://linagalvez.eu/agenda/sd-femm-working-group-meeting-2026-01/
CATEGORIES:Actualidad,FEMM,Parlamento,S&D
ATTACH;FMTTYPE=image/png:https://linagalvez.eu/wp-content/uploads/2023/01/femm_logo.png
END:VEVENT
BEGIN:VEVENT
DTSTART;TZID=Europe/Madrid:20260120T094500
DTEND;TZID=Europe/Madrid:20260120T100000
DTSTAMP:20260420T063849
CREATED:20260116T111816Z
LAST-MODIFIED:20260120T102211Z
UID:13321-1768902300-1768903200@linagalvez.eu
SUMMARY:Debate sobre deepfakes e IA: lucha contra la explotación sexual en redes sociales
DESCRIPTION:La eurodiputada Lina Gálvez intervendrá en el debate ‘Deepfakes e IA: sobre la lucha contra la explotación sexual en redes sociales y el uso de las reglas digitales de la UE para proteger a mujeres y menores’\, en el plenario del Parlamento Europeo en Estrasburgo. \nSe puede seguir la intervención en el siguiente enlace: AQUÍ
URL:https://linagalvez.eu/agenda/debate-deepfakes-ia-lucha-explotacion-sexual-redes-sociales-2026/
CATEGORIES:Actualidad,FEMM,ITRE,Parlamento
ATTACH;FMTTYPE=image/jpeg:https://linagalvez.eu/wp-content/uploads/LGM_EP-184318G_LD1_PB_062-1024x683-1.jpg
END:VEVENT
BEGIN:VEVENT
DTSTART;TZID=Europe/Madrid:20260120T110000
DTEND;TZID=Europe/Madrid:20260120T120000
DTSTAMP:20260420T063850
CREATED:20260116T094153Z
LAST-MODIFIED:20260120T103654Z
UID:13323-1768906800-1768910400@linagalvez.eu
SUMMARY:Liderazgo Digital Europeo: Audiencia sobre el Fondo de Competitividad Europea
DESCRIPTION:Reunión del grupo de trabajo digital del Grupo de Socialistas y Demócratas de ITRE. Liderazgo Digital Europeo: Audiencia sobre el Fondo de Competitividad Europea con Roberto Viola\, Director General de la DG CONNECT (Dirección General de Comunicación\, Redes\, Contenidos y Tecnologías) de la Comisión Europea. \nFuente de la imagen: Parlamento Europeo. En esta web se realiza un uso justo y no comercial de la imagen para la difusión del evento.
URL:https://linagalvez.eu/agenda/liderazgo-digital-europeo-audiencia-fondo-competitividad-europea-2026-01/
CATEGORIES:Actualidad,Destacado,ITRE,Parlamento,S&D
ATTACH;FMTTYPE=image/jpeg:https://linagalvez.eu/wp-content/uploads/20250707PHT29482-ml-Recurso-chip-UE-destacados-ITRE.jpeg
END:VEVENT
BEGIN:VEVENT
DTSTART;TZID=Europe/Madrid:20260120T120000
DTEND;TZID=Europe/Madrid:20260120T123000
DTSTAMP:20260420T063850
CREATED:20260116T101254Z
LAST-MODIFIED:20260120T094422Z
UID:13312-1768910400-1768912200@linagalvez.eu
SUMMARY:Votación plenario Parlamento
DESCRIPTION:
URL:https://linagalvez.eu/agenda/votacion-plenario-parlamento-2026-01/
CATEGORIES:Actualidad,Parlamento
ATTACH;FMTTYPE=image/jpeg:https://linagalvez.eu/wp-content/uploads/Votando-Parlamento-Estrasburgo.jpg
END:VEVENT
BEGIN:VEVENT
DTSTART;TZID=Europe/Madrid:20260120T150000
DTEND;TZID=Europe/Madrid:20260120T161500
DTSTAMP:20260420T063850
CREATED:20260116T141425Z
LAST-MODIFIED:20260120T094154Z
UID:13310-1768921200-1768925700@linagalvez.eu
SUMMARY:Conference of Committee Chairs - CCC
DESCRIPTION:Conference of Committee Chairs (CCC) \nLina Gálvez participará\, como presidenta del Comité de Derechos de las Mujeres e Igualdad de Género (FEMM)\, en la reunión de Presidentas y Presidentes de las Comisiones del Parlamento Europeo.
URL:https://linagalvez.eu/agenda/conference-committee-chairs-ccc-2026-01/
CATEGORIES:Actualidad,FEMM,Parlamento
ATTACH;FMTTYPE=image/jpeg:https://linagalvez.eu/wp-content/uploads/2024/09/1726593435288_20240917_EP-172216A_EGZ_0333-Enhanced-NR_MOBILE.jpg
END:VEVENT
BEGIN:VEVENT
DTSTART;TZID=Europe/Madrid:20260120T163000
DTEND;TZID=Europe/Madrid:20260120T173000
DTSTAMP:20260420T063850
CREATED:20260116T175516Z
LAST-MODIFIED:20260120T113852Z
UID:13332-1768926600-1768930200@linagalvez.eu
SUMMARY:Intervención en Pleno: Derechos Humanos: la represión contra manifestantes en Irán
DESCRIPTION:Intervención en Pleno de Estrasburgo \nLina Gálvez tendrá la palabra en en el Pleno del Parlamento en el debate ‘Derechos Humanos: la represión contra manifestantes en Irán‘. \nVer en streaming aquí
URL:https://linagalvez.eu/agenda/intervencion-pleno-derechos-humanos-represion-manifestantes-iran/
CATEGORIES:Actualidad,FEMM,Parlamento
ATTACH;FMTTYPE=image/jpeg:https://linagalvez.eu/wp-content/uploads/2024/11/2024-11-26_MEP-2.jpg
END:VEVENT
BEGIN:VEVENT
DTSTART;TZID=Europe/Madrid:20260121T090000
DTEND;TZID=Europe/Madrid:20260121T120000
DTSTAMP:20260420T063850
CREATED:20260116T111816Z
LAST-MODIFIED:20260120T125926Z
UID:13346-1768986000-1768996800@linagalvez.eu
SUMMARY:Debate Intervención sobre una Europa más fuerte y soberana ante las tensiones geopolíticas actuales
DESCRIPTION:La eurodiputada Lina Gálvez tomará la palabra en el debate ‘El Consejo Europeo: Intervención sobre una Europa más fuerte y soberana ante las tensiones geopolíticas actuales’\, en el plenario del Parlamento Europeo en Estrasburgo. \nVer en streaming aquí
URL:https://linagalvez.eu/agenda/debate-intervencion-europa-fuerte-soberana-tensiones-geopoliticas-actuales-2026/
CATEGORIES:Actualidad,FEMM,ITRE,Parlamento
ATTACH;FMTTYPE=image/jpeg:https://linagalvez.eu/wp-content/uploads/2023/12/LGM.jpg
END:VEVENT
BEGIN:VEVENT
DTSTART;TZID=Europe/Madrid:20260121T100000
DTEND;TZID=Europe/Madrid:20260121T103000
DTSTAMP:20260420T063850
CREATED:20260116T083947Z
LAST-MODIFIED:20260120T124900Z
UID:13344-1768989600-1768991400@linagalvez.eu
SUMMARY:Reunión con el ministro de Investigación de Irlanda (IE)
DESCRIPTION:Lina Gálvez se reunirá con James Lawless\, ministro de Investigación (Minister for Further & Higher Education\, Research\, Innovation & Science) del gobierno de la República de Irlanda (IE).
URL:https://linagalvez.eu/agenda/reunion-ministro-investigacion-irlanda-ie-2026-01/
CATEGORIES:Actualidad,ITRE,Parlamento
ATTACH;FMTTYPE=image/jpeg:https://linagalvez.eu/wp-content/uploads/15652694953_e902ea5c26_o.jpg
END:VEVENT
BEGIN:VEVENT
DTSTART;TZID=Europe/Madrid:20260121T123000
DTEND;TZID=Europe/Madrid:20260121T133000
DTSTAMP:20260420T063850
CREATED:20260116T101254Z
LAST-MODIFIED:20260120T094531Z
UID:13314-1768998600-1769002200@linagalvez.eu
SUMMARY:Votación plenario Parlamento
DESCRIPTION:
URL:https://linagalvez.eu/agenda/votacion-plenario-parlamento-2026-01-2/
CATEGORIES:Actualidad,Parlamento
ATTACH;FMTTYPE=image/png:https://linagalvez.eu/wp-content/uploads/2024/09/Captura-de-pantalla-2024-09-02-153140.png
END:VEVENT
BEGIN:VEVENT
DTSTART;TZID=Europe/Madrid:20260126T150000
DTEND;TZID=Europe/Madrid:20260126T170000
DTSTAMP:20260420T063850
CREATED:20260123T083947Z
LAST-MODIFIED:20260126T094148Z
UID:13381-1769439600-1769446800@linagalvez.eu
SUMMARY:Reunión FEMM sobre prioridades de la Presidencia chipriota y agenda 2026 de EIGE
DESCRIPTION:Lina Gálvez presidirá la reunión de la Comisión de Derechos de las Mujeres e Igualdad de Género (FEMM)\, donde se presentarán las prioridades de la Presidencia chipriota del Consejo Europeo y el programa de trabajo para 2026 del Instituto Europeo de la Igualdad de Género (EIGE\, por sus siglas en inglés). \nVer en streaming aquí
URL:https://linagalvez.eu/agenda/reunion-comite-femm-2026-01/
CATEGORIES:Actualidad,Destacado,FEMM,Parlamento
ATTACH;FMTTYPE=image/jpeg:https://linagalvez.eu/wp-content/uploads/2025/01/1733319039584_20241204_EP-176461A_AR2_018-scaled.jpg
END:VEVENT
BEGIN:VEVENT
DTSTART;TZID=Europe/Madrid:20260127T130000
DTEND;TZID=Europe/Madrid:20260127T133000
DTSTAMP:20260420T063850
CREATED:20260123T131407Z
LAST-MODIFIED:20260127T091650Z
UID:13418-1769518800-1769520600@linagalvez.eu
SUMMARY:Reunión con Lana Nusseibeh\, ministra de Emiratos Árabes Unidos
DESCRIPTION:La eurodiputada Lina Gálvez se reunirá con S.E. Lana Zaki Nusseibeh\, ministra de Estado para Europa y enviada especial de los Emiratos Árabes Unidos ante la Unión Europea.
URL:https://linagalvez.eu/agenda/reunion-lana-nusseibeh-ministra-emiratos-arabes-unidos/
CATEGORIES:Actualidad,FEMM,Parlamento
ATTACH;FMTTYPE=image/jpeg:https://linagalvez.eu/wp-content/uploads/53595298976_9758b85d6b_k.jpg
END:VEVENT
BEGIN:VEVENT
DTSTART;TZID=Europe/Madrid:20260127T143000
DTEND;TZID=Europe/Madrid:20260127T150000
DTSTAMP:20260420T063850
CREATED:20260123T100624Z
LAST-MODIFIED:20260127T102937Z
UID:13427-1769524200-1769526000@linagalvez.eu
SUMMARY:Debate con el comisario Serafin: marco de seguimiento del gasto presupuestario y del rendimiento en la UE
DESCRIPTION:Lina Gálvez asistirá para aportar la opinión de la Comisión FEMM a la propuesta sobre el «Establecimiento de un marco de seguimiento del gasto presupuestario y del rendimiento\, así como otras normas horizontales para los programas y actividades de la Unión». \nLa propuesta será presentada por Piotr Serafin\, Comisario europeo de Presupuesto\, Lucha contra el Fraude y Administración Pública\, en una reunión conjunta de los comités BUDG (Presupuestos) y CONT (Control Presupuestario) del Parlamento Europeo. \nEsta propuesta fue presentada por la Comisión el 16 de julio de 2025 y forma parte del Marco Financiero Plurianual (Multiannual Financial Framework\, MFF) para 2028-2034. Su objetivo es establecer un marco único y unificado de la UE para el seguimiento del gasto presupuestario de la unión y evaluar el rendimiento del presupuesto a largo plazo con un enfoque basado en los resultados. \nMás información (en inglés) aquí \nVer en streaming aquí \nFuente de la imagen: evento anunciado en el que participa Lina Gálvez. En esta web se realiza un uso justo y no comercial de la imagen para la difusión del evento.
URL:https://linagalvez.eu/agenda/debate-comisario-serafin-marco-presupuestario-rendimiento/
ATTACH;FMTTYPE=image/jpeg:https://linagalvez.eu/wp-content/uploads/brecha-salarial-genero-ckl-1.jpg
END:VEVENT
BEGIN:VEVENT
DTSTART;TZID=Europe/Madrid:20260127T143000
DTEND;TZID=Europe/Madrid:20260127T170000
DTSTAMP:20260420T063850
CREATED:20260123T083947Z
LAST-MODIFIED:20260126T101245Z
UID:13389-1769524200-1769533200@linagalvez.eu
SUMMARY:Reunión del Comité FEMM
DESCRIPTION:Lina Gálvez presidirá la sesión de la Comisión de Derechos de las Mujeres e Igualdad de Género (FEMM)\, en la que se debatirán temas legislativos y estratégicos relacionados con la igualdad en la UE. \nVer en streaming aquí
URL:https://linagalvez.eu/agenda/reunion-comite-femm-2026-01-3/
CATEGORIES:Actualidad,FEMM,Parlamento
ATTACH;FMTTYPE=image/png:https://linagalvez.eu/wp-content/uploads/2023/01/femm_logo.png
END:VEVENT
BEGIN:VEVENT
DTSTART;TZID=Europe/Madrid:20260127T170000
DTEND;TZID=Europe/Madrid:20260127T183000
DTSTAMP:20260420T063850
CREATED:20260123T083947Z
LAST-MODIFIED:20260126T101419Z
UID:13391-1769533200-1769538600@linagalvez.eu
SUMMARY:Reunión de coordinadoras de FEMM
DESCRIPTION:
URL:https://linagalvez.eu/agenda/reunion-coordinadoras-femm-2026-01/
CATEGORIES:Actualidad,FEMM,Parlamento
ATTACH;FMTTYPE=image/png:https://linagalvez.eu/wp-content/uploads/2023/01/femm_logo.png
END:VEVENT
BEGIN:VEVENT
DTSTART;TZID=Europe/Madrid:20260129T090000
DTEND;TZID=Europe/Madrid:20260129T103000
DTSTAMP:20260420T063850
CREATED:20260123T094153Z
LAST-MODIFIED:20260126T115310Z
UID:13398-1769677200-1769682600@linagalvez.eu
SUMMARY:Reunión de la Comisión ITRE: Audiencia pública sobre ciberdefensa y ciberseguridad
DESCRIPTION:Lina Gálvez participará en la reunión de la Comisión de Industria\, Investigación y Energía (ITRE)\, en la que se realizará una Audiencia pública sobre ciberdefensa y ciberseguridad. \nVer en streaming aquí \nFuente de la imagen: Parlamento Europeo. En esta web se realiza un uso justo y no comercial de la imagen para la difusión del evento.
URL:https://linagalvez.eu/agenda/reunion-comision-industria-investigacion-energia-itre-2026-01-3/
CATEGORIES:Actualidad,ITRE,Parlamento
ATTACH;FMTTYPE=image/jpeg:https://linagalvez.eu/wp-content/uploads/20250707PHT29482-ml-Recurso-chip-UE-destacados-ITRE.jpeg
END:VEVENT
END:VCALENDAR