BEGIN:VCALENDAR
VERSION:2.0
PRODID:-//Lina Gálvez - ECPv6.15.20//NONSGML v1.0//EN
CALSCALE:GREGORIAN
METHOD:PUBLISH
X-ORIGINAL-URL:https://linagalvez.eu
X-WR-CALDESC:Eventos para Lina Gálvez
REFRESH-INTERVAL;VALUE=DURATION:PT1H
X-Robots-Tag:noindex
X-PUBLISHED-TTL:PT1H
BEGIN:VTIMEZONE
TZID:Europe/Madrid
BEGIN:DAYLIGHT
TZOFFSETFROM:+0100
TZOFFSETTO:+0200
TZNAME:CEST
DTSTART:20230326T010000
END:DAYLIGHT
BEGIN:STANDARD
TZOFFSETFROM:+0200
TZOFFSETTO:+0100
TZNAME:CET
DTSTART:20231029T010000
END:STANDARD
BEGIN:DAYLIGHT
TZOFFSETFROM:+0100
TZOFFSETTO:+0200
TZNAME:CEST
DTSTART:20240331T010000
END:DAYLIGHT
BEGIN:STANDARD
TZOFFSETFROM:+0200
TZOFFSETTO:+0100
TZNAME:CET
DTSTART:20241027T010000
END:STANDARD
BEGIN:DAYLIGHT
TZOFFSETFROM:+0100
TZOFFSETTO:+0200
TZNAME:CEST
DTSTART:20250330T010000
END:DAYLIGHT
BEGIN:STANDARD
TZOFFSETFROM:+0200
TZOFFSETTO:+0100
TZNAME:CET
DTSTART:20251026T010000
END:STANDARD
END:VTIMEZONE
BEGIN:VEVENT
DTSTART;TZID=Europe/Madrid:20241125T170000
DTEND;TZID=Europe/Madrid:20241128T183000
DTSTAMP:20260423T020509
CREATED:20241122T164450Z
LAST-MODIFIED:20241202T101451Z
UID:10218-1732554000-1732818600@linagalvez.eu
SUMMARY:Pleno del Parlamento Europeo. Estrasburgo
DESCRIPTION:Destacados del pleno. Estrasburgo \n\nLunes 25 de noviembre de 2024 \nLina Gálvez tendrá la palabra en las declaraciones del Parlamento con motivo del 25-N\, Día Internacional para la Eliminación de la Violencia contra las mujeres\, como presidenta la Comisión de Derechos de las Mujeres e Igualdad de Género (FEMM). \n\nMiércoles 27 de noviembre de 2024 \nSe votará para elegir a la Comisión Europea. \n\nSe podrán seguir las sesiones en el siguiente enlace AQUÍ
URL:https://linagalvez.eu/agenda/pleno-parlamento-europeo-estrasburgo-2411/
CATEGORIES:Actualidad,FEMM,Parlamento
ATTACH;FMTTYPE=image/jpeg:https://linagalvez.eu/wp-content/uploads/2020/03/European_Parliament_Strasbourg_Hemicycle_-_Diliff-2-scaled.jpg
END:VEVENT
BEGIN:VEVENT
DTSTART;TZID=Europe/Madrid:20241126T090000
DTEND;TZID=Europe/Madrid:20241126T094500
DTSTAMP:20260423T020509
CREATED:20241121T083947Z
LAST-MODIFIED:20241125T094009Z
UID:10236-1732611600-1732614300@linagalvez.eu
SUMMARY:S&D FEMM Working Group meeting
DESCRIPTION:Lina Gálvez asistirá la reunión de trabajo del grupo de Socialistas y Demócratas de la Comisión de Derechos de la Mujer e Igualdad de Género\, de la que es presidenta.
URL:https://linagalvez.eu/agenda/sd-femm-working-group-meeting-2411/
CATEGORIES:Actualidad,FEMM,Parlamento,S&D
ATTACH;FMTTYPE=image/png:https://linagalvez.eu/wp-content/uploads/2023/01/femm_logo.png
END:VEVENT
BEGIN:VEVENT
DTSTART;TZID=Europe/Madrid:20241126T100000
DTEND;TZID=Europe/Madrid:20241126T103000
DTSTAMP:20260423T020509
CREATED:20241122T102200Z
LAST-MODIFIED:20241125T101216Z
UID:10244-1732615200-1732617000@linagalvez.eu
SUMMARY:S&D Committee Chairs
DESCRIPTION:Lina Gálvez participará\, como presidenta del Comité de Derechos de las Mujeres e Igualdad de Género (FEMM)\, en la reunión de Presidentas y Presidentes de las Comisiones del Grupo de Socialistas y Demócratas del Parlamento Europeo.
URL:https://linagalvez.eu/agenda/sd-committee-chairs-2411/
CATEGORIES:Actualidad,FEMM,Parlamento
ATTACH;FMTTYPE=image/png:https://linagalvez.eu/wp-content/uploads/2020/05/digital-europe.png
END:VEVENT
BEGIN:VEVENT
DTSTART;TZID=Europe/Madrid:20241126T120000
DTEND;TZID=Europe/Madrid:20241126T123000
DTSTAMP:20260423T020509
CREATED:20241122T101254Z
LAST-MODIFIED:20241125T103854Z
UID:10255-1732622400-1732624200@linagalvez.eu
SUMMARY:Votación plenario Parlamento
DESCRIPTION:
URL:https://linagalvez.eu/agenda/votacion-plenario-parlamento-24-11/
CATEGORIES:Actualidad,Parlamento
ATTACH;FMTTYPE=image/png:https://linagalvez.eu/wp-content/uploads/2024/09/Captura-de-pantalla-2024-09-02-153140.png
END:VEVENT
BEGIN:VEVENT
DTSTART;TZID=Europe/Madrid:20241126T124500
DTEND;TZID=Europe/Madrid:20241126T133000
DTSTAMP:20260423T020509
CREATED:20241121T083947Z
LAST-MODIFIED:20250210T090028Z
UID:10238-1732625100-1732627800@linagalvez.eu
SUMMARY:S&D Reunión de la Delegación Socialista Española.
DESCRIPTION:Lina Gálvez asistirá a la reunión de la Delegación Socialista Española para debatir y coordinar estrategias sobre temas clave de la agenda política.
URL:https://linagalvez.eu/agenda/sd-reunion-delegacion-socialista-espanola-2411-2/
CATEGORIES:Actualidad,Parlamento,S&D
ATTACH;FMTTYPE=image/jpeg:https://linagalvez.eu/wp-content/uploads/2024/07/GP-Socialista-X-Legislatura.jpeg
END:VEVENT
BEGIN:VEVENT
DTSTART;TZID=Europe/Madrid:20241126T150000
DTEND;TZID=Europe/Madrid:20241126T170000
DTSTAMP:20260423T020509
CREATED:20241122T141425Z
LAST-MODIFIED:20241125T094341Z
UID:10240-1732633200-1732640400@linagalvez.eu
SUMMARY:Conference of Committee Chairs - CCC
DESCRIPTION:Conference of Committee Chairs (CCC) \nLina Gálvez participará\, como presidenta del Comité de Derechos de las Mujeres e Igualdad de Género (FEMM)\, en la reunión de Presidentas y Presidentes de las Comisiones del Parlamento Europeo.
URL:https://linagalvez.eu/agenda/conference-committee-chairs-ccc-2411/
CATEGORIES:Actualidad,FEMM,Parlamento
ATTACH;FMTTYPE=image/jpeg:https://linagalvez.eu/wp-content/uploads/2024/09/1726593435288_20240917_EP-172216A_EGZ_0333-Enhanced-NR_MOBILE.jpg
END:VEVENT
BEGIN:VEVENT
DTSTART;TZID=Europe/Madrid:20241126T194500
DTEND;TZID=Europe/Madrid:20241126T203000
DTSTAMP:20260423T020509
CREATED:20241126T165516Z
LAST-MODIFIED:20241126T165908Z
UID:10281-1732650300-1732653000@linagalvez.eu
SUMMARY:Intervención en Pleno sobre la necesidad urgente de abordar la brecha salarial de género
DESCRIPTION:20:10 Intervención en Pleno de Estrasburgo \nLina Gálvez tendrá la palabra en en el Pleno del Parlamento en el debate ‘Necesidad urgente de abordar la brecha salarial de género’. \nSe podrá seguir la intervención en el siguiente enlace: AQUÍ
URL:https://linagalvez.eu/agenda/intervencion-pleno-abordar-brecha-salaria-genero/
CATEGORIES:Actualidad,Destacado,FEMM,Parlamento
ATTACH;FMTTYPE=image/jpeg:https://linagalvez.eu/wp-content/uploads/2024/09/2024-09-18_LGM-img-pleno-alta_16-9.jpg
END:VEVENT
END:VCALENDAR