BEGIN:VCALENDAR
VERSION:2.0
PRODID:-//Lina Gálvez - ECPv6.15.20//NONSGML v1.0//EN
CALSCALE:GREGORIAN
METHOD:PUBLISH
X-WR-CALNAME:Lina Gálvez
X-ORIGINAL-URL:https://linagalvez.eu
X-WR-CALDESC:Eventos para Lina Gálvez
REFRESH-INTERVAL;VALUE=DURATION:PT1H
X-Robots-Tag:noindex
X-PUBLISHED-TTL:PT1H
BEGIN:VTIMEZONE
TZID:Europe/Madrid
BEGIN:DAYLIGHT
TZOFFSETFROM:+0100
TZOFFSETTO:+0200
TZNAME:CEST
DTSTART:20240331T010000
END:DAYLIGHT
BEGIN:STANDARD
TZOFFSETFROM:+0200
TZOFFSETTO:+0100
TZNAME:CET
DTSTART:20241027T010000
END:STANDARD
BEGIN:DAYLIGHT
TZOFFSETFROM:+0100
TZOFFSETTO:+0200
TZNAME:CEST
DTSTART:20250330T010000
END:DAYLIGHT
BEGIN:STANDARD
TZOFFSETFROM:+0200
TZOFFSETTO:+0100
TZNAME:CET
DTSTART:20251026T010000
END:STANDARD
BEGIN:DAYLIGHT
TZOFFSETFROM:+0100
TZOFFSETTO:+0200
TZNAME:CEST
DTSTART:20260329T010000
END:DAYLIGHT
BEGIN:STANDARD
TZOFFSETFROM:+0200
TZOFFSETTO:+0100
TZNAME:CET
DTSTART:20261025T010000
END:STANDARD
END:VTIMEZONE
BEGIN:VEVENT
DTSTART;TZID=Europe/Madrid:20250129T100000
DTEND;TZID=Europe/Madrid:20250129T113000
DTSTAMP:20260423T003727
CREATED:20250124T103954Z
LAST-MODIFIED:20250127T092321Z
UID:10530-1738144800-1738150200@linagalvez.eu
SUMMARY:Reunión de la Comisión de Industria\, Investigación y Energía (ITRE)
DESCRIPTION:Lina Gálvez asistirá a la reunión de la Comisión de Industria\, Investigación y Energía (ITRE)\, de la que forma parte\, donde se presentará el programa de la Presidencia polaca del Consejo.
URL:https://linagalvez.eu/agenda/reunion-comision-industria-investigacion-energia-itre-25-01-2/
CATEGORIES:Actualidad,ITRE,Parlamento
ATTACH;FMTTYPE=image/png:https://linagalvez.eu/wp-content/uploads/2020/09/ITRE.-Logo.png
END:VEVENT
BEGIN:VEVENT
DTSTART;TZID=Europe/Madrid:20250129T120000
DTEND;TZID=Europe/Madrid:20250129T130000
DTSTAMP:20260423T003727
CREATED:20250124T164450Z
LAST-MODIFIED:20250127T125208Z
UID:10580-1738152000-1738155600@linagalvez.eu
SUMMARY:Sesión solemne en el Parlamento Europeo de Bruselas por el Día Internacional de Conmemoración del Holocausto
DESCRIPTION:Sesión solemne en plenario en el Parlamento Europeo de Bruselas por el Día Internacional de Conmemoración del Holocausto.
URL:https://linagalvez.eu/agenda/sesion-solemne-pe-conmemoracion-holocausto/
CATEGORIES:Actualidad,Parlamento
ATTACH;FMTTYPE=image/jpeg:https://linagalvez.eu/wp-content/uploads/2021/02/Pleno-en-Bruselas.jpg
END:VEVENT
BEGIN:VEVENT
DTSTART;TZID=Europe/Madrid:20250129T130000
DTEND;TZID=Europe/Madrid:20250129T150000
DTSTAMP:20260423T003727
CREATED:20250124T141425Z
LAST-MODIFIED:20250127T100524Z
UID:10566-1738155600-1738162800@linagalvez.eu
SUMMARY:Conference of Committee Chairs - CCC
DESCRIPTION:Conference of Committee Chairs (CCC) \nLina Gálvez participará\, como presidenta del Comité de Derechos de las Mujeres e Igualdad de Género (FEMM)\, en la reunión de Presidentas y Presidentes de las Comisiones del Parlamento Europeo.
URL:https://linagalvez.eu/agenda/conference-committee-chairs-ccc-2501/
CATEGORIES:Actualidad,FEMM,Parlamento
ATTACH;FMTTYPE=image/jpeg:https://linagalvez.eu/wp-content/uploads/2024/09/1726593435288_20240917_EP-172216A_EGZ_0333-Enhanced-NR_MOBILE.jpg
END:VEVENT
BEGIN:VEVENT
DTSTART;TZID=Europe/Madrid:20250129T150000
DTEND;TZID=Europe/Madrid:20250129T170000
DTSTAMP:20260423T003727
CREATED:20250124T103954Z
LAST-MODIFIED:20250127T100240Z
UID:10564-1738162800-1738170000@linagalvez.eu
SUMMARY:Reunión de la Comisión de Industria\, Investigación y Energía (ITRE)
DESCRIPTION:Lina Gálvez asistirá a la reunión de la Comisión de Industria\, Investigación y Energía (ITRE)\, de la que forma parte\, donde se debatirá sobre asuntos digitales.
URL:https://linagalvez.eu/agenda/reunion-comision-industria-investigacion-energia-itre-25-01-3/
CATEGORIES:Actualidad,ITRE,Parlamento
ATTACH;FMTTYPE=image/jpeg:https://linagalvez.eu/wp-content/uploads/2025/01/1695136327004_20230919_EP-155805A_EVD_158-scaled.jpg
END:VEVENT
BEGIN:VEVENT
DTSTART;TZID=Europe/Madrid:20250129T183000
DTEND;TZID=Europe/Madrid:20250129T203000
DTSTAMP:20260423T003727
CREATED:20250124T102540Z
LAST-MODIFIED:20250127T132555Z
UID:10586-1738175400-1738182600@linagalvez.eu
SUMMARY:Recepción de nuevo año de la Comisión Europea
DESCRIPTION:Lina Gálvez asistirá a la recepción de nuevo año organizada por la Comisión Europea.
URL:https://linagalvez.eu/agenda/recepcion-nuevo-ano-comision-europea-2025/
CATEGORIES:Actualidad,Parlamento
ATTACH;FMTTYPE=image/jpeg:https://linagalvez.eu/wp-content/uploads/2024/10/EU-Enlargement-package-scaled-1.jpg
END:VEVENT
END:VCALENDAR