BEGIN:VCALENDAR
VERSION:2.0
PRODID:-//Lina Gálvez - ECPv6.15.20//NONSGML v1.0//EN
CALSCALE:GREGORIAN
METHOD:PUBLISH
X-WR-CALNAME:Lina Gálvez
X-ORIGINAL-URL:https://linagalvez.eu
X-WR-CALDESC:Eventos para Lina Gálvez
REFRESH-INTERVAL;VALUE=DURATION:PT1H
X-Robots-Tag:noindex
X-PUBLISHED-TTL:PT1H
BEGIN:VTIMEZONE
TZID:Europe/Madrid
BEGIN:DAYLIGHT
TZOFFSETFROM:+0100
TZOFFSETTO:+0200
TZNAME:CEST
DTSTART:20230326T010000
END:DAYLIGHT
BEGIN:STANDARD
TZOFFSETFROM:+0200
TZOFFSETTO:+0100
TZNAME:CET
DTSTART:20231029T010000
END:STANDARD
BEGIN:DAYLIGHT
TZOFFSETFROM:+0100
TZOFFSETTO:+0200
TZNAME:CEST
DTSTART:20240331T010000
END:DAYLIGHT
BEGIN:STANDARD
TZOFFSETFROM:+0200
TZOFFSETTO:+0100
TZNAME:CET
DTSTART:20241027T010000
END:STANDARD
BEGIN:DAYLIGHT
TZOFFSETFROM:+0100
TZOFFSETTO:+0200
TZNAME:CEST
DTSTART:20250330T010000
END:DAYLIGHT
BEGIN:STANDARD
TZOFFSETFROM:+0200
TZOFFSETTO:+0100
TZNAME:CET
DTSTART:20251026T010000
END:STANDARD
END:VTIMEZONE
BEGIN:VEVENT
DTSTART;TZID=Europe/Madrid:20240905T123000
DTEND;TZID=Europe/Madrid:20240905T133000
DTSTAMP:20260424T045855
CREATED:20240902T131425Z
LAST-MODIFIED:20240902T131446Z
UID:9600-1725539400-1725543000@linagalvez.eu
SUMMARY:Reunión con la Directora del EIGE
DESCRIPTION:La eurodiputada Lina Gálvez se reunirá con Carlien Scheele\, directora del Instituto Europeo para la Igualdad de Género\, para discutir sobre la integración de la perspectiva de género.
URL:https://linagalvez.eu/agenda/reunion-directora-eige/
CATEGORIES:Actualidad,Destacado,FEMM,Parlamento
ATTACH;FMTTYPE=image/jpeg:https://linagalvez.eu/wp-content/uploads/2021/05/Integracion-de-la-perspectiva-de-genero-en-el-presupuesto-de-la-UE.jpg
END:VEVENT
BEGIN:VEVENT
DTSTART;TZID=Europe/Madrid:20240923T123000
DTEND;TZID=Europe/Madrid:20240923T133000
DTSTAMP:20260424T045855
CREATED:20240920T133302Z
LAST-MODIFIED:20240923T074519Z
UID:9728-1727094600-1727098200@linagalvez.eu
SUMMARY:Reunión con el Lobby Europeo de Mujeres.
DESCRIPTION:Lina Gálvez se reunirá con el Lobby Europeo de Mujeres\, la mayor organización de asociaciones no gubernamentales en Europa que trabaja por los intereses de las mujeres y niñas en toda su diversidad\, así como por la igualdad de género en todos los ámbitos de la vida.
URL:https://linagalvez.eu/agenda/reunion-lobby-europeo-de-mujeres-2409/
CATEGORIES:Actualidad,FEMM,Parlamento
ATTACH;FMTTYPE=image/jpeg:https://linagalvez.eu/wp-content/uploads/2020/07/Calendario2.jpg
END:VEVENT
BEGIN:VEVENT
DTSTART;TZID=Europe/Madrid:20240924T100000
DTEND;TZID=Europe/Madrid:20240924T110000
DTSTAMP:20260424T045855
CREATED:20240920T114846Z
LAST-MODIFIED:20240923T085001Z
UID:9734-1727172000-1727175600@linagalvez.eu
SUMMARY:Discurso de apertura del evento de lanzamiento del Proyecto Piloto del Parlamento Europeo sobre la Brecha de Género en Inversiones
DESCRIPTION:Lina Gálvez dará el discurso de apertura en el evento de lanzamiento del proyecto\, cuyo objetivo es desarrollar un estudio exhaustivo para establecer una metodología armonizada de recolección de datos que permita evaluar la brecha de género en inversiones. \nEl estudio analizará las disparidades en la inversión tanto en empresas lideradas por mujeres como en fondos gestionados por mujeres. El proyecto incluirá una serie de eventos locales en 10 países entre septiembre de 2024 y junio de 2025. \nMás información aquí
URL:https://linagalvez.eu/agenda/lanzamiento-piloto-brecha-geenero-inversiones/
CATEGORIES:Actualidad,Destacado,FEMM,Parlamento
ATTACH;FMTTYPE=image/jpeg:https://linagalvez.eu/wp-content/uploads/2024/09/GXWicskXcAA7KXS.jpeg
END:VEVENT
END:VCALENDAR