BEGIN:VCALENDAR
VERSION:2.0
PRODID:-//Lina Gálvez - ECPv6.15.20//NONSGML v1.0//EN
CALSCALE:GREGORIAN
METHOD:PUBLISH
X-ORIGINAL-URL:https://linagalvez.eu
X-WR-CALDESC:Eventos para Lina Gálvez
REFRESH-INTERVAL;VALUE=DURATION:PT1H
X-Robots-Tag:noindex
X-PUBLISHED-TTL:PT1H
BEGIN:VTIMEZONE
TZID:Europe/Madrid
BEGIN:DAYLIGHT
TZOFFSETFROM:+0100
TZOFFSETTO:+0200
TZNAME:CEST
DTSTART:20240331T010000
END:DAYLIGHT
BEGIN:STANDARD
TZOFFSETFROM:+0200
TZOFFSETTO:+0100
TZNAME:CET
DTSTART:20241027T010000
END:STANDARD
BEGIN:DAYLIGHT
TZOFFSETFROM:+0100
TZOFFSETTO:+0200
TZNAME:CEST
DTSTART:20250330T010000
END:DAYLIGHT
BEGIN:STANDARD
TZOFFSETFROM:+0200
TZOFFSETTO:+0100
TZNAME:CET
DTSTART:20251026T010000
END:STANDARD
BEGIN:DAYLIGHT
TZOFFSETFROM:+0100
TZOFFSETTO:+0200
TZNAME:CEST
DTSTART:20260329T010000
END:DAYLIGHT
BEGIN:STANDARD
TZOFFSETFROM:+0200
TZOFFSETTO:+0100
TZNAME:CET
DTSTART:20261025T010000
END:STANDARD
END:VTIMEZONE
BEGIN:VEVENT
DTSTART;TZID=Europe/Madrid:20251201T150000
DTEND;TZID=Europe/Madrid:20251201T163000
DTSTAMP:20260421T233509
CREATED:20251127T063536Z
LAST-MODIFIED:20260415T072746Z
UID:13051-1764601200-1764606600@linagalvez.eu
SUMMARY:Reunión de la Red de Integración de la Perspectiva de Género - Comisión FEMM
DESCRIPTION:Lina Gálvez participará en la reunión de la Red para la Integración de la Perspectiva de Género del Parlamento Europeo. \nLa Gender Mainstreaming Network  promueve la integración de la perspectiva de género en la labor de las comisiones y delegaciones del Parlamento. La reunión no se retransmitirá por Internet. \nLas comisiones y delegaciones han nombrado a representantes responsables de la integración de la perspectiva de género que participan en reuniones periódicas y comparten experiencias y buenas prácticas en sus ámbitos de actividad.
URL:https://linagalvez.eu/agenda/reunion-comision-femm-gender-mainstreaming-network-meeting/
CATEGORIES:Actualidad,Destacado,FEMM,Parlamento
ATTACH;FMTTYPE=image/jpeg:https://linagalvez.eu/wp-content/uploads/2025/01/1733319067420_20241204_EP-176461A_AR2_025_R-scaled.jpg
END:VEVENT
END:VCALENDAR