BEGIN:VCALENDAR
VERSION:2.0
PRODID:-//Lina Gálvez - ECPv6.15.20//NONSGML v1.0//EN
CALSCALE:GREGORIAN
METHOD:PUBLISH
X-WR-CALNAME:Lina Gálvez
X-ORIGINAL-URL:https://linagalvez.eu
X-WR-CALDESC:Eventos para Lina Gálvez
REFRESH-INTERVAL;VALUE=DURATION:PT1H
X-Robots-Tag:noindex
X-PUBLISHED-TTL:PT1H
BEGIN:VTIMEZONE
TZID:Europe/Madrid
BEGIN:DAYLIGHT
TZOFFSETFROM:+0100
TZOFFSETTO:+0200
TZNAME:CEST
DTSTART:20240331T010000
END:DAYLIGHT
BEGIN:STANDARD
TZOFFSETFROM:+0200
TZOFFSETTO:+0100
TZNAME:CET
DTSTART:20241027T010000
END:STANDARD
BEGIN:DAYLIGHT
TZOFFSETFROM:+0100
TZOFFSETTO:+0200
TZNAME:CEST
DTSTART:20250330T010000
END:DAYLIGHT
BEGIN:STANDARD
TZOFFSETFROM:+0200
TZOFFSETTO:+0100
TZNAME:CET
DTSTART:20251026T010000
END:STANDARD
BEGIN:DAYLIGHT
TZOFFSETFROM:+0100
TZOFFSETTO:+0200
TZNAME:CEST
DTSTART:20260329T010000
END:DAYLIGHT
BEGIN:STANDARD
TZOFFSETFROM:+0200
TZOFFSETTO:+0100
TZNAME:CET
DTSTART:20261025T010000
END:STANDARD
END:VTIMEZONE
BEGIN:VEVENT
DTSTART;TZID=Europe/Madrid:20250319T200000
DTEND;TZID=Europe/Madrid:20250319T210000
DTSTAMP:20260426T035359
CREATED:20250307T103647Z
LAST-MODIFIED:20260209T124728Z
UID:11298-1742414400-1742418000@linagalvez.eu
SUMMARY:Reunión con el Director Adjunto de la Oficina de Relaciones Externas y Promoción y con la Jefa de Género del PNUD
DESCRIPTION:Lina Gálvez se reunirá\, en el marco de la CSW69\, con el Sr. Walid Badawi\, Director Adjunto de la Oficina de Relaciones Externas y Promoción\, junto con la Sra. Raquel Lagunas\, Jefa de Género del PNUD. \n 15:00 – 16:00 hora local de Nueva York \n\nEl 69º período de sesiones de la Comisión de la Condición Jurídica y Social de la Mujer se celebra en la Sede de la ONU en Nueva York del 10 al 21 de marzo de 2025\, y se centra principalmente en el examen y la evaluación de la aplicación de la Declaración y la Plataforma de Acción de Beijing y de los resultados del 23º período extraordinario de sesiones de la Asamblea General. El examen incluirá una evaluación de los desafíos actuales que afectan a la aplicación de la Plataforma de Acción y al logro de la igualdad de género y el empoderamiento de la mujer\, así como su contribución a la plena realización de la Agenda 2030 para el Desarrollo Sostenible. \nMás información: Parlamento Europeo | ONU Mujeres – CSW69 \nFuente de la imagen: ONU Mujeres\, 2025. Women’s Rights in Review 30 Years After Beijing. En esta web se realiza un uso justo y no comercial de la imagen para la difusión del evento.
URL:https://linagalvez.eu/agenda/reunion-dir-adjunto-rels-externas-jefa-genero-pnud-csw69/
CATEGORIES:Actualidad,FEMM,Parlamento
ATTACH;FMTTYPE=image/webp:https://linagalvez.eu/wp-content/uploads/Beijing30women.webp
END:VEVENT
END:VCALENDAR