BEGIN:VCALENDAR
VERSION:2.0
PRODID:-//Lina Gálvez - ECPv6.15.20//NONSGML v1.0//EN
CALSCALE:GREGORIAN
METHOD:PUBLISH
X-WR-CALNAME:Lina Gálvez
X-ORIGINAL-URL:https://linagalvez.eu
X-WR-CALDESC:Eventos para Lina Gálvez
REFRESH-INTERVAL;VALUE=DURATION:PT1H
X-Robots-Tag:noindex
X-PUBLISHED-TTL:PT1H
BEGIN:VTIMEZONE
TZID:Europe/Madrid
BEGIN:DAYLIGHT
TZOFFSETFROM:+0100
TZOFFSETTO:+0200
TZNAME:CEST
DTSTART:20240331T010000
END:DAYLIGHT
BEGIN:STANDARD
TZOFFSETFROM:+0200
TZOFFSETTO:+0100
TZNAME:CET
DTSTART:20241027T010000
END:STANDARD
BEGIN:DAYLIGHT
TZOFFSETFROM:+0100
TZOFFSETTO:+0200
TZNAME:CEST
DTSTART:20250330T010000
END:DAYLIGHT
BEGIN:STANDARD
TZOFFSETFROM:+0200
TZOFFSETTO:+0100
TZNAME:CET
DTSTART:20251026T010000
END:STANDARD
BEGIN:DAYLIGHT
TZOFFSETFROM:+0100
TZOFFSETTO:+0200
TZNAME:CEST
DTSTART:20260329T010000
END:DAYLIGHT
BEGIN:STANDARD
TZOFFSETFROM:+0200
TZOFFSETTO:+0100
TZNAME:CET
DTSTART:20261025T010000
END:STANDARD
END:VTIMEZONE
BEGIN:VEVENT
DTSTART;TZID=Europe/Madrid:20251103T150000
DTEND;TZID=Europe/Madrid:20251103T170000
DTSTAMP:20260421T060131
CREATED:20251031T103955Z
LAST-MODIFIED:20251103T120818Z
UID:12782-1762182000-1762189200@linagalvez.eu
SUMMARY:El papel del comercio en la promoción de la igualdad de género. Reunión INTA - Gender Equality Week
DESCRIPTION:Lina Gálvez participará en la reunión de la Comisión de Comercio Internacional (INTA)\, de la que forma parte\, en la que se abordará el papel del comercio en la promoción de la igualdad de género\, en la Unión Europea. \nVer en streaming aquí
URL:https://linagalvez.eu/agenda/reunion-comision-inta-2025-11/
CATEGORIES:Actualidad,INTA,Parlamento
ATTACH;FMTTYPE=image/jpeg:https://linagalvez.eu/wp-content/uploads/2024/09/INTA-16-9.jpeg
END:VEVENT
BEGIN:VEVENT
DTSTART;TZID=Europe/Madrid:20251106T111500
DTEND;TZID=Europe/Madrid:20251106T120000
DTSTAMP:20260421T060131
CREATED:20251031T083947Z
LAST-MODIFIED:20251104T091346Z
UID:12828-1762427700-1762430400@linagalvez.eu
SUMMARY:Reunión de la DSE con el ministro de Asuntos Exteriores\, Unión Europea y Cooperación de España
DESCRIPTION:Lina Gálvez participará en la reunión de la Delegación Socialista Española con José Manuel Albares\, ministro de Asuntos Exteriores\, Unión Europea y Cooperación del Gobierno de España\, en calidad de secretaria general adjunta de la DSE.
URL:https://linagalvez.eu/agenda/sd-reunion-delegacion-socialista-espanola-dse-25-11-2/
CATEGORIES:Actualidad,Parlamento,S&D
ATTACH;FMTTYPE=image/jpeg:https://linagalvez.eu/wp-content/uploads/2024/07/GP-Socialista-X-Legislatura.jpeg
END:VEVENT
BEGIN:VEVENT
DTSTART;TZID=Europe/Madrid:20251113T093000
DTEND;TZID=Europe/Madrid:20251113T103000
DTSTAMP:20260421T060131
CREATED:20251107T083947Z
LAST-MODIFIED:20251110T125501Z
UID:12875-1763026200-1763029800@linagalvez.eu
SUMMARY:Reunión de trabajo con Aina Calvo Sastre\, Secretaria de Estado de Seguridad del Gobierno de España
DESCRIPTION:Lina Gálvez participará en la reunión de trabajo con Aina Calvo Sastre\, Secretaria de Estado de Seguridad del Gobierno de España.
URL:https://linagalvez.eu/agenda/reunion-trabajo-con-aina-calvo-sastre-secretaria-estado-seguridad-espana/
CATEGORIES:Actualidad,Parlamento,S&D
ATTACH;FMTTYPE=image/jpeg:https://linagalvez.eu/wp-content/uploads/16968052800_00249ab0fa_o-scaled.jpg
END:VEVENT
BEGIN:VEVENT
DTSTART;TZID=Europe/Madrid:20251120T090000
DTEND;TZID=Europe/Madrid:20251120T103000
DTSTAMP:20260421T060131
CREATED:20251114T103955Z
LAST-MODIFIED:20251117T125746Z
UID:12933-1763629200-1763634600@linagalvez.eu
SUMMARY:Monitoring group de INTA sobre Corea del Sur conjunto con DKOR
DESCRIPTION:Grupo de seguimiento de la Comisión de Comercio Internacional (INTA)\, conjunta con la Delegación para las relaciones con la península de Corea (DKOR)\, de las que Lina Gálvez forma parte\, para valorar las perspectivas del comercio entre la Unión Europea y Corea.
URL:https://linagalvez.eu/agenda/monitoring-group-inta-corea-conjunto-dkor-202511/
CATEGORIES:Actualidad,DKOR,INTA,Parlamento
ATTACH;FMTTYPE=image/jpeg:https://linagalvez.eu/wp-content/uploads/2024/09/INTA-16-9.jpeg
END:VEVENT
END:VCALENDAR