BEGIN:VCALENDAR
VERSION:2.0
PRODID:-//Lina Gálvez - ECPv6.15.20//NONSGML v1.0//EN
CALSCALE:GREGORIAN
METHOD:PUBLISH
X-ORIGINAL-URL:https://linagalvez.eu
X-WR-CALDESC:Eventos para Lina Gálvez
REFRESH-INTERVAL;VALUE=DURATION:PT1H
X-Robots-Tag:noindex
X-PUBLISHED-TTL:PT1H
BEGIN:VTIMEZONE
TZID:Europe/Madrid
BEGIN:DAYLIGHT
TZOFFSETFROM:+0100
TZOFFSETTO:+0200
TZNAME:CEST
DTSTART:20240331T010000
END:DAYLIGHT
BEGIN:STANDARD
TZOFFSETFROM:+0200
TZOFFSETTO:+0100
TZNAME:CET
DTSTART:20241027T010000
END:STANDARD
BEGIN:DAYLIGHT
TZOFFSETFROM:+0100
TZOFFSETTO:+0200
TZNAME:CEST
DTSTART:20250330T010000
END:DAYLIGHT
BEGIN:STANDARD
TZOFFSETFROM:+0200
TZOFFSETTO:+0100
TZNAME:CET
DTSTART:20251026T010000
END:STANDARD
BEGIN:DAYLIGHT
TZOFFSETFROM:+0100
TZOFFSETTO:+0200
TZNAME:CEST
DTSTART:20260329T010000
END:DAYLIGHT
BEGIN:STANDARD
TZOFFSETFROM:+0200
TZOFFSETTO:+0100
TZNAME:CET
DTSTART:20261025T010000
END:STANDARD
END:VTIMEZONE
BEGIN:VEVENT
DTSTART;TZID=Europe/Madrid:20251201T200000
DTEND;TZID=Europe/Madrid:20251201T210000
DTSTAMP:20260421T015621
CREATED:20251127T103647Z
LAST-MODIFIED:20251201T092553Z
UID:13046-1764619200-1764622800@linagalvez.eu
SUMMARY:Reunión FEPS sobre Política Exterior Feminista
DESCRIPTION:Lina Gálvez participará en la sesión temática organizada por FEPS sobre Política Exterior Feminista\, centrada en: una organización alternativa de política exterior feminista liderada por la Mayoría Global. \nFuente de la imagen: ONU Mujeres\, 2025. Women’s Rights in Review 30 Years After Beijing. En esta web se realiza un uso justo y no comercial de la imagen para la difusión del evento.
URL:https://linagalvez.eu/agenda/reunion-feps-politica-exterior-feminista/
CATEGORIES:Actualidad,FEMM,FEPS,Parlamento,S&D
ATTACH;FMTTYPE=image/webp:https://linagalvez.eu/wp-content/uploads/Beijing30women3.webp
END:VEVENT
BEGIN:VEVENT
DTSTART;TZID=Europe/Madrid:20251208T170000
DTEND;TZID=Europe/Madrid:20251208T183000
DTSTAMP:20260421T015621
CREATED:20251205T103955Z
LAST-MODIFIED:20251208T134006Z
UID:13142-1765213200-1765218600@linagalvez.eu
SUMMARY:Reunión extraordinaria de la Comisión de Comercio Internacional (INTA)
DESCRIPTION:Lina Gálvez participará en la reunión extraordinaria de la Comisión de Comercio Internacional (INTA)\, de la que forma parte\, y en la que se votará la Implementación de la cláusula de salvaguardia bilateral del Acuerdo de Asociación UE-Mercosur y del Acuerdo Comercial Interino UE-Mercosur para productos agrícolas. \nVer en streaming aquí
URL:https://linagalvez.eu/agenda/reunion-comision-inta-2025-12/
CATEGORIES:Actualidad,INTA,Parlamento
ATTACH;FMTTYPE=image/jpeg:https://linagalvez.eu/wp-content/uploads/2024/09/INTA-16-9.jpeg
END:VEVENT
BEGIN:VEVENT
DTSTART;TZID=Europe/Madrid:20251215T200000
DTEND;TZID=Europe/Madrid:20251215T201500
DTSTAMP:20260421T015621
CREATED:20251212T083947Z
LAST-MODIFIED:20251214T134339Z
UID:13216-1765828800-1765829700@linagalvez.eu
SUMMARY:Comisión conjunta INTA & ITRE
DESCRIPTION:Lina Gálvez asistirá a la reunión conjunta de las Comisiones de Comercio Internacional (INTA) e Industria\, Investigación y Energía (ITRE)\, como integrante de ambas. Se votará la eliminación gradual de las importaciones de gas natural ruso y mejora del seguimiento de las posibles dependencias energéticas (Phasing out Russian natural gas imports\, improving monitoring of potential energy dependencies)\, que se debatirá en el pleno el martes por la mañana.
URL:https://linagalvez.eu/agenda/comision-conjunta-inta-itre-2025-12/
CATEGORIES:Actualidad,INTA,ITRE,Parlamento,S&D
ATTACH;FMTTYPE=image/jpeg:https://linagalvez.eu/wp-content/uploads/20250707PHT29482-ml-Recurso-chip-UE-destacados-ITRE.jpeg
END:VEVENT
END:VCALENDAR