BEGIN:VCALENDAR
VERSION:2.0
PRODID:-//Lina Gálvez - ECPv6.15.20//NONSGML v1.0//EN
CALSCALE:GREGORIAN
METHOD:PUBLISH
X-ORIGINAL-URL:https://linagalvez.eu
X-WR-CALDESC:Eventos para Lina Gálvez
REFRESH-INTERVAL;VALUE=DURATION:PT1H
X-Robots-Tag:noindex
X-PUBLISHED-TTL:PT1H
BEGIN:VTIMEZONE
TZID:Europe/Madrid
BEGIN:DAYLIGHT
TZOFFSETFROM:+0100
TZOFFSETTO:+0200
TZNAME:CEST
DTSTART:20240331T010000
END:DAYLIGHT
BEGIN:STANDARD
TZOFFSETFROM:+0200
TZOFFSETTO:+0100
TZNAME:CET
DTSTART:20241027T010000
END:STANDARD
BEGIN:DAYLIGHT
TZOFFSETFROM:+0100
TZOFFSETTO:+0200
TZNAME:CEST
DTSTART:20250330T010000
END:DAYLIGHT
BEGIN:STANDARD
TZOFFSETFROM:+0200
TZOFFSETTO:+0100
TZNAME:CET
DTSTART:20251026T010000
END:STANDARD
BEGIN:DAYLIGHT
TZOFFSETFROM:+0100
TZOFFSETTO:+0200
TZNAME:CEST
DTSTART:20260329T010000
END:DAYLIGHT
BEGIN:STANDARD
TZOFFSETFROM:+0200
TZOFFSETTO:+0100
TZNAME:CET
DTSTART:20261025T010000
END:STANDARD
END:VTIMEZONE
BEGIN:VEVENT
DTSTART;VALUE=DATE:20250610
DTEND;VALUE=DATE:20250614
DTSTAMP:20260426T034950
CREATED:20250609T104517Z
LAST-MODIFIED:20250609T104607Z
UID:11991-1749513600-1749859199@linagalvez.eu
SUMMARY:S&D External Group Week (Portugal)
DESCRIPTION:
URL:https://linagalvez.eu/agenda/sd-external-group-week-portugal/
CATEGORIES:Actualidad,Parlamento,S&D
END:VEVENT
BEGIN:VEVENT
DTSTART;TZID=Europe/Madrid:20250610T174500
DTEND;TZID=Europe/Madrid:20250610T183000
DTSTAMP:20260426T034950
CREATED:20250606T104517Z
LAST-MODIFIED:20250609T105354Z
UID:11994-1749577500-1749580200@linagalvez.eu
SUMMARY:Inicio de la Semana del Grupo S&D en el Exterior (Lisboa\, Portugal)
DESCRIPTION:Lina Gálvez asistirá a la reunión inaugural de la Semana del Grupo S&D en el Exterior\, que se celebra del 10 al 13 de junio de 2025 en el Centro de Congresos de Lisboa.
URL:https://linagalvez.eu/agenda/sd-external-group-week-portugal-inicio/
CATEGORIES:Actualidad,Parlamento,S&D
ATTACH;FMTTYPE=image/webp:https://linagalvez.eu/wp-content/uploads/EU-Housing-Crisis-S-D-portugal_2025.webp
END:VEVENT
BEGIN:VEVENT
DTSTART;TZID=Europe/Madrid:20250611T090000
DTEND;TZID=Europe/Madrid:20250611T120000
DTSTAMP:20260426T034950
CREATED:20250606T073948Z
LAST-MODIFIED:20250609T105741Z
UID:11998-1749632400-1749643200@linagalvez.eu
SUMMARY:Reunión de grupo de S&D
DESCRIPTION:Lina Gálvez asistirá a la reunión del Grupo de los Socialistas y Demócratas en el Parlamento Europeo para preparar la sesión plenaria de junio\, dentro del programa de la semana del grupo en Lisboa. En esta reunión tendrá lugar un debate del Grupo S&D centrado en la crisis de la vivienda\, uno de los principales retos sociales en Europa.
URL:https://linagalvez.eu/agenda/reunion-grupo-sd-2025-06-lisboa/
CATEGORIES:Actualidad,Parlamento,S&D
ATTACH;FMTTYPE=image/jpeg:https://linagalvez.eu/wp-content/uploads/SD-banner-euractiv.jpg
END:VEVENT
BEGIN:VEVENT
DTSTART;TZID=Europe/Madrid:20250611T130000
DTEND;TZID=Europe/Madrid:20250611T170000
DTSTAMP:20260426T034950
CREATED:20250606T092200Z
LAST-MODIFIED:20250609T110148Z
UID:12000-1749646800-1749661200@linagalvez.eu
SUMMARY:Grupos de trabajo horizontales del Grupo S&D
DESCRIPTION:Lina Gálvez participará en los grupos de trabajo horizontales organizados en el marco de la semana externa del Grupo S&D en Lisboa\, donde miembros del grupo debatirán junto a especialistas y representantes institucionales sobre propuestas legislativas y estrategias progresistas en distintas áreas clave para el futuro de la Unión Europea.
URL:https://linagalvez.eu/agenda/sd-horizontal-working-groups-2506-lisbon/
CATEGORIES:Actualidad,FEMM,Parlamento,S&D
ATTACH;FMTTYPE=image/png:https://linagalvez.eu/wp-content/uploads/2020/05/digital-europe.png
END:VEVENT
BEGIN:VEVENT
DTSTART;TZID=Europe/Madrid:20250612T090000
DTEND;TZID=Europe/Madrid:20250612T100000
DTSTAMP:20260426T034950
CREATED:20250606T073948Z
LAST-MODIFIED:20250609T120651Z
UID:12015-1749718800-1749722400@linagalvez.eu
SUMMARY:Celebración del 40.º aniversario de la adhesión de Portugal y España a la UE
DESCRIPTION:Lina Gálvez participará en la ceremonia conmemorativa del 40.º aniversario de la adhesión de España y Portugal a la Unión Europea\, un hito histórico para ambos países y para el proyecto europeo. \nFuente de la imagen: Representación de la Comisión Europea en España. En esta web se realiza un uso justo y no comercial de la imagen para la difusión del evento.
URL:https://linagalvez.eu/agenda/celebracion-40-aniversario-adhesion-portugal-espana-ue/
CATEGORIES:Actualidad,Parlamento,S&D
ATTACH;FMTTYPE=image/jpeg:https://linagalvez.eu/wp-content/uploads/adhesion-espana-portugal_CEE-1985.jpg
END:VEVENT
BEGIN:VEVENT
DTSTART;TZID=Europe/Madrid:20250612T100000
DTEND;TZID=Europe/Madrid:20250612T120000
DTSTAMP:20260426T034950
CREATED:20250606T073948Z
LAST-MODIFIED:20250609T111128Z
UID:12003-1749722400-1749729600@linagalvez.eu
SUMMARY:El futuro es ahora: ¿Qué es lo que realmente importa a la juventud europea?
DESCRIPTION:Lina Gálvez participará en la reunión del Grupo S&D que incluirá un debate temático titulado: “El futuro es ahora: ¿Qué es lo que realmente importa a la juventud europea?”\, con la presencia de jóvenes y representantes políticos para reflexionar sobre los retos y prioridades de las nuevas generaciones. \nFuente de la imagen: socialistsanddemocrats.eu. En esta web se realiza un uso justo y no comercial de la imagen para la difusión del evento.
URL:https://linagalvez.eu/agenda/reunion-grupo-sd-2025-06-lisboa-2/
CATEGORIES:Actualidad,Parlamento,S&D
ATTACH;FMTTYPE=image/jpeg:https://linagalvez.eu/wp-content/uploads/SD-the-socialists-and-democrats.jpg
END:VEVENT
BEGIN:VEVENT
DTSTART;TZID=Europe/Madrid:20250612T100000
DTEND;TZID=Europe/Madrid:20250612T120000
DTSTAMP:20260426T034950
CREATED:20250606T073948Z
LAST-MODIFIED:20250609T111319Z
UID:12006-1749722400-1749729600@linagalvez.eu
SUMMARY:Visita a Almada: Misión de investigación sobre proyectos de vivienda
DESCRIPTION:Lina Gálvez participará en una misión sobre el terreno en Almada (Portugal) para conocer dos proyectos de vivienda accesible y asequible\, cofinanciados con fondos europeos. Esta visita permitirá analizar buenas prácticas en políticas de vivienda apoyadas por la UE. \nFuente de la imagen: socialistsanddemocrats.eu. En esta web se realiza un uso justo y no comercial de la imagen para la difusión del evento.
URL:https://linagalvez.eu/agenda/visita-almada-mision-investigacion-proyectos-vivienda/
CATEGORIES:Actualidad,Parlamento,S&D
ATTACH;FMTTYPE=image/jpeg:https://linagalvez.eu/wp-content/uploads/housing-crisis-we-can-stop-it-hp-banner.jpg
END:VEVENT
END:VCALENDAR