BEGIN:VCALENDAR
VERSION:2.0
PRODID:-//Lina Gálvez - ECPv6.15.20//NONSGML v1.0//EN
CALSCALE:GREGORIAN
METHOD:PUBLISH
X-ORIGINAL-URL:https://linagalvez.eu
X-WR-CALDESC:Eventos para Lina Gálvez
REFRESH-INTERVAL;VALUE=DURATION:PT1H
X-Robots-Tag:noindex
X-PUBLISHED-TTL:PT1H
BEGIN:VTIMEZONE
TZID:Europe/Madrid
BEGIN:DAYLIGHT
TZOFFSETFROM:+0100
TZOFFSETTO:+0200
TZNAME:CEST
DTSTART:20250330T010000
END:DAYLIGHT
BEGIN:STANDARD
TZOFFSETFROM:+0200
TZOFFSETTO:+0100
TZNAME:CET
DTSTART:20251026T010000
END:STANDARD
BEGIN:DAYLIGHT
TZOFFSETFROM:+0100
TZOFFSETTO:+0200
TZNAME:CEST
DTSTART:20260329T010000
END:DAYLIGHT
BEGIN:STANDARD
TZOFFSETFROM:+0200
TZOFFSETTO:+0100
TZNAME:CET
DTSTART:20261025T010000
END:STANDARD
BEGIN:DAYLIGHT
TZOFFSETFROM:+0100
TZOFFSETTO:+0200
TZNAME:CEST
DTSTART:20270328T010000
END:DAYLIGHT
BEGIN:STANDARD
TZOFFSETFROM:+0200
TZOFFSETTO:+0100
TZNAME:CET
DTSTART:20271031T010000
END:STANDARD
END:VTIMEZONE
BEGIN:VEVENT
DTSTART;TZID=Europe/Madrid:20260305T173000
DTEND;TZID=Europe/Madrid:20260305T193000
DTSTAMP:20260419T204045
CREATED:20260227T083947Z
LAST-MODIFIED:20260304T102629Z
UID:13743-1772731800-1772739000@linagalvez.eu
SUMMARY:Evento de la presidencia de Chipre: presentación de la nueva estrategia de igualdad de género 2026-2030
DESCRIPTION:Con motivo del Día Internacional de la Mujer y del lanzamiento de la Estrategia de Igualdad de Género de la UE 2026-2030\, el 5 de marzo\, la Presidencia chipriota organiza un acto en el que participarán la comisaria de Igualdad\, Hadja Lahbib\, y la directora del EIGE\, Carlien Scheele. \nDado que la Presidencia chipriota concede especial importancia a la prevención y la lucha contra la ciberviolencia dirigida contra las mujeres y las niñas\, que también ocupa un lugar destacado en la próxima Estrategia\, sus ponentes debatirán cuestiones clave como la ciberviolencia y la transformación digital\, destacando tanto las oportunidades como los riesgos que plantean las nuevas tecnologías. La gobernanza digital\, que abarca desde la inteligencia artificial (IA) hasta la protección de datos\, es un tema central del debate\, con el fin de explorar si la innovación tecnológica puede promover la igualdad de género o impedirla\, y de qué manera.
URL:https://linagalvez.eu/agenda/evento-presidencia-chipre-presentacion-nueva-estrategia-igualdad-genero-2026-2030-8m/
CATEGORIES:Actualidad,FEMM,Parlamento
ATTACH;FMTTYPE=image/png:https://linagalvez.eu/wp-content/uploads/Mujer-joven-bandera-UE-horizonte.png
END:VEVENT
BEGIN:VEVENT
DTSTART;TZID=Europe/Madrid:20260311T150000
DTEND;TZID=Europe/Madrid:20260311T161500
DTSTAMP:20260419T204045
CREATED:20260306T103647Z
LAST-MODIFIED:20260310T130258Z
UID:13833-1773241200-1773245700@linagalvez.eu
SUMMARY:Evento paralelo: "Prevenir y combatir todas las formas de ciberviolencia contra las niñas" de la presidencia Chipriota de la UE (CSW70)
DESCRIPTION:Lina Gálvez asistirá al evento paralelo: «Prevenir y combatir todas las formas de ciberviolencia contra las niñas»\, organizado por la presidencia chipriota de la Unión Europea\, y la Delegación de la Unión Europea ante las Naciones Unidas\, con el apoyo de México\, Filipinas y ONU Mujeres; en el marco de la CSW70\, en Nueva York. \nEl evento paralelo proporcionará una plataforma de alto nivel con múltiples partes interesadas para debatir respuestas normativas y políticas concretas para prevenir y responder a la ciberviolencia contra las niñas en todo el mundo. \n\nEl 70.º período de sesiones anual de la Comisión de la Condición Jurídica y Social de la Mujer (CSW70)\, se celebrará del 9 al 19 de marzo en la Sede de las Naciones Unidas en Nueva York. Es el mayor encuentro anual de las Naciones Unidas dedicado a la igualdad de género y los derechos de las mujeres. \nLa reunión llega en un punto de inflexión crítico. El Estado de derecho está siendo atacado. El espacio democrático se está reduciendo. Los derechos de las mujeres y niñas están retrocediendo\, pero los sistemas judiciales no las protegen. La igualdad jurídica sigue estando fuera del alcance de la mayoría de las mujeres y niñas del mundo\, que solo tienen el 64 por ciento de los derechos legales de los que disfrutan los hombres. La desigualdad jurídica tiene consecuencias largas y profundas\, que abarcan vidas\, generaciones y afectan a sociedades enteras. El tema prioritario de la CSW70\, “Garantizar y reforzar el acceso a la justicia para todas las mujeres y niñas”\, analiza lo que significa la desigualdad jurídica en la vida\, y recomienda una serie de acciones para cerrar esta brecha. \nMás información: Parlamento Europeo | ONU Mujeres – CSW70 \n 10:00 – 13:00 hora local de Nueva York \nVer en streaming aquí \nMás información (en inglés) aquí \nFuente de la imagen: evento anunciado en el que participa Lina Gálvez. En esta web se realiza un uso justo y no comercial de la imagen para la difusión del evento.
URL:https://linagalvez.eu/agenda/evento-prevenir-combatir-ciberviolencia-ninas-csw70/
CATEGORIES:Actualidad,FEMM,Parlamento
ATTACH;FMTTYPE=image/png:https://linagalvez.eu/wp-content/uploads/260311_CSW70-Cyberviolence.png
END:VEVENT
BEGIN:VEVENT
DTSTART;TZID=Europe/Madrid:20260312T163000
DTEND;TZID=Europe/Madrid:20260312T174500
DTSTAMP:20260419T204045
CREATED:20260306T103647Z
LAST-MODIFIED:20260311T103507Z
UID:13855-1773333000-1773337500@linagalvez.eu
SUMMARY:Reunión de alto nivel: 5º aniversario del Grupo de Amig@s para la Eliminación de la Violencia contra las Mujeres y las Niñas. CSW70.
DESCRIPTION:Lina Gálvez asistirá al evento de alto nivel con motivo del 5º aniversario del Grupo de Amig@s para la Eliminación de la Violencia contra las Mujeres y las Niñas: «Cinco años después: consolidar los logros y garantizar un impacto duradero»\, en el marco de la CSW70. \nObjetivos del evento: \n\nDebatir\, en el contexto actual de incertidumbre y déficit de financiación\, los compromisos que pueden asumir las integrantes del Grupo de Amig@s para prevenir y responder a la violencia contra las mujeres y las niñas.\nIdentificar programas y políticas eficaces para eliminar la violencia contra las mujeres y las niñas.\nExplorar el mejor uso de los recursos limitados para maximizar el impacto.\nFortalecer el apoyo a la sociedad civil y los movimientos de mujeres y destacar las formas de mantener y restablecer una financiación adecuada\, predecible y a largo plazo para su labor.\n\n\nEl 70.º período de sesiones anual de la Comisión de la Condición Jurídica y Social de la Mujer (CSW70)\, se celebrará del 9 al 19 de marzo en la Sede de las Naciones Unidas en Nueva York. Es el mayor encuentro anual de las Naciones Unidas dedicado a la igualdad de género y los derechos de las mujeres. \nLa reunión llega en un punto de inflexión crítico. El Estado de derecho está siendo atacado. El espacio democrático se está reduciendo. Los derechos de las mujeres y niñas están retrocediendo\, pero los sistemas judiciales no las protegen. La igualdad jurídica sigue estando fuera del alcance de la mayoría de las mujeres y niñas del mundo\, que solo tienen el 64 por ciento de los derechos legales de los que disfrutan los hombres. La desigualdad jurídica tiene consecuencias largas y profundas\, que abarcan vidas\, generaciones y afectan a sociedades enteras. El tema prioritario de la CSW70\, “Garantizar y reforzar el acceso a la justicia para todas las mujeres y niñas”\, analiza lo que significa la desigualdad jurídica en la vida\, y recomienda una serie de acciones para cerrar esta brecha. \nMás información: Parlamento Europeo | ONU Mujeres – CSW70 \n 11:30 – 14:45 hora local de Nueva York \nMás información (en inglés) aquí \nFuente de la imagen: evento anunciado en el que participa Lina Gálvez. En esta web se realiza un uso justo y no comercial de la imagen para la difusión del evento.
URL:https://linagalvez.eu/agenda/reunion-alto-nivel-group-friends-elimination-vawg-csw70/
CATEGORIES:Actualidad,FEMM,Parlamento
ATTACH;FMTTYPE=image/png:https://linagalvez.eu/wp-content/uploads/260312_CSW70-GoF-on-5th-Anniversary.png
END:VEVENT
BEGIN:VEVENT
DTSTART;TZID=Europe/Madrid:20260327T150000
DTEND;TZID=Europe/Madrid:20260327T160000
DTSTAMP:20260419T204045
CREATED:20260320T100148Z
LAST-MODIFIED:20260325T110430Z
UID:13954-1774623600-1774627200@linagalvez.eu
SUMMARY:Ponencia: "Allanando el camino: la integración de la igualdad de género en el MFP durante las negociaciones"
DESCRIPTION:Lina Gálvez dará la ponencia principal: «Allanando el camino: la integración de la igualdad de género en el MFP durante las negociaciones» como miembro del Parlamento Europeo\, presidenta de la Comisión de Derechos de la Mujer e Igualdad de Género\, en el marco de la conferencia «Presupuestos con perspectiva de género en el nuevo Marco Financiero Plurianual de la UE: lograr que los presupuestos contribuyan a la igualdad de género y a los derechos humanos de las mujeres en Europa«\, los días 26 y 27 de marzo de 2026 en la Universidad de Chipre. \nLa conferencia está organizada por la European Gender Budgeting Network (Red Europea de Presupuestos con Perspectiva de Género)\, en colaboración con la Cyprus Gender Budgeting Platform (Plataforma de Presupuestos con Perspectiva de Género de Chipre) y la Fundación FIMONOI; bajo el auspicio de la Presidencia de la República de Chipre del Consejo de la Unión Europea. \nMás información (en inglés) aquí
URL:https://linagalvez.eu/agenda/ponencia-allanando-camino-igualdad-genero-mfp-negociaciones/
CATEGORIES:Actualidad,FEMM,Parlamento
ATTACH;FMTTYPE=image/png:https://linagalvez.eu/wp-content/uploads/gender-budgeting-mfp-cyprus2026.png
END:VEVENT
END:VCALENDAR