BEGIN:VCALENDAR
VERSION:2.0
PRODID:-//Lina Gálvez - ECPv6.15.20//NONSGML v1.0//EN
CALSCALE:GREGORIAN
METHOD:PUBLISH
X-ORIGINAL-URL:https://linagalvez.eu
X-WR-CALDESC:Eventos para Lina Gálvez
REFRESH-INTERVAL;VALUE=DURATION:PT1H
X-Robots-Tag:noindex
X-PUBLISHED-TTL:PT1H
BEGIN:VTIMEZONE
TZID:Europe/Madrid
BEGIN:DAYLIGHT
TZOFFSETFROM:+0100
TZOFFSETTO:+0200
TZNAME:CEST
DTSTART:20230326T010000
END:DAYLIGHT
BEGIN:STANDARD
TZOFFSETFROM:+0200
TZOFFSETTO:+0100
TZNAME:CET
DTSTART:20231029T010000
END:STANDARD
BEGIN:DAYLIGHT
TZOFFSETFROM:+0100
TZOFFSETTO:+0200
TZNAME:CEST
DTSTART:20240331T010000
END:DAYLIGHT
BEGIN:STANDARD
TZOFFSETFROM:+0200
TZOFFSETTO:+0100
TZNAME:CET
DTSTART:20241027T010000
END:STANDARD
BEGIN:DAYLIGHT
TZOFFSETFROM:+0100
TZOFFSETTO:+0200
TZNAME:CEST
DTSTART:20250330T010000
END:DAYLIGHT
BEGIN:STANDARD
TZOFFSETFROM:+0200
TZOFFSETTO:+0100
TZNAME:CET
DTSTART:20251026T010000
END:STANDARD
END:VTIMEZONE
BEGIN:VEVENT
DTSTART;TZID=Europe/Madrid:20240511T080000
DTEND;TZID=Europe/Madrid:20240511T170000
DTSTAMP:20260425T163440
CREATED:20240511T073002Z
LAST-MODIFIED:20240513T085042Z
UID:9156-1715414400-1715446800@linagalvez.eu
SUMMARY:𝙀𝙪𝙧𝙤𝙥𝙖 𝘼𝙣𝙫𝙖𝙣𝙯𝙖\, 𝙎𝙚𝙫𝙞𝙡𝙡𝙖 𝘼𝙫𝙖𝙣𝙯𝙖
DESCRIPTION:La eurodiputada Lina Gálvez participará en la jornada 𝙀𝙪𝙧𝙤𝙥𝙖 𝘼𝙣𝙫𝙖𝙣𝙯𝙖\, 𝙎𝙚𝙫𝙞𝙡𝙡𝙖 𝘼𝙫𝙖𝙣𝙯𝙖 en Villamanrique de la Condesa\, evento que se desarrolla con el apoyo de Socialists and Democrats Group in the European Parliament y Socialistas Españoles en el Parlamento Europeo\nEl objetivo es dar a conocer los logros y avances conseguidos durante esta legislatura en el Parlamento Europeo desde una visión andaluza. Participaran también Javier Fernández \, Secretario General del PSOE en  la provincia de Sevilla y Juan Espadas\, Secretario General del PSOE-A
URL:https://linagalvez.eu/agenda/%f0%9d%99%80%f0%9d%99%aa%f0%9d%99%a7%f0%9d%99%a4%f0%9d%99%a5%f0%9d%99%96-%f0%9d%98%bc%f0%9d%99%a3%f0%9d%99%ab%f0%9d%99%96%f0%9d%99%a3%f0%9d%99%af%f0%9d%99%96-%f0%9d%99%8e%f0%9d%99%9a%f0%9d%99%ab/
CATEGORIES:Andalucía,Destacado
ATTACH;FMTTYPE=image/jpeg:https://linagalvez.eu/wp-content/uploads/2024/05/Sevilla-Avanza.jpeg
END:VEVENT
BEGIN:VEVENT
DTSTART;TZID=Europe/Madrid:20240520T090000
DTEND;TZID=Europe/Madrid:20240520T203000
DTSTAMP:20260425T163440
CREATED:20240511T073002Z
LAST-MODIFIED:20240518T084019Z
UID:9162-1716195600-1716237000@linagalvez.eu
SUMMARY:Lina Gálvez\, europarlamentaria\, visita la provincia de Almería este lunes
DESCRIPTION:Este lunes\, la europarlamentaria Lina Gálvez realizará una visita a la provincia de Almería con una apretada agenda centrada en la innovación\, la educación y el desarrollo local. \nLa jornada comenzará con una entrevista telefónica en el programa «La Brújula»\, donde Gálvez abordará temas de actualidad europea y su agenda en Almería. \nA las 11:30\, Gálvez participará en un acto en  la Universidad de Almería\, donde se reunirá con estudiantes universitarios. con el objetivo de acercar las instituciones europeas a l@s joven@s universitarios. \nGálvez también visitará una empresa de robótica e innovación aplicada a la agricultura\, fundada por un joven almeriense que ha trabajado con la NASA. La empresa se encuentra en una finca experimental de la Universidad de Almería\, donde el joven emprendedor desarrolla sus proyectos.. \nLa jornada concluirá con un encuentro junto a miembros del PSOE de Almería\, donde se abordaran diversas cuestiones tratadas en el Parlamento Europeo durante esta legislatura y que guardan relación con políticas y sociales relevantes para la provincia de Almería. \nLa visita de Lina Gálvez subraya su compromiso con la promoción de la innovación y la ciencia en Almería\, destacando la importancia de estas áreas para el desarrollo y el futuro de la provincia.
URL:https://linagalvez.eu/agenda/%f0%9d%99%80%f0%9d%99%aa%f0%9d%99%a7%f0%9d%99%a4%f0%9d%99%a5%f0%9d%99%96-%f0%9d%98%bc%f0%9d%99%a3%f0%9d%99%ab%f0%9d%99%96%f0%9d%99%a3%f0%9d%99%af%f0%9d%99%96-%f0%9d%99%8e%f0%9d%99%9a%f0%9d%99%ab-2/
CATEGORIES:Actualidad,Andalucía,Destacado,Parlamento,S&D
ATTACH;FMTTYPE=image/jpeg:https://linagalvez.eu/wp-content/uploads/2024/05/Mas-Europa.jpeg
END:VEVENT
BEGIN:VEVENT
DTSTART;TZID=Europe/Madrid:20240528T140000
DTEND;TZID=Europe/Madrid:20240528T203000
DTSTAMP:20260425T163440
CREATED:20240511T073002Z
LAST-MODIFIED:20240528T142736Z
UID:9277-1716904800-1716928200@linagalvez.eu
SUMMARY:Lina Gálvez\, europarlamentaria\, visita la provincia de Córdoba
DESCRIPTION:Este martes\, 28 de mayo de 2024\, la europarlamentaria y candidata a las elecciones europeas 2024\, Lina Gálvez\, asistirá a varios actos de campaña en los municipios de Baena y Palma del Río\, en la provincia de Córdoba. \nAgenda del Día \nBaena \n• Hora: 12:30 horas\n• Lugar: Frente al Ayuntamiento de Baena\n• Actividad: Atención a medios y visita a la empresa Coverpool\nAsistiran Lina Gálvez y María Jesús Serrano \nPalma del Río \n• Hora: 18:30 horas\n• Lugar: Empresa Pegasius de Palma del Río\n• Actividad: Atención a medios y visita a la empresa\n• Asistiran Lina Gálvez y Carlos Muñoz \nLina Gálvez atenderá a los medios de comunicación en ambos municipios y compartirá las propuestas y objetivos de su campaña para las próximas elecciones europeas.
URL:https://linagalvez.eu/agenda/mas-europa-cordoba/
CATEGORIES:Actualidad,Andalucía,Destacado,Parlamento,S&D
ATTACH;FMTTYPE=image/jpeg:https://linagalvez.eu/wp-content/uploads/2024/05/Lina-Galvez.-Mas-Europa.jpeg
END:VEVENT
BEGIN:VEVENT
DTSTART;TZID=Europe/Madrid:20240529T190000
DTEND;TZID=Europe/Madrid:20240529T203000
DTSTAMP:20260425T163440
CREATED:20240511T073002Z
LAST-MODIFIED:20240528T174114Z
UID:9293-1717009200-1717014600@linagalvez.eu
SUMMARY:Acto más Europa. Granada
DESCRIPTION:Este miércoles 29 de mayo\, la europarlamentaria y candidata socialista a las Elecciones Europeas 2024\, Lina Gálvez \, asistirá a un acto de campaña en Granada donde participará junto a Rodríguez Zapatero participa en un acto electoral en el Parque Federico García Lorca de Granada \nEl expresidente del Gobierno José Luis Rodríguez Zapatero interviene este miércoles junto a la candidata en las listas al Parlamento Europeo Lina Gálvez en un acto de campaña en Granada\, que tendrá lugar a partir de las 19\,00 horas en el Parque Federico García Lorca\, en el entorno del centro de la ciudad de la\nAlhambra.\nEsta cita de los socialistas en la campaña electoral de las europeas del próximo 9 de junio se produce en el inicio de los días grandes de la Feria del Corpus de Granada\, y está prevista en él la participación también del secretario general del PSOE de la ciudad de Granada\, Paco Cuenca\, y la vicesecretaria general del partido en el ámbito provincial\, la parlamentaria andaluza Olga Manzano. \n 
URL:https://linagalvez.eu/agenda/mas-europa-granada/
CATEGORIES:Actualidad,Andalucía,Destacado,Parlamento,S&D
ATTACH;FMTTYPE=image/jpeg:https://linagalvez.eu/wp-content/uploads/2024/05/LGM-Granada.jpeg
END:VEVENT
BEGIN:VEVENT
DTSTART;TZID=Europe/Madrid:20240530T090000
DTEND;TZID=Europe/Madrid:20240530T203000
DTSTAMP:20260425T163440
CREATED:20240511T073002Z
LAST-MODIFIED:20240526T184035Z
UID:9284-1717059600-1717101000@linagalvez.eu
SUMMARY:Lina Gálvez\, europarlamentaria\, visita la provincia de Cádiz
DESCRIPTION:Este jueves\, la europarlamentaria Lina Gálvez realizará una visita a la provincia de Cádiz con una apretada agenda centrada en la innovación\, la industria y el desarrollo local. \nLa visita de Lina Gálvez subraya su compromiso con la promoción de la innovación y la ciencia de la provincia de Cádiz\, destacando la importancia de estas áreas para el desarrollo y el futuro de la provincia.
URL:https://linagalvez.eu/agenda/%f0%9d%99%80%f0%9d%99%aa%f0%9d%99%a7%f0%9d%99%a4%f0%9d%99%a5%f0%9d%99%96-%f0%9d%98%bc%f0%9d%99%a3%f0%9d%99%ab%f0%9d%99%96%f0%9d%99%a3%f0%9d%99%af%f0%9d%99%96-%f0%9d%99%8e%f0%9d%99%9a%f0%9d%99%ab-2-2-2/
CATEGORIES:Actualidad,Andalucía,Parlamento,S&D
ATTACH;FMTTYPE=image/jpeg:https://linagalvez.eu/wp-content/uploads/2024/05/Lina-Galvez.-Mas-Europa.jpeg
END:VEVENT
BEGIN:VEVENT
DTSTART;TZID=Europe/Madrid:20240531T100000
DTEND;TZID=Europe/Madrid:20240531T140000
DTSTAMP:20260425T163440
CREATED:20240511T073002Z
LAST-MODIFIED:20240528T142804Z
UID:9286-1717149600-1717164000@linagalvez.eu
SUMMARY:Lina Gálvez\, europarlamentaria\, visita la provincia de Málaga
DESCRIPTION:El próximo viernes\, 31 de mayo de 2024\, se celebrará en Málaga\, un evento centrado en «La Economía Andaluza en la Unión Europea». Este acto\, organizado por el PSOE de Andalucía en el marco del foro de reflexiones sobre las propuestas del Gobierno Alternativo de Andalucía\, contará con la participación de destacados y destacadas líderes y personas expertas en economía. \nBienvenida\n– Juan Espadas: Secretario general del PSOE de Andalucía\n– Dani Pérez: Secretario general del PSOE de Málaga \nPaneles de Discusión \nFinanzas Públicas Justas como Palancas para el Desarrollo\n– Coordinadora: Alicia Murillo\, Portavoz de Economía del Grupo Socialista\n– Lina Gálvez: Catedrática de Historia Económica y Europarlamentaria\n– Diego Martínez: Catedrático de Economía\n– Gaspar Llanes: Presidente de la Comisión de Economía\, Hacienda y Fondos Europeos del Parlamento Andaluz \nHacia un Nuevo Modelo Productivo Sostenible con Más Productividad y Pleno Empleo\n– Coordinador: Miguel Sebastián\, Exministro de Industria\, Universidad Complutense\n– Ana Abreu: Experta en transformación digital y nuevas tecnologías\n– Isabel Aguilera: Portavoz de Turismo y Cultura del Grupo Socialista en el Parlamento de Andalucía \nPersonas expertas y Profesionales \nCon estas jornadas\, el PSOE de Andalucía abre un  escenario de trabajo apostando por la escucha activa y el trabajo con los profesionales\, que viene a sumarse a la labor de control al gobierno de Moreno Bonilla que se realiza desde el Parlamento andaluz. \nJunto a este foro centrado en economía\, se desarrollarán otros sobre materias tan relevantes para el futuro de Andalucía como los recursos hídricos o la educación\, acciones que recorrerán todas las provincias andaluzas. A ellos se sumarán reuniones de trabajo semanales o quincenales con expertos y profesionales para continuar configurando el Gobierno Alternativo para Andalucía en 2026 desde “la esperanza y la ilusión”\, tal como ha concluido el secretario general socialista andaluz. \nDetalles del Evento\n– Fecha: Viernes\, 31 de mayo de 2024\n– Hora: 11:00 horas\n– Lugar: Hotel Hilton Garden Inn\, Málaga
URL:https://linagalvez.eu/agenda/%f0%9d%99%80%f0%9d%99%aa%f0%9d%99%a7%f0%9d%99%a4%f0%9d%99%a5%f0%9d%99%96-%f0%9d%98%bc%f0%9d%99%a3%f0%9d%99%ab%f0%9d%99%96%f0%9d%99%a3%f0%9d%99%af%f0%9d%99%96-%f0%9d%99%8e%f0%9d%99%9a%f0%9d%99%ab-2-2-3/
CATEGORIES:Actualidad,Andalucía,Destacado,Parlamento,S&D
ATTACH;FMTTYPE=image/jpeg:https://linagalvez.eu/wp-content/uploads/2024/05/La-economia-andaluza-y-la-UE.jpeg
END:VEVENT
BEGIN:VEVENT
DTSTART;TZID=Europe/Madrid:20240531T180000
DTEND;TZID=Europe/Madrid:20240531T203000
DTSTAMP:20260425T163440
CREATED:20240511T073002Z
LAST-MODIFIED:20240529T152235Z
UID:9306-1717178400-1717187400@linagalvez.eu
SUMMARY:Acto más Europa. San Fernando
DESCRIPTION:Acto de Campaña: Elecciones Europeas 2024\nLa europarlamentaria y candidata socialista a las Elecciones Europeas 2024\, Lina Gálvez\, asistirá a un acto de campaña en San Fernando (Cádiz). Junto a ella\, participarán otras figuras destacadas del PSOE: \n\nPatricia Cavada\, Alcaldesa\nJuan Carlos Ruiz Boix\, Secretario General PSOE-A Cádiz\nMaría Jesús Montero\, Vicepresidenta primera y Ministra de Hacienda\n\nFecha: Viernes\, 31 de mayo\nHora: 19:00\nLugar: Centro de Congresos «Cortes de la Real Isla de León»\, San Fernando (Cádiz)
URL:https://linagalvez.eu/agenda/mas-europa-granada-2/
CATEGORIES:Actualidad,Andalucía,Destacado,Parlamento,S&D
ATTACH;FMTTYPE=image/jpeg:https://linagalvez.eu/wp-content/uploads/2024/05/San-Fernando.jpeg
END:VEVENT
END:VCALENDAR