BEGIN:VCALENDAR
VERSION:2.0
PRODID:-//Lina Gálvez - ECPv6.15.20//NONSGML v1.0//EN
CALSCALE:GREGORIAN
METHOD:PUBLISH
X-ORIGINAL-URL:https://linagalvez.eu
X-WR-CALDESC:Eventos para Lina Gálvez
REFRESH-INTERVAL;VALUE=DURATION:PT1H
X-Robots-Tag:noindex
X-PUBLISHED-TTL:PT1H
BEGIN:VTIMEZONE
TZID:Europe/Madrid
BEGIN:DAYLIGHT
TZOFFSETFROM:+0100
TZOFFSETTO:+0200
TZNAME:CEST
DTSTART:20250330T010000
END:DAYLIGHT
BEGIN:STANDARD
TZOFFSETFROM:+0200
TZOFFSETTO:+0100
TZNAME:CET
DTSTART:20251026T010000
END:STANDARD
BEGIN:DAYLIGHT
TZOFFSETFROM:+0100
TZOFFSETTO:+0200
TZNAME:CEST
DTSTART:20260329T010000
END:DAYLIGHT
BEGIN:STANDARD
TZOFFSETFROM:+0200
TZOFFSETTO:+0100
TZNAME:CET
DTSTART:20261025T010000
END:STANDARD
BEGIN:DAYLIGHT
TZOFFSETFROM:+0100
TZOFFSETTO:+0200
TZNAME:CEST
DTSTART:20270328T010000
END:DAYLIGHT
BEGIN:STANDARD
TZOFFSETFROM:+0200
TZOFFSETTO:+0100
TZNAME:CET
DTSTART:20271031T010000
END:STANDARD
END:VTIMEZONE
BEGIN:VEVENT
DTSTART;TZID=Europe/Madrid:20260304T153000
DTEND;TZID=Europe/Madrid:20260304T180000
DTSTAMP:20260421T000135
CREATED:20260227T103200Z
LAST-MODIFIED:20260304T104423Z
UID:13745-1772638200-1772647200@linagalvez.eu
SUMMARY:Evento S&D: contrarrestando la reacción global contra los derechos de las mujeres y la democracia
DESCRIPTION:Lina Gálvez participará en el evento organizado por el grupo de Socialistas y Demócratas del Parlamento Europeo\, con motivo del Día Internacional de las Mujeres: «Las S&D contrarrestando la reacción global contra los derechos de la mujer y la democracia» \nGálvez moderará el panel: «Contrarrestando el contragolpe digital – El impacto de la IA\, la incitación al odio y la desinformación sobre los derechos de las mujeres\, la salud\, la integridad y la participación en la vida pública y en el espacio online». \nMás información aquí \nVer en streaming aquí \nFuente de la imagen: evento anunciado en el que participa Lina Gálvez. En esta web se realiza un uso justo y no comercial de la imagen para la difusión del evento.
URL:https://linagalvez.eu/agenda/evento-sd-contrarrestando-reaccion-global-derechos-mujeres-democracia-8m-2026/
CATEGORIES:Actualidad,S&D
ATTACH;FMTTYPE=image/jpeg:https://linagalvez.eu/wp-content/uploads/sd-iwd_ecard_26-02-v9.jpg
END:VEVENT
END:VCALENDAR