BEGIN:VCALENDAR
VERSION:2.0
PRODID:-//Lina Gálvez - ECPv6.15.20//NONSGML v1.0//EN
CALSCALE:GREGORIAN
METHOD:PUBLISH
X-ORIGINAL-URL:https://linagalvez.eu
X-WR-CALDESC:Eventos para Lina Gálvez
REFRESH-INTERVAL;VALUE=DURATION:PT1H
X-Robots-Tag:noindex
X-PUBLISHED-TTL:PT1H
BEGIN:VTIMEZONE
TZID:Europe/Madrid
BEGIN:DAYLIGHT
TZOFFSETFROM:+0100
TZOFFSETTO:+0200
TZNAME:CEST
DTSTART:20240331T010000
END:DAYLIGHT
BEGIN:STANDARD
TZOFFSETFROM:+0200
TZOFFSETTO:+0100
TZNAME:CET
DTSTART:20241027T010000
END:STANDARD
BEGIN:DAYLIGHT
TZOFFSETFROM:+0100
TZOFFSETTO:+0200
TZNAME:CEST
DTSTART:20250330T010000
END:DAYLIGHT
BEGIN:STANDARD
TZOFFSETFROM:+0200
TZOFFSETTO:+0100
TZNAME:CET
DTSTART:20251026T010000
END:STANDARD
BEGIN:DAYLIGHT
TZOFFSETFROM:+0100
TZOFFSETTO:+0200
TZNAME:CEST
DTSTART:20260329T010000
END:DAYLIGHT
BEGIN:STANDARD
TZOFFSETFROM:+0200
TZOFFSETTO:+0100
TZNAME:CET
DTSTART:20261025T010000
END:STANDARD
END:VTIMEZONE
BEGIN:VEVENT
DTSTART;TZID=Europe/Madrid:20250325T170000
DTEND;TZID=Europe/Madrid:20250325T180000
DTSTAMP:20260421T175900
CREATED:20250321T184820Z
LAST-MODIFIED:20250323T190921Z
UID:11340-1742922000-1742925600@linagalvez.eu
SUMMARY:Reunión con la Representación Permanente de España ante la UE
DESCRIPTION:Lina Gálvez mantendrá una reunión con la Representación Permanente de España en la Unión Europea (REPER) en el Parlamento Europeo para tratar temas de igualdad y no discriminación en materias de Seguridad Social.
URL:https://linagalvez.eu/agenda/reunion-representacion-permanente-espana-ue-25-03/
CATEGORIES:Actualidad,Parlamento
ATTACH;FMTTYPE=image/jpeg:https://linagalvez.eu/wp-content/uploads/2021/12/reper-2023-08-16-103447.jpg
END:VEVENT
BEGIN:VEVENT
DTSTART;TZID=Europe/Madrid:20250331T150000
DTEND;TZID=Europe/Madrid:20250331T160000
DTSTAMP:20260421T175900
CREATED:20250328T184820Z
LAST-MODIFIED:20250331T082452Z
UID:11382-1743433200-1743436800@linagalvez.eu
SUMMARY:Reunión con la Representación Permanente de España ante la UE
DESCRIPTION:Lina Gálvez mantendrá una reunión con la Representación Permanente de España en la Unión Europea (REPER) en el Parlamento Europeo para tratar temas de igualdad y no discriminación en materias de Seguridad Social.
URL:https://linagalvez.eu/agenda/reunion-representacion-permanente-espana-ue-25-03-2/
CATEGORIES:Actualidad,Parlamento
ATTACH;FMTTYPE=image/jpeg:https://linagalvez.eu/wp-content/uploads/2021/12/reper-2023-08-16-103447.jpg
END:VEVENT
END:VCALENDAR