BEGIN:VCALENDAR
VERSION:2.0
PRODID:-//Lina Gálvez - ECPv6.15.20//NONSGML v1.0//EN
CALSCALE:GREGORIAN
METHOD:PUBLISH
X-WR-CALNAME:Lina Gálvez
X-ORIGINAL-URL:https://linagalvez.eu
X-WR-CALDESC:Eventos para Lina Gálvez
REFRESH-INTERVAL;VALUE=DURATION:PT1H
X-Robots-Tag:noindex
X-PUBLISHED-TTL:PT1H
BEGIN:VTIMEZONE
TZID:Europe/Madrid
BEGIN:DAYLIGHT
TZOFFSETFROM:+0100
TZOFFSETTO:+0200
TZNAME:CEST
DTSTART:20240331T010000
END:DAYLIGHT
BEGIN:STANDARD
TZOFFSETFROM:+0200
TZOFFSETTO:+0100
TZNAME:CET
DTSTART:20241027T010000
END:STANDARD
BEGIN:DAYLIGHT
TZOFFSETFROM:+0100
TZOFFSETTO:+0200
TZNAME:CEST
DTSTART:20250330T010000
END:DAYLIGHT
BEGIN:STANDARD
TZOFFSETFROM:+0200
TZOFFSETTO:+0100
TZNAME:CET
DTSTART:20251026T010000
END:STANDARD
BEGIN:DAYLIGHT
TZOFFSETFROM:+0100
TZOFFSETTO:+0200
TZNAME:CEST
DTSTART:20260329T010000
END:DAYLIGHT
BEGIN:STANDARD
TZOFFSETFROM:+0200
TZOFFSETTO:+0100
TZNAME:CET
DTSTART:20261025T010000
END:STANDARD
END:VTIMEZONE
BEGIN:VEVENT
DTSTART;TZID=Europe/Madrid:20250312T130000
DTEND;TZID=Europe/Madrid:20250312T133000
DTSTAMP:20260423T231932
CREATED:20250312T102018Z
LAST-MODIFIED:20250313T115835Z
UID:11217-1741784400-1741786200@linagalvez.eu
SUMMARY:Intervención en Pleno en el debate sobre la Unión de Cualificaciones
DESCRIPTION:Lina Gálvez tendrá la palabra en el debate «Unión de Cualificaciones: procurar más y mejores oportunidades para estudiar\, formarse o trabajar en la Unión y que nuestros talentos vuelvan a casa» del Parlamento Europeo. \nSe podrán seguir todas las sesiones del pleno en el siguiente enlace AQUÍ
URL:https://linagalvez.eu/agenda/intervencion-pleno-debate-union-skills/
CATEGORIES:Actualidad,FEMM,ITRE,Parlamento
ATTACH;FMTTYPE=image/webp:https://linagalvez.eu/wp-content/uploads/LGM-Pleno-Skills-202503112.webp
END:VEVENT
END:VCALENDAR