BEGIN:VCALENDAR
VERSION:2.0
PRODID:-//Lina Gálvez - ECPv6.15.20//NONSGML v1.0//EN
CALSCALE:GREGORIAN
METHOD:PUBLISH
X-WR-CALNAME:Lina Gálvez
X-ORIGINAL-URL:https://linagalvez.eu
X-WR-CALDESC:Eventos para Lina Gálvez
REFRESH-INTERVAL;VALUE=DURATION:PT1H
X-Robots-Tag:noindex
X-PUBLISHED-TTL:PT1H
BEGIN:VTIMEZONE
TZID:Europe/Madrid
BEGIN:DAYLIGHT
TZOFFSETFROM:+0100
TZOFFSETTO:+0200
TZNAME:CEST
DTSTART:20230326T010000
END:DAYLIGHT
BEGIN:STANDARD
TZOFFSETFROM:+0200
TZOFFSETTO:+0100
TZNAME:CET
DTSTART:20231029T010000
END:STANDARD
BEGIN:DAYLIGHT
TZOFFSETFROM:+0100
TZOFFSETTO:+0200
TZNAME:CEST
DTSTART:20240331T010000
END:DAYLIGHT
BEGIN:STANDARD
TZOFFSETFROM:+0200
TZOFFSETTO:+0100
TZNAME:CET
DTSTART:20241027T010000
END:STANDARD
BEGIN:DAYLIGHT
TZOFFSETFROM:+0100
TZOFFSETTO:+0200
TZNAME:CEST
DTSTART:20250330T010000
END:DAYLIGHT
BEGIN:STANDARD
TZOFFSETFROM:+0200
TZOFFSETTO:+0100
TZNAME:CET
DTSTART:20251026T010000
END:STANDARD
END:VTIMEZONE
BEGIN:VEVENT
DTSTART;TZID=Europe/Madrid:20241120T160000
DTEND;TZID=Europe/Madrid:20241120T170000
DTSTAMP:20260425T163326
CREATED:20241115T195833Z
LAST-MODIFIED:20241216T102134Z
UID:10173-1732118400-1732122000@linagalvez.eu
SUMMARY:Reunión del Panel STOA
DESCRIPTION:Lina Gálvez asistirá a la reunión del Panel for the Future of Science and Technology (STOA) como vicepresidenta.
URL:https://linagalvez.eu/agenda/panel-stoa-24-11/
CATEGORIES:Actualidad,STOA
ATTACH;FMTTYPE=image/jpeg:https://linagalvez.eu/wp-content/uploads/2021/05/STOA-28M-e1639394848457.jpg
END:VEVENT
BEGIN:VEVENT
DTSTART;TZID=Europe/Madrid:20241128T093000
DTEND;TZID=Europe/Madrid:20241128T110000
DTSTAMP:20260425T163326
CREATED:20241122T195833Z
LAST-MODIFIED:20241125T103430Z
UID:10252-1732786200-1732791600@linagalvez.eu
SUMMARY:Reunión del Panel STOA
DESCRIPTION:Lina Gálvez asistirá a la reunión del Panel STOA (European Parliament’s Science & Technology Options Assessment)\, del que es vicepresidenta.
URL:https://linagalvez.eu/agenda/panel-stoa-24-11-2/
CATEGORIES:Actualidad,STOA
ATTACH;FMTTYPE=image/jpeg:https://linagalvez.eu/wp-content/uploads/2021/05/STOA-28M-e1639394848457.jpg
END:VEVENT
END:VCALENDAR