BEGIN:VCALENDAR
VERSION:2.0
PRODID:-//Lina Gálvez - ECPv6.15.20//NONSGML v1.0//EN
CALSCALE:GREGORIAN
METHOD:PUBLISH
X-WR-CALNAME:Lina Gálvez
X-ORIGINAL-URL:https://linagalvez.eu
X-WR-CALDESC:Eventos para Lina Gálvez
REFRESH-INTERVAL;VALUE=DURATION:PT1H
X-Robots-Tag:noindex
X-PUBLISHED-TTL:PT1H
BEGIN:VTIMEZONE
TZID:Europe/Madrid
BEGIN:DAYLIGHT
TZOFFSETFROM:+0100
TZOFFSETTO:+0200
TZNAME:CEST
DTSTART:20240331T010000
END:DAYLIGHT
BEGIN:STANDARD
TZOFFSETFROM:+0200
TZOFFSETTO:+0100
TZNAME:CET
DTSTART:20241027T010000
END:STANDARD
BEGIN:DAYLIGHT
TZOFFSETFROM:+0100
TZOFFSETTO:+0200
TZNAME:CEST
DTSTART:20250330T010000
END:DAYLIGHT
BEGIN:STANDARD
TZOFFSETFROM:+0200
TZOFFSETTO:+0100
TZNAME:CET
DTSTART:20251026T010000
END:STANDARD
BEGIN:DAYLIGHT
TZOFFSETFROM:+0100
TZOFFSETTO:+0200
TZNAME:CEST
DTSTART:20260329T010000
END:DAYLIGHT
BEGIN:STANDARD
TZOFFSETFROM:+0200
TZOFFSETTO:+0100
TZNAME:CET
DTSTART:20261025T010000
END:STANDARD
END:VTIMEZONE
BEGIN:VEVENT
DTSTART;TZID=Europe/Madrid:20250429T160000
DTEND;TZID=Europe/Madrid:20250429T174500
DTSTAMP:20260423T071850
CREATED:20250424T101002Z
LAST-MODIFIED:20250429T084350Z
UID:11592-1745942400-1745948700@linagalvez.eu
SUMMARY:Evento “Territorios en Acción: comienza el viaje”
DESCRIPTION:Lina Gálvez moderará el segundo panel “Cómo prepararse para la situación geopolítica actual: preparación de la sociedad y digitalización” del evento “Territorios en Acción: comienza el viaje”. \nEste es el evento oficial de lanzamiento de una nueva acción preparatoria de la Comisión Europea sobre innovación para la transformación territorial\, con el apoyo del Parlamento Europeo\, en el que se debatirá sobre cómo impulsar la innovación y el crecimiento en los territorios europeos. \nMás información aquí \nFuente de la imagen: Comisión Europea. Evento anunciado en el que participa Lina Gálvez. En esta web se realiza un uso justo y no comercial de la imagen para la difusión del evento.
URL:https://linagalvez.eu/agenda/evento-territorios-accion-comienza-viaje/
CATEGORIES:Actualidad,Destacado,Parlamento
ATTACH;FMTTYPE=image/jpeg:https://linagalvez.eu/wp-content/uploads/EC_TT_Evento-3-2_3_1080x720_1.jpg
END:VEVENT
END:VCALENDAR