BEGIN:VCALENDAR
VERSION:2.0
PRODID:-//Lina Gálvez - ECPv6.15.20//NONSGML v1.0//EN
CALSCALE:GREGORIAN
METHOD:PUBLISH
X-WR-CALNAME:Lina Gálvez
X-ORIGINAL-URL:https://linagalvez.eu
X-WR-CALDESC:Eventos para Lina Gálvez
REFRESH-INTERVAL;VALUE=DURATION:PT1H
X-Robots-Tag:noindex
X-PUBLISHED-TTL:PT1H
BEGIN:VTIMEZONE
TZID:Europe/Madrid
BEGIN:DAYLIGHT
TZOFFSETFROM:+0100
TZOFFSETTO:+0200
TZNAME:CEST
DTSTART:20240331T010000
END:DAYLIGHT
BEGIN:STANDARD
TZOFFSETFROM:+0200
TZOFFSETTO:+0100
TZNAME:CET
DTSTART:20241027T010000
END:STANDARD
BEGIN:DAYLIGHT
TZOFFSETFROM:+0100
TZOFFSETTO:+0200
TZNAME:CEST
DTSTART:20250330T010000
END:DAYLIGHT
BEGIN:STANDARD
TZOFFSETFROM:+0200
TZOFFSETTO:+0100
TZNAME:CET
DTSTART:20251026T010000
END:STANDARD
BEGIN:DAYLIGHT
TZOFFSETFROM:+0100
TZOFFSETTO:+0200
TZNAME:CEST
DTSTART:20260329T010000
END:DAYLIGHT
BEGIN:STANDARD
TZOFFSETFROM:+0200
TZOFFSETTO:+0100
TZNAME:CET
DTSTART:20261025T010000
END:STANDARD
END:VTIMEZONE
BEGIN:VEVENT
DTSTART;TZID=Europe/Madrid:20250519T113000
DTEND;TZID=Europe/Madrid:20250519T123000
DTSTAMP:20260423T105741
CREATED:20250515T174820Z
LAST-MODIFIED:20250519T072922Z
UID:11773-1747654200-1747657800@linagalvez.eu
SUMMARY:Reunión con la Representación Permanente de España ante la UE
DESCRIPTION:Lina Gálvez se reunirá con el Consejero de Ciencia e Innovación en la Representación Permanente de España ante la UE (REPER)\, David González Martínez.
URL:https://linagalvez.eu/agenda/reunion-representacion-permanente-espana-ue-25-05/
CATEGORIES:Actualidad,Parlamento
ATTACH;FMTTYPE=image/jpeg:https://linagalvez.eu/wp-content/uploads/2021/12/reper-2023-08-16-103447.jpg
END:VEVENT
BEGIN:VEVENT
DTSTART;TZID=Europe/Madrid:20250521T090000
DTEND;TZID=Europe/Madrid:20250521T143000
DTSTAMP:20260423T105741
CREATED:20250516T084748Z
LAST-MODIFIED:20250519T094125Z
UID:11797-1747818000-1747837800@linagalvez.eu
SUMMARY:Panel de alto nivel “25 años de la Resolución 1325 de la ONU: Nuevos desafíos\, compromiso renovado y el futuro de la agenda de las mujeres\, la paz y la seguridad”
DESCRIPTION:Lina Gálvez asistirá como participante al panel de alto nivel organizado por la Presidencia polaca del Consejo de la UE\, el Ministerio de Asuntos Exteriores de Bélgica\, la Unión Europea y ONU Mujeres. El encuentro conmemora los 25 años de la Resolución 1325 sobre Mujeres\, Paz y Seguridad del Consejo de Seguridad de las Naciones Unidas\, así como los 30 años de la Declaración de Beijing\, y busca renovar compromisos frente a los retos actuales y futuros de la agenda WPS. \nFuente de la imagen: ONU Mujeres\, 2025. Women’s Rights in Review 30 Years After Beijing. En esta web se realiza un uso justo y no comercial de la imagen para la difusión del evento.
URL:https://linagalvez.eu/agenda/panel-alto-nivel-25-anos-resolucion-1325-onu-futuro-agenda-mujeres-paz-seguridad/
CATEGORIES:Actualidad,FEMM
ATTACH;FMTTYPE=image/webp:https://linagalvez.eu/wp-content/uploads/Beijing30women3.webp
END:VEVENT
BEGIN:VEVENT
DTSTART;TZID=Europe/Madrid:20250522T120000
DTEND;TZID=Europe/Madrid:20250522T123000
DTSTAMP:20260423T105741
CREATED:20250516T171424Z
LAST-MODIFIED:20250519T100859Z
UID:11807-1747915200-1747917000@linagalvez.eu
SUMMARY:Reunión con el Centro de Satélites de la Unión Europea (SatCen)
DESCRIPTION:Lina Gálvez mantendrá un encuentro con el Centro de Satélites de la Unión Europea para tratar cuestiones relacionadas con innovación tecnológica\, autonomía estratégica y capacidades satelitales en el contexto europeo. \nFuente de la imagen: SatCen. En esta web se realiza un uso justo y no comercial de la imagen para la difusión del evento.
URL:https://linagalvez.eu/agenda/reunion-centro-satelites-ue-satcen/
CATEGORIES:Actualidad,Autonomía estratégica,ITRE,Parlamento
ATTACH;FMTTYPE=image/png:https://linagalvez.eu/wp-content/uploads/EU-SatCen-Annual-Report-2019.png
END:VEVENT
BEGIN:VEVENT
DTSTART;TZID=Europe/Madrid:20250522T150000
DTEND;TZID=Europe/Madrid:20250522T153000
DTSTAMP:20260423T105741
CREATED:20250516T102404Z
LAST-MODIFIED:20250519T103151Z
UID:11815-1747926000-1747927800@linagalvez.eu
SUMMARY:Reunión con Novo Nordisk
DESCRIPTION:Lina Gálvez se reunirá con representantes de la empresa farmacéutica danesa Novo Nordisk A/S para abordar asuntos vinculados al sector sanitario y la investigación biomédica. \nFuente de la imagen: Wikipedia. En esta web se realiza un uso justo y no comercial de la imagen para la difusión de la reunión.
URL:https://linagalvez.eu/agenda/reunion-con-novo-nordisk/
CATEGORIES:Actualidad,ITRE,Parlamento
ATTACH;FMTTYPE=image/jpeg:https://linagalvez.eu/wp-content/uploads/Novo_Nordisk_headquarters_building_Denmark-scaled.jpg
END:VEVENT
END:VCALENDAR