BEGIN:VCALENDAR
VERSION:2.0
PRODID:-//Lina Gálvez - ECPv6.15.20//NONSGML v1.0//EN
CALSCALE:GREGORIAN
METHOD:PUBLISH
X-WR-CALNAME:Lina Gálvez
X-ORIGINAL-URL:https://linagalvez.eu
X-WR-CALDESC:Eventos para Lina Gálvez
REFRESH-INTERVAL;VALUE=DURATION:PT1H
X-Robots-Tag:noindex
X-PUBLISHED-TTL:PT1H
BEGIN:VTIMEZONE
TZID:Europe/Madrid
BEGIN:DAYLIGHT
TZOFFSETFROM:+0100
TZOFFSETTO:+0200
TZNAME:CEST
DTSTART:20240331T010000
END:DAYLIGHT
BEGIN:STANDARD
TZOFFSETFROM:+0200
TZOFFSETTO:+0100
TZNAME:CET
DTSTART:20241027T010000
END:STANDARD
BEGIN:DAYLIGHT
TZOFFSETFROM:+0100
TZOFFSETTO:+0200
TZNAME:CEST
DTSTART:20250330T010000
END:DAYLIGHT
BEGIN:STANDARD
TZOFFSETFROM:+0200
TZOFFSETTO:+0100
TZNAME:CET
DTSTART:20251026T010000
END:STANDARD
BEGIN:DAYLIGHT
TZOFFSETFROM:+0100
TZOFFSETTO:+0200
TZNAME:CEST
DTSTART:20260329T010000
END:DAYLIGHT
BEGIN:STANDARD
TZOFFSETFROM:+0200
TZOFFSETTO:+0100
TZNAME:CET
DTSTART:20261025T010000
END:STANDARD
END:VTIMEZONE
BEGIN:VEVENT
DTSTART;TZID=Europe/Madrid:20251005T013000
DTEND;TZID=Europe/Madrid:20251005T020000
DTSTAMP:20260423T024910
CREATED:20250926T081309Z
LAST-MODIFIED:20250929T085615Z
UID:12504-1759627800-1759629600@linagalvez.eu
SUMMARY:Reunión con el Embajador de la UE en Japón\, Jean-Eric Paquet
DESCRIPTION:La eurodiputada Lina Gálvez se reunirá con el embajador de la Unión Europea en Japón\, Jean-Eric Paquet. \n 8:30 – 9:00 hora local de Kioto
URL:https://linagalvez.eu/agenda/reunion-embajador-ue-en-japon-jean-eric-paquet/
CATEGORIES:Actualidad,STOA
ATTACH;FMTTYPE=image/jpeg:https://linagalvez.eu/wp-content/uploads/2024/09/EU-Japan-EP-reource-2018.jpg
END:VEVENT
BEGIN:VEVENT
DTSTART;TZID=Europe/Madrid:20251005T030000
DTEND;TZID=Europe/Madrid:20251005T040000
DTSTAMP:20260423T024910
CREATED:20250926T081309Z
LAST-MODIFIED:20250929T090502Z
UID:12506-1759633200-1759636800@linagalvez.eu
SUMMARY:Participación en la apertura del STS Forum 2025
DESCRIPTION:La eurodiputada Lina Gálvez participará en la apertura del STS Forum 2025\, con la presencia del los emperadores japoneses y la comisaria Zaharieva: Mirando al mundo en 2030 y más allá – El futuro de la ciencia y la tecnología y de la humanidad). \nOpening Plenary Session: Looking at the World in 2030 and beyond – The Future of Science and Technology and Humankind \n 10:00 – 11:00 hora local de Kioto \nMás información (en inglés) aquí \nFuente de la imagen: evento anunciado en el que participa Lina Gálvez. En esta web se realiza un uso justo y no comercial de la imagen para la difusión del evento.
URL:https://linagalvez.eu/agenda/participacion-apertura-sts-forum-2025/
CATEGORIES:Actualidad,STOA
ATTACH;FMTTYPE=image/png:https://linagalvez.eu/wp-content/uploads/2023_6.png
END:VEVENT
BEGIN:VEVENT
DTSTART;TZID=Europe/Madrid:20251006T034000
DTEND;TZID=Europe/Madrid:20251006T054000
DTSTAMP:20260423T024910
CREATED:20250926T081309Z
LAST-MODIFIED:20250929T131717Z
UID:12510-1759722000-1759729200@linagalvez.eu
SUMMARY:Sesión sobre el impacto social de la IA en la educación y el conocimiento en el STS Forum.
DESCRIPTION:Lina Gálvez presidirá la sesión sobre el impacto social de la IA\, específicamente en educación y el conocimiento del STS Forum 2025. \n 10:40-12:40 hora local de Kioto \nMás información (en inglés) aquí \nFuente de la imagen: evento anunciado en el que participa Lina Gálvez. En esta web se realiza un uso justo y no comercial de la imagen para la difusión del evento.
URL:https://linagalvez.eu/agenda/sesion-impacto-social-ia-educacion-conocimiento-sts-forum/
CATEGORIES:Actualidad,Destacado,STOA
ATTACH;FMTTYPE=image/png:https://linagalvez.eu/wp-content/uploads/2023_6.png
END:VEVENT
BEGIN:VEVENT
DTSTART;TZID=Europe/Madrid:20251014T150000
DTEND;TZID=Europe/Madrid:20251014T160000
DTSTAMP:20260423T024910
CREATED:20251013T062259Z
LAST-MODIFIED:20251013T181259Z
UID:12598-1760454000-1760457600@linagalvez.eu
SUMMARY:Declaración del Comité Europeo de las Regiones (COR) sobre el fortalecimiento de los derechos de las mujeres en la UE
DESCRIPTION:La Eurodiputada Lina Gálvez\, en su calidad de Presidenta del Comité FEMM del Parlamento Europeo\, está invitada a hacer una declaración en relación a la opinión “Strengthening women’s rights in the EU” («El fortalecimiento de los derechos de las mujeres en la UE»)\, ante la 168º sesión plenaria del Comité Europeo de las Regiones (CoR). \nMás información (en inglés) aquí \nFuente de la imagen: Lina Gálvez en el CoR. En esta web se realiza un uso justo y no comercial de la imagen para la difusión del evento.
URL:https://linagalvez.eu/agenda/declaracion-comite-europeo-regiones-cor-fortalecimiento-derechos-mujeres-ue/
CATEGORIES:Actualidad,Destacado,FEMM,Parlamento
ATTACH;FMTTYPE=image/jpeg:https://linagalvez.eu/wp-content/uploads/2023/12/Lina-Galvez_COMITE-REGIONES-PE_30nov2023_photo.jpg
END:VEVENT
BEGIN:VEVENT
DTSTART;TZID=Europe/Madrid:20251014T163000
DTEND;TZID=Europe/Madrid:20251014T173000
DTSTAMP:20260423T024910
CREATED:20251013T063244Z
LAST-MODIFIED:20251017T114721Z
UID:12601-1760459400-1760463000@linagalvez.eu
SUMMARY:Reunión con el JRC sobre la acción preparatoria "Innovación para la transformación basada en el territorio"
DESCRIPTION:La eurodiputada Lina Gálvez promueve esta reunión con el Centro Común de Investigación (JRC) con motivo de la implementación de la acción preparatoria ‘Innovation for place-based transformation’. \nLa acción preparatoria (2024-2026) de la Unión Europea ‘Innovación para la transformación basada en el territorio’ tiene por objeto facilitar y promover el enfoque de innovación transformadora mediante actividades de sensibilización\, desarrollo de capacidades y experimentación con participantes seleccionados. \nPretende empoderar a los territorios para que apoyen a los responsables políticos en el desarrollo de capacidades y el diseño y la aplicación de enfoques transformadores. En concreto\, tiene por objeto: \n\nSensibilizar y mejorar la comprensión de las políticas de innovación transformadora.\nMejorar la preparación de los territorios para aplicar políticas de innovación transformadora mediante el desarrollo de nuevas capacidades.\nExperimentar con enfoques participativos e innovadores para hacer frente a los complejos retos de la transición hacia la sostenibilidad.\nInformar el debate sobre un marco político de la UE adecuado para el futuro más allá de 2027.\n\nMás información (en inglés) aquí \nFuente de la imagen: evento anunciado en el que participa Lina Gálvez. En esta web se realiza un uso justo y no comercial de la imagen para la difusión del evento.
URL:https://linagalvez.eu/agenda/reunion-joint-research-center-jrc-accion-preparatoria-innovacion-transformacion-territorio-2025-10/
CATEGORIES:Actualidad,Andalucía,ITRE,Parlamento,STOA
ATTACH;FMTTYPE=image/jpeg:https://linagalvez.eu/wp-content/uploads/TransformingTerritories_WebBanners-01-Small_0.jpg
END:VEVENT
BEGIN:VEVENT
DTSTART;TZID=Europe/Madrid:20251015T090000
DTEND;TZID=Europe/Madrid:20251015T101500
DTSTAMP:20260423T024910
CREATED:20251013T063804Z
LAST-MODIFIED:20251017T114608Z
UID:12605-1760518800-1760523300@linagalvez.eu
SUMMARY:Fórum Europa Bruselas con Roxana Mînzatu
DESCRIPTION:La eurodiputada Lina Gálvez asistirá al Fórum Europa Bruselas\, desayuno informativo con Roxana Mînzatu\, Vicepresidenta Ejecutiva de Derechos y Capacidades Sociales\, Empleo de Calidad y Preparación\, de la Comisión Europea. \nEl evento será transmitido telemáticamente a través del canal de YouTube de Nueva Economía Fórum. \nMás información (en inglés) aquí \nVer en streaming aquí
URL:https://linagalvez.eu/agenda/forum-europa-bruselas-roxana-minzatu-ce-2025-10/
CATEGORIES:Actualidad,EMPL,Parlamento
ATTACH;FMTTYPE=image/png:https://linagalvez.eu/wp-content/uploads/2025-10-15_forum-europa-roxana-minzatu.png
END:VEVENT
END:VCALENDAR