BEGIN:VCALENDAR
VERSION:2.0
PRODID:-//Lina Gálvez - ECPv6.15.20//NONSGML v1.0//EN
CALSCALE:GREGORIAN
METHOD:PUBLISH
X-WR-CALNAME:Lina Gálvez
X-ORIGINAL-URL:https://linagalvez.eu
X-WR-CALDESC:Eventos para Lina Gálvez
REFRESH-INTERVAL;VALUE=DURATION:PT1H
X-Robots-Tag:noindex
X-PUBLISHED-TTL:PT1H
BEGIN:VTIMEZONE
TZID:Europe/Madrid
BEGIN:DAYLIGHT
TZOFFSETFROM:+0100
TZOFFSETTO:+0200
TZNAME:CEST
DTSTART:20250330T010000
END:DAYLIGHT
BEGIN:STANDARD
TZOFFSETFROM:+0200
TZOFFSETTO:+0100
TZNAME:CET
DTSTART:20251026T010000
END:STANDARD
BEGIN:DAYLIGHT
TZOFFSETFROM:+0100
TZOFFSETTO:+0200
TZNAME:CEST
DTSTART:20260329T010000
END:DAYLIGHT
BEGIN:STANDARD
TZOFFSETFROM:+0200
TZOFFSETTO:+0100
TZNAME:CET
DTSTART:20261025T010000
END:STANDARD
BEGIN:DAYLIGHT
TZOFFSETFROM:+0100
TZOFFSETTO:+0200
TZNAME:CEST
DTSTART:20270328T010000
END:DAYLIGHT
BEGIN:STANDARD
TZOFFSETFROM:+0200
TZOFFSETTO:+0100
TZNAME:CET
DTSTART:20271031T010000
END:STANDARD
END:VTIMEZONE
BEGIN:VEVENT
DTSTART;TZID=Europe/Madrid:20260217T123000
DTEND;TZID=Europe/Madrid:20260217T143000
DTSTAMP:20260424T151557
CREATED:20260212T195513Z
LAST-MODIFIED:20260216T111239Z
UID:13578-1771331400-1771338600@linagalvez.eu
SUMMARY:Visita al Café Sheroes Hangout en Delhi\, gestionado por sobrevivientes de ataques con ácido
DESCRIPTION:Lina Gálvez\, visitará el Café Sheroes Hangout: un café en Delhi gestionado por sobrevivientes de ataques con ácido\, como parte de la misión FEMM a la India\, en calidad de presidenta de la Delegación de Derechos de las Mujeres e Igualdad de Género del Parlamento Europeo. \n 17:00 – 19:00 hora local de Kolkata \nFuente de la imagen: Google maps. En esta web se realiza un uso justo y no comercial de la imagen para la difusión del evento.
URL:https://linagalvez.eu/agenda/visita-cafe-sheroes-hangout-delhi-mision-femm-india-2026/
CATEGORIES:Actualidad,FEMM,Parlamento
ATTACH;FMTTYPE=image/webp:https://linagalvez.eu/wp-content/uploads/2025-11-18-Cafe-Sheroes-Hangout-Delhi.webp
END:VEVENT
END:VCALENDAR