BEGIN:VCALENDAR
VERSION:2.0
PRODID:-//Lina Gálvez - ECPv6.15.20//NONSGML v1.0//EN
CALSCALE:GREGORIAN
METHOD:PUBLISH
X-WR-CALNAME:Lina Gálvez
X-ORIGINAL-URL:https://linagalvez.eu
X-WR-CALDESC:Eventos para Lina Gálvez
REFRESH-INTERVAL;VALUE=DURATION:PT1H
X-Robots-Tag:noindex
X-PUBLISHED-TTL:PT1H
BEGIN:VTIMEZONE
TZID:Europe/Madrid
BEGIN:DAYLIGHT
TZOFFSETFROM:+0100
TZOFFSETTO:+0200
TZNAME:CEST
DTSTART:20240331T010000
END:DAYLIGHT
BEGIN:STANDARD
TZOFFSETFROM:+0200
TZOFFSETTO:+0100
TZNAME:CET
DTSTART:20241027T010000
END:STANDARD
BEGIN:DAYLIGHT
TZOFFSETFROM:+0100
TZOFFSETTO:+0200
TZNAME:CEST
DTSTART:20250330T010000
END:DAYLIGHT
BEGIN:STANDARD
TZOFFSETFROM:+0200
TZOFFSETTO:+0100
TZNAME:CET
DTSTART:20251026T010000
END:STANDARD
BEGIN:DAYLIGHT
TZOFFSETFROM:+0100
TZOFFSETTO:+0200
TZNAME:CEST
DTSTART:20260329T010000
END:DAYLIGHT
BEGIN:STANDARD
TZOFFSETFROM:+0200
TZOFFSETTO:+0100
TZNAME:CET
DTSTART:20261025T010000
END:STANDARD
END:VTIMEZONE
BEGIN:VEVENT
DTSTART;TZID=Europe/Madrid:20250708T123000
DTEND;TZID=Europe/Madrid:20250708T130000
DTSTAMP:20260423T120008
CREATED:20250704T091254Z
LAST-MODIFIED:20250707T070153Z
UID:12200-1751977800-1751979600@linagalvez.eu
SUMMARY:Votación plenario Parlamento
DESCRIPTION:
URL:https://linagalvez.eu/agenda/votacion-plenario-parlamento-25-07/
CATEGORIES:Actualidad,Parlamento
ATTACH;FMTTYPE=image/jpeg:https://linagalvez.eu/wp-content/uploads/Votando-Parlamento-Estrasburgo.jpg
END:VEVENT
BEGIN:VEVENT
DTSTART;TZID=Europe/Madrid:20250709T120000
DTEND;TZID=Europe/Madrid:20250709T123000
DTSTAMP:20260423T120008
CREATED:20250704T091254Z
LAST-MODIFIED:20250707T073907Z
UID:12218-1752062400-1752064200@linagalvez.eu
SUMMARY:Votación plenario Parlamento
DESCRIPTION:
URL:https://linagalvez.eu/agenda/votacion-plenario-parlamento-25-07-2/
CATEGORIES:Actualidad,Parlamento
ATTACH;FMTTYPE=image/png:https://linagalvez.eu/wp-content/uploads/2024/09/Captura-de-pantalla-2024-09-02-153140.png
END:VEVENT
BEGIN:VEVENT
DTSTART;TZID=Europe/Madrid:20250710T120000
DTEND;TZID=Europe/Madrid:20250710T123000
DTSTAMP:20260423T120008
CREATED:20250704T091254Z
LAST-MODIFIED:20250707T071437Z
UID:12208-1752148800-1752150600@linagalvez.eu
SUMMARY:Votación plenario Parlamento
DESCRIPTION:
URL:https://linagalvez.eu/agenda/votacion-plenario-parlamento-25-07-3/
CATEGORIES:Actualidad,Parlamento
ATTACH;FMTTYPE=image/jpeg:https://linagalvez.eu/wp-content/uploads/2021/02/hemicycle_str.jpg
END:VEVENT
END:VCALENDAR