BEGIN:VCALENDAR
VERSION:2.0
PRODID:-//Lina Gálvez - ECPv6.15.20//NONSGML v1.0//EN
CALSCALE:GREGORIAN
METHOD:PUBLISH
X-ORIGINAL-URL:https://linagalvez.eu
X-WR-CALDESC:Eventos para Lina Gálvez
REFRESH-INTERVAL;VALUE=DURATION:PT1H
X-Robots-Tag:noindex
X-PUBLISHED-TTL:PT1H
BEGIN:VTIMEZONE
TZID:Europe/Madrid
BEGIN:DAYLIGHT
TZOFFSETFROM:+0100
TZOFFSETTO:+0200
TZNAME:CEST
DTSTART:20240331T010000
END:DAYLIGHT
BEGIN:STANDARD
TZOFFSETFROM:+0200
TZOFFSETTO:+0100
TZNAME:CET
DTSTART:20241027T010000
END:STANDARD
BEGIN:DAYLIGHT
TZOFFSETFROM:+0100
TZOFFSETTO:+0200
TZNAME:CEST
DTSTART:20250330T010000
END:DAYLIGHT
BEGIN:STANDARD
TZOFFSETFROM:+0200
TZOFFSETTO:+0100
TZNAME:CET
DTSTART:20251026T010000
END:STANDARD
BEGIN:DAYLIGHT
TZOFFSETFROM:+0100
TZOFFSETTO:+0200
TZNAME:CEST
DTSTART:20260329T010000
END:DAYLIGHT
BEGIN:STANDARD
TZOFFSETFROM:+0200
TZOFFSETTO:+0100
TZNAME:CET
DTSTART:20261025T010000
END:STANDARD
END:VTIMEZONE
BEGIN:VEVENT
DTSTART;TZID=Europe/Madrid:20251125T120000
DTEND;TZID=Europe/Madrid:20251125T123000
DTSTAMP:20260423T004016
CREATED:20251121T101254Z
LAST-MODIFIED:20251124T141209Z
UID:13020-1764072000-1764073800@linagalvez.eu
SUMMARY:Votación plenario Parlamento
DESCRIPTION:
URL:https://linagalvez.eu/agenda/votacion-plenario-parlamento-25-11/
CATEGORIES:Actualidad,Parlamento
ATTACH;FMTTYPE=image/jpeg:https://linagalvez.eu/wp-content/uploads/Votando-Parlamento-Estrasburgo.jpg
END:VEVENT
BEGIN:VEVENT
DTSTART;TZID=Europe/Madrid:20251126T120000
DTEND;TZID=Europe/Madrid:20251126T123000
DTSTAMP:20260423T004016
CREATED:20251121T101254Z
LAST-MODIFIED:20251124T141257Z
UID:13022-1764158400-1764160200@linagalvez.eu
SUMMARY:Votación plenario Parlamento
DESCRIPTION:
URL:https://linagalvez.eu/agenda/votacion-plenario-parlamento-25-11-2/
CATEGORIES:Actualidad,Parlamento
ATTACH;FMTTYPE=image/png:https://linagalvez.eu/wp-content/uploads/2024/09/Captura-de-pantalla-2024-09-02-153140.png
END:VEVENT
END:VCALENDAR