BEGIN:VCALENDAR
VERSION:2.0
PRODID:-//Lina Gálvez - ECPv6.15.20//NONSGML v1.0//EN
CALSCALE:GREGORIAN
METHOD:PUBLISH
X-ORIGINAL-URL:https://linagalvez.eu
X-WR-CALDESC:Eventos para Lina Gálvez
REFRESH-INTERVAL;VALUE=DURATION:PT1H
X-Robots-Tag:noindex
X-PUBLISHED-TTL:PT1H
BEGIN:VTIMEZONE
TZID:Europe/Madrid
BEGIN:DAYLIGHT
TZOFFSETFROM:+0100
TZOFFSETTO:+0200
TZNAME:CEST
DTSTART:20250330T010000
END:DAYLIGHT
BEGIN:STANDARD
TZOFFSETFROM:+0200
TZOFFSETTO:+0100
TZNAME:CET
DTSTART:20251026T010000
END:STANDARD
BEGIN:DAYLIGHT
TZOFFSETFROM:+0100
TZOFFSETTO:+0200
TZNAME:CEST
DTSTART:20260329T010000
END:DAYLIGHT
BEGIN:STANDARD
TZOFFSETFROM:+0200
TZOFFSETTO:+0100
TZNAME:CET
DTSTART:20261025T010000
END:STANDARD
BEGIN:DAYLIGHT
TZOFFSETFROM:+0100
TZOFFSETTO:+0200
TZNAME:CEST
DTSTART:20270328T010000
END:DAYLIGHT
BEGIN:STANDARD
TZOFFSETFROM:+0200
TZOFFSETTO:+0100
TZNAME:CET
DTSTART:20271031T010000
END:STANDARD
END:VTIMEZONE
BEGIN:VEVENT
DTSTART;TZID=Europe/Madrid:20260114T183000
DTEND;TZID=Europe/Madrid:20260114T203000
DTSTAMP:20260423T112409
CREATED:20260107T102540Z
LAST-MODIFIED:20260113T100150Z
UID:13263-1768415400-1768422600@linagalvez.eu
SUMMARY:Recepción de nuevo año del Consejo Europeo y la Comisión Europea
DESCRIPTION:La Eurodiputada Lina Gálvez asistirá a la recepción de nuevo año\, invitada por António Costa (Presidente del Consejo Europeo) y Ursula von der Leyen (Presidenta de la Comisión Europea).
URL:https://linagalvez.eu/agenda/recepcion-nuevo-ano-consejo-y-comision-europea-2026/
CATEGORIES:Actualidad,Parlamento
ATTACH;FMTTYPE=image/jpeg:https://linagalvez.eu/wp-content/uploads/2024/10/EU-Enlargement-package-scaled-1.jpg
END:VEVENT
BEGIN:VEVENT
DTSTART;TZID=Europe/Madrid:20260119T170000
DTEND;TZID=Europe/Madrid:20260122T140000
DTSTAMP:20260423T112409
CREATED:20260116T094450Z
LAST-MODIFIED:20260120T130548Z
UID:13300-1768842000-1769090400@linagalvez.eu
SUMMARY:Pleno del Parlamento Europeo. Estrasburgo
DESCRIPTION:Destacados del pleno. Estrasburgo \n\nLunes 19 de enero de 2026 \nAyuda humanitaria en tiempos de policrisis: reafirmar nuestros principios para una respuesta más eficaz y ambiciosa a las crisis humanitarias \n\nMartes 20 de enero de 2026 \nDebate sobre deepfakes e IA: lucha contra la explotación sexual en redes sociales \nDerechos Humanos: la represión contra manifestantes en Irán \n\nMiércoles 21 de enero de 2026 \nDebate Intervención sobre una Europa más fuerte y soberana ante las tensiones geopolíticas actuales \n\nSe podrán seguir las sesiones en el siguiente enlace AQUÍ
URL:https://linagalvez.eu/agenda/pleno-parlamento-europeo-estrasburgo-2026-01/
CATEGORIES:Actualidad,Parlamento
ATTACH;FMTTYPE=image/jpeg:https://linagalvez.eu/wp-content/uploads/2020/03/European_Parliament_Strasbourg_Hemicycle_-_Diliff-2-scaled.jpg
END:VEVENT
BEGIN:VEVENT
DTSTART;TZID=Europe/Madrid:20260121T090000
DTEND;TZID=Europe/Madrid:20260121T120000
DTSTAMP:20260423T112409
CREATED:20260116T111816Z
LAST-MODIFIED:20260120T125926Z
UID:13346-1768986000-1768996800@linagalvez.eu
SUMMARY:Debate Intervención sobre una Europa más fuerte y soberana ante las tensiones geopolíticas actuales
DESCRIPTION:La eurodiputada Lina Gálvez tomará la palabra en el debate ‘El Consejo Europeo: Intervención sobre una Europa más fuerte y soberana ante las tensiones geopolíticas actuales’\, en el plenario del Parlamento Europeo en Estrasburgo. \nVer en streaming aquí
URL:https://linagalvez.eu/agenda/debate-intervencion-europa-fuerte-soberana-tensiones-geopoliticas-actuales-2026/
CATEGORIES:Actualidad,FEMM,ITRE,Parlamento
ATTACH;FMTTYPE=image/jpeg:https://linagalvez.eu/wp-content/uploads/2023/12/LGM.jpg
END:VEVENT
END:VCALENDAR