BEGIN:VCALENDAR
VERSION:2.0
PRODID:-//Lina Gálvez - ECPv6.15.20//NONSGML v1.0//EN
CALSCALE:GREGORIAN
METHOD:PUBLISH
X-WR-CALNAME:Lina Gálvez
X-ORIGINAL-URL:https://linagalvez.eu
X-WR-CALDESC:Eventos para Lina Gálvez
REFRESH-INTERVAL;VALUE=DURATION:PT1H
X-Robots-Tag:noindex
X-PUBLISHED-TTL:PT1H
BEGIN:VTIMEZONE
TZID:Europe/Madrid
BEGIN:DAYLIGHT
TZOFFSETFROM:+0100
TZOFFSETTO:+0200
TZNAME:CEST
DTSTART:20200329T010000
END:DAYLIGHT
BEGIN:STANDARD
TZOFFSETFROM:+0200
TZOFFSETTO:+0100
TZNAME:CET
DTSTART:20201025T010000
END:STANDARD
BEGIN:DAYLIGHT
TZOFFSETFROM:+0100
TZOFFSETTO:+0200
TZNAME:CEST
DTSTART:20210328T010000
END:DAYLIGHT
BEGIN:STANDARD
TZOFFSETFROM:+0200
TZOFFSETTO:+0100
TZNAME:CET
DTSTART:20211031T010000
END:STANDARD
BEGIN:DAYLIGHT
TZOFFSETFROM:+0100
TZOFFSETTO:+0200
TZNAME:CEST
DTSTART:20220327T010000
END:DAYLIGHT
BEGIN:STANDARD
TZOFFSETFROM:+0200
TZOFFSETTO:+0100
TZNAME:CET
DTSTART:20221030T010000
END:STANDARD
END:VTIMEZONE
BEGIN:VEVENT
DTSTART;TZID=Europe/Madrid:20210414T090000
DTEND;TZID=Europe/Madrid:20210414T100000
DTSTAMP:20260420T050127
CREATED:20210412T092854Z
LAST-MODIFIED:20210414T085119Z
UID:3423-1618390800-1618394400@linagalvez.eu
SUMMARY:Presentación Informe Women Investment
DESCRIPTION:La eurodiputada será la anfitriona de la presentación del informe “Closing the gender investment gap for a more resilient\, innovative\, inclusive and balanced economy”. Este informe incluye los mensajes recogidos en 7 debates organizados en 2020 en el Parlamento Europeo por The Knowledge4Innovation Forum\, Collabwith y The Wominvest Observatory (TWOO) con discusiones sobre cómo asignar fondos para aumentar la inversión de las mujeres en proyectos liderados por mujeres\, VC\, fondos liderados por mujeres\, startups lideradas por mujeres y negocios liderados por mujeres\, cómo superar las causas fundamentales y el papel de las mujeres dentro de los ecosistemas de innovación. En este evento se presentarán los resultados y se iniciará la discusión para los siguientes pasos y la implementación de las conclusiones. \nhttps://wominvest.org/executive-summary/
URL:https://linagalvez.eu/agenda/presentacion-informe-women-investment/
CATEGORIES:Actualidad,Destacado,FEMM,ITRE
END:VEVENT
BEGIN:VEVENT
DTSTART;TZID=Europe/Madrid:20210414T180000
DTEND;TZID=Europe/Madrid:20210414T190000
DTSTAMP:20260420T050127
CREATED:20210412T093850Z
LAST-MODIFIED:20210414T085138Z
UID:3425-1618423200-1618426800@linagalvez.eu
SUMMARY:Escuela Clara Campoamor
DESCRIPTION:La eurodiputada Lina Gálvez participa en las VII Jornadas “Clara Campoamor\, Escuela De Pensamiento Feminista” organizadas por la Escuela de Pensamiento Feminista de la concejalía del Ayuntamiento de Fuelabrada. Esta edición lleva como título “La conciliación de la vida laboral y familiar y los derechos de ciudadanía”. La sesión en la que participa versará sobre la economía y la corresponsabilidad desde un perspectiva feminista. \nSe podrá seguir por el canal YouTube “Concejalía de Feminismo y Diversidad Fuenlabrada”
URL:https://linagalvez.eu/agenda/escuela-clara-campoamor/
CATEGORIES:Actualidad,Destacado
ATTACH;FMTTYPE=image/jpeg:https://linagalvez.eu/wp-content/uploads/2021/04/Fuenlabrada.-Clara-Campoamor.jpg
END:VEVENT
BEGIN:VEVENT
DTSTART;TZID=Europe/Madrid:20210415T100000
DTEND;TZID=Europe/Madrid:20210415T130000
DTSTAMP:20260420T050127
CREATED:20210412T100138Z
LAST-MODIFIED:20210412T100211Z
UID:3434-1618480800-1618491600@linagalvez.eu
SUMMARY:STOA Workshop - The challenges of genome editing in plants\, with a focus on crops
DESCRIPTION:STO organiza un evento sobre las nuevas aplicaciones de la edición del genoma\, en particular de CRISPR-Cas9. Este evento buscará identificar aquellos problemas y desafíos que surgen de la aplicación de la ingeniería del genoma a cultivos que necesitan una atención especial. Incluirá una presentación de la ciencia detrás de la edición del genoma y sus aplicaciones\, y considerará los posibles beneficios\, así como las preocupaciones sociales que se esperan de estas aplicaciones. Además\, discutirá las formas en que la legislación actual de la UE puede abordar estos problemas y desafíos para prepararse mejor para el uso generalizado de estas nuevas tecnologías y garantizar que sea beneficioso para la sociedad y que sus riesgos se aborden adecuadamente. \nSe podrá seguir aquí: \nhttps://www.europarl.europa.eu/stoa/en/events/details/the-challenges-of-genome-editing-in-plan/20210301WKS03261
URL:https://linagalvez.eu/agenda/stoa-workshop-the-challenges-of-genome-editing-in-plants-with-a-focus-on-crops/
CATEGORIES:Actualidad,ITRE
ATTACH;FMTTYPE=image/jpeg:https://linagalvez.eu/wp-content/uploads/2021/04/Genoma-y-Cultivos-.jpg
END:VEVENT
BEGIN:VEVENT
DTSTART;TZID=Europe/Madrid:20210415T150000
DTEND;TZID=Europe/Madrid:20210415T173000
DTSTAMP:20260420T050127
CREATED:20210412T094327Z
LAST-MODIFIED:20210414T085157Z
UID:3428-1618498800-1618507800@linagalvez.eu
SUMMARY:Seminario - "‘La implementación del Plan de Recuperación Europeo en España"
DESCRIPTION:El Real Instituto Elcano organiza un seminario titulado ‘España en la UE pospandemia’ en el que se debatirá la implementación del Plan de Recuperación Europeo en España.
URL:https://linagalvez.eu/agenda/seminario-la-implementacion-del-plan-de-recuperacion-europeo-en-espana/
CATEGORIES:Actualidad,Destacado,Parlamento
ATTACH;FMTTYPE=image/png:https://linagalvez.eu/wp-content/uploads/2021/04/ELCANO.png
END:VEVENT
BEGIN:VEVENT
DTSTART;TZID=Europe/Madrid:20210415T180000
DTEND;TZID=Europe/Madrid:20210415T190000
DTSTAMP:20260420T050127
CREATED:20210412T095448Z
LAST-MODIFIED:20210412T095540Z
UID:3431-1618509600-1618513200@linagalvez.eu
SUMMARY:Taskforce on the Conference in the Future of Europe
DESCRIPTION:Reunión de trabajo del S&D para preparar la posición sobre la Conferencia del futuro of Europa.
URL:https://linagalvez.eu/agenda/taskforce-on-the-conference-in-the-future-of-europe/
CATEGORIES:Actualidad,S&D
ATTACH;FMTTYPE=image/jpeg:https://linagalvez.eu/wp-content/uploads/2021/04/SD-conference_future_europe.jpg
END:VEVENT
BEGIN:VEVENT
DTSTART;TZID=Europe/Madrid:20210416T100000
DTEND;TZID=Europe/Madrid:20210416T123000
DTSTAMP:20260420T050127
CREATED:20200122T145648Z
LAST-MODIFIED:20210416T092304Z
UID:3439-1618567200-1618576200@linagalvez.eu
SUMMARY:Reunión de coordinación Oficina Parlamentaria LGM
DESCRIPTION:
URL:https://linagalvez.eu/agenda/reunion-de-coordinacion-oficina-parlamentaria-lgm-5-2/
CATEGORIES:Actualidad,Destacado,Parlamento
ATTACH;FMTTYPE=image/jpeg:https://linagalvez.eu/wp-content/uploads/2020/07/Calendario.jpg
END:VEVENT
BEGIN:VEVENT
DTSTART;TZID=Europe/Madrid:20210419T100000
DTEND;TZID=Europe/Madrid:20210419T110000
DTSTAMP:20260420T050127
CREATED:20210201T101501Z
LAST-MODIFIED:20210419T072245Z
UID:3445-1618826400-1618830000@linagalvez.eu
SUMMARY:Trade Union Intergroup
DESCRIPTION:Se tratará el proyecto de Directiva sobre salarios mínimos en la UE y sobre la Directiva de transparencia salarial y los mecanismos de aplicación.
URL:https://linagalvez.eu/agenda/trade-union-intergroup-2/
CATEGORIES:Actualidad,Destacado,EMPL,Parlamento
ATTACH;FMTTYPE=image/jpeg:https://linagalvez.eu/wp-content/uploads/2020/04/ETUC.jpeg
END:VEVENT
BEGIN:VEVENT
DTSTART;TZID=Europe/Madrid:20210419T120000
DTEND;TZID=Europe/Madrid:20210419T130000
DTSTAMP:20260420T050127
CREATED:20210412T083611Z
LAST-MODIFIED:20210419T073211Z
UID:3447-1618833600-1618837200@linagalvez.eu
SUMMARY:S&D Grupo de trabajo de Empleo y Asuntos Sociales
DESCRIPTION:Grupo de trabajo S&D EMPL en el que se tratarán los temas que se debatirán en la Comisión EMPL del martes 23 abril.
URL:https://linagalvez.eu/agenda/sd-grupo-de-trabajo-de-empleo-y-asuntos-sociales-4-2-2/
CATEGORIES:Actualidad,Destacado,EMPL,Parlamento
ATTACH;FMTTYPE=image/jpeg:https://linagalvez.eu/wp-content/uploads/2020/11/SD-WG-ITRE.jpg
END:VEVENT
BEGIN:VEVENT
DTSTART;TZID=Europe/Madrid:20210419T140000
DTEND;TZID=Europe/Madrid:20210419T150000
DTSTAMP:20260420T050127
CREATED:20210201T104151Z
LAST-MODIFIED:20210419T082741Z
UID:3390-1618840800-1618844400@linagalvez.eu
SUMMARY:Committee on Women’s Rights and Gender Equality
DESCRIPTION:Se votarán el borrador del informe sobre “Promoción de la igualdad de género en la educación y las carreras en ciencia\, tecnología\, ingeniería y matemáticas (STEM)”. \n\n\nEl borrador del informe se centra en una escasez sin precedentes de mujeres en las carreras y la educación STEM\, en las razones por las que las mujeres tienen menos probabilidades que sus homólogos masculinos de ingresar a la educación y ocupaciones STEM o permanecer en ellas\, así como en las consecuencias de esta escasez. \nLa ponente considera que aumentar la proporción de mujeres en el sector STEM es fundamental para construir una economía y una sociedad más sostenibles e inclusivas. Por lo tanto\, pide la eliminación de todas las barreras que restringen los intereses\, preferencias y opciones de las mujeres y anima a los Estados miembros a promover la participación de las mujeres en los estudios y carreras STEM. \nSe han presentado 229 enmiendas. \nLa votación final tendrá lugar el 22 de abril. \n\n\nPodrá seguirse la comisión AQUÍ
URL:https://linagalvez.eu/agenda/committee-on-womens-rights-and-gender-equality-12-2-2/
CATEGORIES:Actualidad,Destacado,FEMM,Parlamento
ATTACH;FMTTYPE=image/jpeg:https://linagalvez.eu/wp-content/uploads/2021/02/Promocion-de-la-igualdad-de-genero-en-la-educacion-y-las-carreras-en-ciencia-tecnologia-ingenieria-y-matematicas-STEM..jpg
END:VEVENT
BEGIN:VEVENT
DTSTART;TZID=Europe/Madrid:20210420T123000
DTEND;TZID=Europe/Madrid:20210420T143000
DTSTAMP:20260420T050127
CREATED:20210301T093643Z
LAST-MODIFIED:20250210T090243Z
UID:3455-1618921800-1618929000@linagalvez.eu
SUMMARY:S&D Reunión de la Delegación Socialista Española
DESCRIPTION:Reunión interna de trabajo y preparatoria de la sesión plenaria del marzo 26-29 Abril.
URL:https://linagalvez.eu/agenda/sd-reunion-de-la-delegacion-socialista-espanola-11-2-2/
CATEGORIES:Parlamento,S&D
ATTACH;FMTTYPE=image/png:https://linagalvez.eu/wp-content/uploads/2020/07/Delegacion-española.png
END:VEVENT
BEGIN:VEVENT
DTSTART;TZID=Europe/Madrid:20210420T170000
DTEND;TZID=Europe/Madrid:20210420T180000
DTSTAMP:20260420T050127
CREATED:20210419T085719Z
LAST-MODIFIED:20210419T085719Z
UID:3457-1618938000-1618941600@linagalvez.eu
SUMMARY:Reunión con Economistas Frente a la Crisis
DESCRIPTION:
URL:https://linagalvez.eu/agenda/reunion-con-economistas-frente-a-la-crisis/
CATEGORIES:Actualidad,Parlamento,S&D
END:VEVENT
BEGIN:VEVENT
DTSTART;TZID=Europe/Madrid:20210420T180000
DTEND;TZID=Europe/Madrid:20210420T193000
DTSTAMP:20260420T050127
CREATED:20210208T092530Z
LAST-MODIFIED:20210419T090234Z
UID:3460-1618941600-1618947000@linagalvez.eu
SUMMARY:S&D Group Meeting
DESCRIPTION:Reunión preparatoria para la semana plenaria.
URL:https://linagalvez.eu/agenda/sd-group-meeting-23-2-2-2-2/
CATEGORIES:Actualidad,Parlamento,S&D
ATTACH;FMTTYPE=image/png:https://linagalvez.eu/wp-content/uploads/2020/01/1-S&D.svg.png
END:VEVENT
BEGIN:VEVENT
DTSTART;TZID=Europe/Madrid:20210421T090000
DTEND;TZID=Europe/Madrid:20210421T133000
DTSTAMP:20260420T050127
CREATED:20210208T092530Z
LAST-MODIFIED:20210419T090756Z
UID:3465-1618995600-1619011800@linagalvez.eu
SUMMARY:S&D Group Meeting
DESCRIPTION:Reunión preparatoria para la semana plenaria.
URL:https://linagalvez.eu/agenda/sd-group-meeting-23-2-2-2-2-2/
CATEGORIES:Actualidad,Parlamento,S&D
ATTACH;FMTTYPE=image/png:https://linagalvez.eu/wp-content/uploads/2020/01/1-S&D.svg.png
END:VEVENT
BEGIN:VEVENT
DTSTART;TZID=Europe/Madrid:20210421T150000
DTEND;TZID=Europe/Madrid:20210421T160000
DTSTAMP:20260420T050127
CREATED:20210419T093724Z
LAST-MODIFIED:20210419T093724Z
UID:3467-1619017200-1619020800@linagalvez.eu
SUMMARY:Reunión del grupo parlamentario de amistad sobre el New European Bauhaus
DESCRIPTION:
URL:https://linagalvez.eu/agenda/reunion-del-grupo-parlamentario-de-amistad-sobre-el-new-european-bauhaus/
CATEGORIES:Actualidad,Parlamento,S&D
ATTACH;FMTTYPE=image/jpeg:https://linagalvez.eu/wp-content/uploads/2021/04/New-European-Bauhausjpg.jpg
END:VEVENT
BEGIN:VEVENT
DTSTART;TZID=Europe/Madrid:20210421T160000
DTEND;TZID=Europe/Madrid:20210421T173000
DTSTAMP:20260420T050127
CREATED:20210419T095248Z
LAST-MODIFIED:20210422T074241Z
UID:3472-1619020800-1619026200@linagalvez.eu
SUMMARY:Grupo de Trabajo ECON-BUDG
DESCRIPTION:Grupo de trabajo en el que se realizará el escrutinio del Fondo de Recuperación y Resiliencia. La eurodiputada participará como relatora del informe del Semestre desde el Comité EMPL.
URL:https://linagalvez.eu/agenda/grupo-de-trabajo-econ-budg/
CATEGORIES:Actualidad,EMPL,Parlamento,S&D
ATTACH;FMTTYPE=image/jpeg:https://linagalvez.eu/wp-content/uploads/2021/03/Semestre-europeo_SD_090321_I.jpg
END:VEVENT
BEGIN:VEVENT
DTSTART;TZID=Europe/Madrid:20210421T173000
DTEND;TZID=Europe/Madrid:20210421T183000
DTSTAMP:20260420T050127
CREATED:20210419T100021Z
LAST-MODIFIED:20251103T123829Z
UID:3474-1619026200-1619029800@linagalvez.eu
SUMMARY:Reunión FEPS y Broadbent Institut
DESCRIPTION:En la reunión se trataran principalmente temas relacionados con la economía de los cuidados.
URL:https://linagalvez.eu/agenda/reunion-feps-y-broadbent-institut/
CATEGORIES:Actualidad,EMPL,FEMM,S&D
END:VEVENT
BEGIN:VEVENT
DTSTART;TZID=Europe/Madrid:20210422T100000
DTEND;TZID=Europe/Madrid:20210422T110000
DTSTAMP:20260420T050127
CREATED:20210412T080804Z
LAST-MODIFIED:20210419T094153Z
UID:3470-1619085600-1619089200@linagalvez.eu
SUMMARY:S&D ITRE Working Group meeting
DESCRIPTION:Grupo de trabajo S&D ITRE en el que se tratarán los temas que se debatirán en la Comisión ITRE del martes 23 abril.
URL:https://linagalvez.eu/agenda/sd-itre-working-group-meeting-2-2/
CATEGORIES:Actualidad,ITRE,S&D
ATTACH;FMTTYPE=image/png:https://linagalvez.eu/wp-content/uploads/2020/01/1-S&D.svg.png
END:VEVENT
BEGIN:VEVENT
DTSTART;TZID=Europe/Madrid:20210422T103000
DTEND;TZID=Europe/Madrid:20210422T113000
DTSTAMP:20260420T050127
CREATED:20210419T100903Z
LAST-MODIFIED:20210422T075309Z
UID:3476-1619087400-1619091000@linagalvez.eu
SUMMARY:Participación en Seminario científico de Universidad de la Laguna; Avances en igualdad de género y Agenda 2030 de Naciones Unidas.
DESCRIPTION:El Instituto Universitario de Estudios de las Mujeres de la Universidad de La Laguna celebra su Primavera Violeta con una Simposio científico titulado “Avances en igualdad de género y Agenda 2030 de Naciones Unidas” en el que participarán académicas expertas en la materia y mujeres con altas responsabilidades políticas. Igualmente\, contará con la presencia de una magistrada de la Sala IV del Tribunal Supremo\, así como la intervención de la directora del Instituto Nacional de Ciberseguridad. \nEl Simposio tiene por objeto analizar en el ámbito nacional y de la UE los avances registrados en la igualdad de género conforme el marco establecido en los ODS de Naciones Unidas. Se desarrollará en sesiones online durante los días 22 y 23 de abril de 2021\, comprendiendo cuatro paneles temáticos\, una conferencia de clausura y concluirá con la lectura de las Conclusiones Generales del mismo. \nPodrán asistir al mismo quienes se inscriban en el siguiente enlace. \nPrograma del Simposio
URL:https://linagalvez.eu/agenda/participacion-en-seminario-cientifico-de-universidad-de-la-laguna-avances-en-igualdad-de-genero-y-agenda-2030-de-naciones-unidas/
CATEGORIES:Actualidad,Destacado,FEMM,S&D
ATTACH;FMTTYPE=image/jpeg:https://linagalvez.eu/wp-content/uploads/2021/04/Simposio-Igualdad.jpg
END:VEVENT
BEGIN:VEVENT
DTSTART;TZID=Europe/Madrid:20210422T150000
DTEND;TZID=Europe/Madrid:20210422T164500
DTSTAMP:20260420T050127
CREATED:20210201T104151Z
LAST-MODIFIED:20210422T074312Z
UID:3389-1619103600-1619109900@linagalvez.eu
SUMMARY:Committee on Women’s Rights and Gender Equality
DESCRIPTION:Audiencia pública conjunta de la Comisión de Empleo y Asuntos Sociales y la Comisión de Derechos de la Mujer e Igualdad de Género sobre la propuesta de la Comisión de Directiva sobre transparencia salarial. \nEl 4 de marzo de 2021\, la Comisión Europea publicó la «Propuesta de Directiva del Parlamento Europeo y del Consejo para fortalecer la aplicación del principio de igual remuneración por trabajo de igual valor o trabajo de igual valor entre hombres y mujeres mediante la transparencia y el cumplimiento de la remuneración mecanismos «. \nEl derecho a la igualdad de remuneración entre mujeres y hombres por un trabajo igual o un trabajo de igual valor es uno de los principios fundamentales de la UE consagrado en el Tratado de Roma. El requisito de garantizar la igualdad de remuneración se establece en la Directiva 2006/54 / E. A pesar del marco legal\, la implementación efectiva y el cumplimiento de este principio en la práctica sigue siendo un desafío en la UE\, con la falta de transparencia salarial como uno de los principales obstáculos. La brecha salarial de género en la UE es de alrededor del 14%. \nMás información Aquí
URL:https://linagalvez.eu/agenda/committee-on-womens-rights-and-gender-equality-12-2-3/
CATEGORIES:Actualidad,Destacado,FEMM,Parlamento
ATTACH;FMTTYPE=image/jpeg:https://linagalvez.eu/wp-content/uploads/2021/02/FEMM-FEB-1.jpg
END:VEVENT
BEGIN:VEVENT
DTSTART;TZID=Europe/Madrid:20210422T164500
DTEND;TZID=Europe/Madrid:20210422T173000
DTSTAMP:20260420T050127
CREATED:20210312T175910Z
LAST-MODIFIED:20210422T074322Z
UID:3481-1619109900-1619112600@linagalvez.eu
SUMMARY:Comisión de Empleo y Asuntos Sociales
DESCRIPTION:Sesión monográfica dedicada a los salarios mínimos en la UE. \nSeguimiento en online 
URL:https://linagalvez.eu/agenda/comision-de-empleo-y-asuntos-sociales-2/
CATEGORIES:Actualidad,Destacado,EMPL,Parlamento
ATTACH;FMTTYPE=image/jpeg:https://linagalvez.eu/wp-content/uploads/2021/01/Lina-galvez-FEMM_260121.jpg
END:VEVENT
BEGIN:VEVENT
DTSTART;TZID=Europe/Madrid:20210423T093000
DTEND;TZID=Europe/Madrid:20210423T110000
DTSTAMP:20260420T050127
CREATED:20210419T102331Z
LAST-MODIFIED:20250221T124540Z
UID:3483-1619170200-1619175600@linagalvez.eu
SUMMARY:Reunión conjunta Delegación USA y Comité especial de Inteligencia Artificial
DESCRIPTION:
URL:https://linagalvez.eu/agenda/reunion-conjunta-delegacion-usa-y-comite-especial-de-inteligencia-artificial/
CATEGORIES:Actualidad,D-US,Destacado,ITRE,Parlamento
ATTACH;FMTTYPE=image/jpeg:https://linagalvez.eu/wp-content/uploads/banderas-eu-es-edificio_img_77742_pca-freepik_SI.jpg
END:VEVENT
BEGIN:VEVENT
DTSTART;TZID=Europe/Madrid:20210423T110000
DTEND;TZID=Europe/Madrid:20210423T123000
DTSTAMP:20260420T050127
CREATED:20210312T182507Z
LAST-MODIFIED:20210423T070156Z
UID:3313-1619175600-1619181000@linagalvez.eu
SUMMARY:Panel for the Future of Science and Technology (STOA)
DESCRIPTION:
URL:https://linagalvez.eu/agenda/panel-for-the-future-of-science-and-technology-stoa-5-2/
CATEGORIES:Actualidad,Destacado,Parlamento,STOA
ATTACH;FMTTYPE=image/png:https://linagalvez.eu/wp-content/uploads/2020/09/STOA.-Sept-.png
END:VEVENT
BEGIN:VEVENT
DTSTART;TZID=Europe/Madrid:20210426T080000
DTEND;TZID=Europe/Madrid:20210429T170000
DTSTAMP:20260420T050127
CREATED:20210211T164450Z
LAST-MODIFIED:20210423T142218Z
UID:3081-1619424000-1619715600@linagalvez.eu
SUMMARY:Pleno del Parlamento Europeo
DESCRIPTION:Destacados del pleno. Bruselas\, 29-30 de abril 2021\nCertificado Verde Digital\nEl Parlamento fijará su posición sobre la propuesta de la Comisión para crear un certificado verde digital\, cuyo objetivo es facilitar los viajes seguros en la UE durante la pandemia. \nEstimular las inversiones para ayudar a la recuperación\nLos eurodiputad@s votarán sobre los programas de inversión que ayudarán a que la UE sea más ecológica\,  digital y resiliente de aquí a 2027. En concreto\, el pleno adoptará el programa presupuestario de Medio Ambiente y Acción por el Clima (LIFE)\, Europa Digital y el Mecanismo de Protección Civil. \nEl Parlamento también fijará su posición sobre las partidas presupuestarias de 2021 a 2027 del Fondo Europeo de Defensa\, el programa espacial de la UE\, el Fondo Europeo de Adaptación a la Globalización y el programa de Mercado Único. \nRelaciones UE-Reino Unido\nLos eurodiputad@s votarán el martes si respaldar el acuerdo de comercio y cooperación\, que se aplica de manera provisional desde el 1 de enero\, que regulará la futura relación entre la UE y el Reino Unido. La aprobación del Parlamento es imprescindible para su aplicación permanente. \nDerechos de los pasajeros de tren\nEl Parlamento dará luz verde a las nuevas reglas que buscan proteger mejor y dar una mejor asistencia a los pasajeros de tren en casos de retrasos o cancelaciones. \nRetirada del contenido terrorista en línea\nLa Eurocámara dará su visto bueno a las nuevas normas para evitar la difusión de contenido terrorista en la red. Las plataformas de internet tendrán una hora para suprimir o bloquear el material en cuestión. \nRelaciones exteriores\nLos eurodiputados debatirán las últimas novedades en las relaciones entre Europa y Rusia\, incluído el encarcelamiento del opositor Alexei Navalny. \nAdemás\, las relaciones entre la Unión Europea y Turquía y las recientes sanciones chinas contra varios órganos y políticos europeos serán objetos de debate. \nEl Parlamento también votará sobre su posición sobre el futuro de los vínculos entre la UE y la India. \nRegistro de transparencia\nEl pleno fijará su posición sobre el acuerdo interinstitucional para crear un registro conjunto obligatorio que incluya a los representantes de grupos de interés que buscan influir los procesos de toma de decisiones e la UE. \nAdemás\, los eurodiputad@s votarán su posición sobre la reforma de las reglas de fiscalidad internacional\, así como una resolución que demanda un transporte marítimo más limpio y eficiente.
URL:https://linagalvez.eu/agenda/pleno-del-parlamento-europeo-2-2-2-2/
CATEGORIES:Actualidad,Destacado,Parlamento
ATTACH;FMTTYPE=image/jpeg:https://linagalvez.eu/wp-content/uploads/2020/03/European_Parliament_Strasbourg_Hemicycle_-_Diliff-2-scaled.jpg
END:VEVENT
BEGIN:VEVENT
DTSTART;TZID=Europe/Madrid:20210426T130000
DTEND;TZID=Europe/Madrid:20210426T140000
DTSTAMP:20260420T050127
CREATED:20210208T083908Z
LAST-MODIFIED:20210423T144740Z
UID:3514-1619442000-1619445600@linagalvez.eu
SUMMARY:S&D Grupo de trabajo de Empleo y Asuntos Sociales
DESCRIPTION:Reunión del  del Grupo de Trabajo de Empleo y Asuntos Sociales del (EMPL)  del S&D para debatir las propuestas relacionas con la sesión plenaria
URL:https://linagalvez.eu/agenda/grupo-de-trabajo-empl-european-skills-agenda-2/
CATEGORIES:EMPL,S&D
ATTACH;FMTTYPE=image/jpeg:https://linagalvez.eu/wp-content/uploads/2020/11/SD-WG-ITRE.jpg
END:VEVENT
BEGIN:VEVENT
DTSTART;TZID=Europe/Madrid:20210426T140000
DTEND;TZID=Europe/Madrid:20210426T143000
DTSTAMP:20260420T050127
CREATED:20210312T181424Z
LAST-MODIFIED:20210423T150410Z
UID:3385-1619445600-1619447400@linagalvez.eu
SUMMARY:Comisión Industria\, Investigación y Energía ITRE
DESCRIPTION:Votación
URL:https://linagalvez.eu/agenda/comision-industria-investigacion-y-energia-2-2-3/
CATEGORIES:Actualidad,ITRE,Parlamento
ATTACH;FMTTYPE=image/png:https://linagalvez.eu/wp-content/uploads/2020/09/ITRE.-Logo.png
END:VEVENT
BEGIN:VEVENT
DTSTART;TZID=Europe/Madrid:20210426T150000
DTEND;TZID=Europe/Madrid:20210426T160000
DTSTAMP:20260420T050127
CREATED:20210423T140514Z
LAST-MODIFIED:20210427T140305Z
UID:3506-1619449200-1619452800@linagalvez.eu
SUMMARY:¿Qué pasa en el Parlamento Europeo esta semana? Evento Instagram Live
DESCRIPTION:La Oficina del Parlamento Europeo en España organiza este evento que tratata de acercar la actividad parlamentaria a la ciudadanía. Con un formato informal y vía Instagram LIVE\,  la eurodiputada Lina Gálvez contestará a las preguntas de Álvaro Rojas\, de todosjuntos.eu\, sobre la actualidad parlamentaria del pleno que se celebra esta Semana en #Bruselas. \nLo podéis seguir el lunes 26 a las 🕒 15:00 h. en  Instagram
URL:https://linagalvez.eu/agenda/que-pasa-en-el-parlamento-europeo-esta-semana-evento-instagram-live/
CATEGORIES:Actualidad,Parlamento,S&D
ATTACH;FMTTYPE=image/png:https://linagalvez.eu/wp-content/uploads/2021/04/¿Que-pasa-en-el-Parlamento-esa-semana_-2-1.png
END:VEVENT
BEGIN:VEVENT
DTSTART;TZID=Europe/Madrid:20210426T150000
DTEND;TZID=Europe/Madrid:20210426T170000
DTSTAMP:20260420T050127
CREATED:20210208T092530Z
LAST-MODIFIED:20210423T145152Z
UID:3520-1619449200-1619456400@linagalvez.eu
SUMMARY:S&D Group Meeting
DESCRIPTION:Reunión preparatoria para la semana plenaria.
URL:https://linagalvez.eu/agenda/sd-group-meeting-23-2-2-2-3/
CATEGORIES:Actualidad,Parlamento,S&D
ATTACH;FMTTYPE=image/png:https://linagalvez.eu/wp-content/uploads/2020/01/1-S&D.svg.png
END:VEVENT
BEGIN:VEVENT
DTSTART;TZID=Europe/Madrid:20210426T190000
DTEND;TZID=Europe/Madrid:20210426T200000
DTSTAMP:20260420T050127
CREATED:20210423T144018Z
LAST-MODIFIED:20210423T144212Z
UID:3512-1619463600-1619467200@linagalvez.eu
SUMMARY:Participación en plenario en el debate conjunto sobre Investigación e innovación
DESCRIPTION:La Europiputada Lina Gálvéz paraticipara en el plenario dentro del debate agrupado de las iniciativas ITRE en relación al  programa de investigación Horizonte Europa\, cuya votación final será esta semana\, y sobre la nueva estrategia el Instituto Europeo de Tecnología (EIT) \n\n\n\nEl programa de investigación Horizonte Europa ayudará a los sistemas sanitarios de la UE a prepararse ante futuras pandemias y a la industria a descarbonizarse e innovar. La dotación para 2021-2027 del programa ascenderá a 95.500 millones de euros\, incluidos 5.400 millones del plan de recuperación Next GenerationEU\, y un refuerzo extra de 4.000 millones del Marco Financiero Plurianual. El programa garantiza financiación a corto y largo plazo para investigación e innovación en los ámbitos del cambio climático\, digitalización y la pandemia de coronavirus.Horizonte Europa tendrá el presupuesto más abultado para digitalización e investigación en el área digital. También facilitará financiación a pymes innovadoras\, para investigación en materia de infraestructuras. El Consejo Europeo de Investigación canalizará\, por su parte\, 1.000 millones de euros. \nTambién se votarán las nuevas prioridades del Instituto Europeo de Tecnología\, cuyo objetivo es trasladar a la práctica los resultados de la investigación europea. El Pacto Verde\, el plan de recuperación post-COVID\, el apoyo a las pequeñas empresas y la industria\, la autonomía estratégica de la UE y los objetivos de desarrollo de la ONU son sus principales áreas de interés.
URL:https://linagalvez.eu/agenda/participacion-en-plenario-en-el-debate-conjunto-sobre-investigacion-e-innovacion/
CATEGORIES:Destacado,ITRE,STOA
ATTACH;FMTTYPE=image/jpeg:https://linagalvez.eu/wp-content/uploads/2021/03/Pleno-Intervencion-Semestre.jpg
END:VEVENT
BEGIN:VEVENT
DTSTART;TZID=Europe/Madrid:20210427T180000
DTEND;TZID=Europe/Madrid:20210427T203000
DTSTAMP:20260420T050127
CREATED:20210208T092530Z
LAST-MODIFIED:20210423T145252Z
UID:3176-1619546400-1619555400@linagalvez.eu
SUMMARY:S&D Group Meeting
DESCRIPTION:
URL:https://linagalvez.eu/agenda/sd-group-meeting-23-3/
CATEGORIES:Actualidad,ITRE,Parlamento,S&D
ATTACH;FMTTYPE=image/png:https://linagalvez.eu/wp-content/uploads/2020/01/1-S&D.svg.png
END:VEVENT
BEGIN:VEVENT
DTSTART;TZID=Europe/Madrid:20210427T190000
DTEND;TZID=Europe/Madrid:20210427T200000
DTSTAMP:20260420T050127
CREATED:20210422T091403Z
LAST-MODIFIED:20210503T064349Z
UID:3493-1619550000-1619553600@linagalvez.eu
SUMMARY:Jornada Diálogos de Europa: La Transició Ecologica en els municipis i ciutat (Valencia)
DESCRIPTION:La Eurodiputada Lina Gálvez participará en estas jornadas donde reflexionará sobre la importancia y el lugar que ocupa la transición ecológica en el ámbito europeo. Además hablará de la hoja de ruta que se desarrolla en relación a su propia agenda parlamentaría\, dentro de las Comisiones ITRE y EMPL y repasará los instrumentos financieros relacionados con la transición ecologíca y el Horizonte Europa en el marco de las misiones; ciudades\, y EIT.
URL:https://linagalvez.eu/agenda/jornada-dialogos-de-europa-la-transicio-ecologica-en-els-municicipis-i-ciutat-valencia/
CATEGORIES:Actualidad,S&D
ATTACH;FMTTYPE=image/jpeg:https://linagalvez.eu/wp-content/uploads/2021/04/DialogosDeEuropa.jpg
END:VEVENT
END:VCALENDAR