BEGIN:VCALENDAR
VERSION:2.0
PRODID:-//Lina Gálvez - ECPv6.15.20//NONSGML v1.0//EN
CALSCALE:GREGORIAN
METHOD:PUBLISH
X-WR-CALNAME:Lina Gálvez
X-ORIGINAL-URL:https://linagalvez.eu
X-WR-CALDESC:Eventos para Lina Gálvez
REFRESH-INTERVAL;VALUE=DURATION:PT1H
X-Robots-Tag:noindex
X-PUBLISHED-TTL:PT1H
BEGIN:VTIMEZONE
TZID:Europe/Madrid
BEGIN:DAYLIGHT
TZOFFSETFROM:+0100
TZOFFSETTO:+0200
TZNAME:CEST
DTSTART:20200329T010000
END:DAYLIGHT
BEGIN:STANDARD
TZOFFSETFROM:+0200
TZOFFSETTO:+0100
TZNAME:CET
DTSTART:20201025T010000
END:STANDARD
BEGIN:DAYLIGHT
TZOFFSETFROM:+0100
TZOFFSETTO:+0200
TZNAME:CEST
DTSTART:20210328T010000
END:DAYLIGHT
BEGIN:STANDARD
TZOFFSETFROM:+0200
TZOFFSETTO:+0100
TZNAME:CET
DTSTART:20211031T010000
END:STANDARD
BEGIN:DAYLIGHT
TZOFFSETFROM:+0100
TZOFFSETTO:+0200
TZNAME:CEST
DTSTART:20220327T010000
END:DAYLIGHT
BEGIN:STANDARD
TZOFFSETFROM:+0200
TZOFFSETTO:+0100
TZNAME:CET
DTSTART:20221030T010000
END:STANDARD
END:VTIMEZONE
BEGIN:VEVENT
DTSTART;TZID=Europe/Madrid:20210503T080000
DTEND;TZID=Europe/Madrid:20210507T170000
DTSTAMP:20260420T050540
CREATED:20210205T102540Z
LAST-MODIFIED:20210212T154809Z
UID:2987-1620028800-1620406800@linagalvez.eu
SUMMARY:External parliamentary activities. Week.
DESCRIPTION:Durante las semanas verdes\,  en la medida que las normas seguridad  sanitarias COVID19 lo permitan\, l@s eurodiputad@s desarrollan actividades fuera del Parlamento Europeo. Trabajan en sus circunscripciones para tener la oportunidad de estar en contacto con las personas electoras\, o en las delegaciones del PE para mantener relaciones con los países ajenos a la UE.\nMás Información 
URL:https://linagalvez.eu/agenda/external-parliamentary-activities-week-2/
CATEGORIES:Actualidad,Parlamento
ATTACH;FMTTYPE=image/jpeg:https://linagalvez.eu/wp-content/uploads/2021/02/Semana-verde.jpg
END:VEVENT
BEGIN:VEVENT
DTSTART;TZID=Europe/Madrid:20210503T114500
DTEND;TZID=Europe/Madrid:20210503T163000
DTSTAMP:20260420T050540
CREATED:20210503T070655Z
LAST-MODIFIED:20210503T070814Z
UID:3546-1620042300-1620059400@linagalvez.eu
SUMMARY:S&D Conferencia sobre el futuro de Europa
DESCRIPTION:Conferencia S&D Conferencia sobre el futuro de Europa \nEl futuro de Europa está en nuestras manos!  Reunión preparatoria con formato participativo  para preparar la próxima Conferencia sobre el Futuro de Europa. Desde el S&D se lanza una iniciativa paneuropea de alto nivel que se celebrará en Roma el 3 de mayo\, y donde expondremos nuestras ideas sobre cómo reforzar y profundizar la integración europea. \nSe podrá seguir por streaming desde la página web y el Facebook. \nEl programa estará disponible aquí.
URL:https://linagalvez.eu/agenda/conferencia-sd-conferencia-sobre-el-futuro-de-europa/
CATEGORIES:Destacado,S&D
ATTACH;FMTTYPE=image/jpeg:https://linagalvez.eu/wp-content/uploads/2021/05/Conferencia-SD-Conferencia-sobre-el-futuro-de-Europa.jpg
END:VEVENT
BEGIN:VEVENT
DTSTART;TZID=Europe/Madrid:20210503T130000
DTEND;TZID=Europe/Madrid:20210503T134500
DTSTAMP:20260420T050540
CREATED:20210502T110621Z
LAST-MODIFIED:20210503T071400Z
UID:3365-1620046800-1620049500@linagalvez.eu
SUMMARY:Reunión con NESI “Nueva Economía e Innovación Social”
DESCRIPTION:
URL:https://linagalvez.eu/agenda/reunion-con-nesi-nueva-economia-e-innovacion-social/
CATEGORIES:Actualidad,ITRE,Parlamento,S&D
END:VEVENT
BEGIN:VEVENT
DTSTART;TZID=Europe/Madrid:20210503T140000
DTEND;TZID=Europe/Madrid:20210503T170000
DTSTAMP:20260420T050540
CREATED:20210503T072042Z
LAST-MODIFIED:20210503T072742Z
UID:3550-1620050400-1620061200@linagalvez.eu
SUMMARY:Webinar on collective bargaining & adequate minimum wages
DESCRIPTION:Webinar sobre negociación colectiva y salarios mínimos organizada por ETUC y la Social Platform en formato seminario online sobre negociación colectiva y salarios mínimos. \nWebinar on collective bargaining & adequate minimum wages | ETUC
URL:https://linagalvez.eu/agenda/webinar-on-collective-bargaining-adequate-minimum-wages/
CATEGORIES:Actualidad,Destacado,EMPL,S&D
ATTACH;FMTTYPE=image/jpeg:https://linagalvez.eu/wp-content/uploads/2021/05/Fair-Minimum-Wages-and-Collective-Bargaining.jpg
END:VEVENT
BEGIN:VEVENT
DTSTART;TZID=Europe/Madrid:20210504T123000
DTEND;TZID=Europe/Madrid:20210504T143000
DTSTAMP:20260420T050540
CREATED:20210301T093643Z
LAST-MODIFIED:20250210T090243Z
UID:3554-1620131400-1620138600@linagalvez.eu
SUMMARY:S&D Reunión de la Delegación Socialista Española
DESCRIPTION:Reunión interna de trabajo y de coordinación.
URL:https://linagalvez.eu/agenda/sd-reunion-de-la-delegacion-socialista-espanola-11-2-2-2/
CATEGORIES:Parlamento,S&D
ATTACH;FMTTYPE=image/png:https://linagalvez.eu/wp-content/uploads/2020/07/Delegacion-española.png
END:VEVENT
BEGIN:VEVENT
DTSTART;TZID=Europe/Madrid:20210504T150000
DTEND;TZID=Europe/Madrid:20210504T153000
DTSTAMP:20260420T050540
CREATED:20210503T073924Z
LAST-MODIFIED:20210503T092127Z
UID:3559-1620140400-1620142200@linagalvez.eu
SUMMARY:Reunión con la International Association of Scientific\, Technical and Medical Publishers
DESCRIPTION:Reunión con STM para discutir la propuesta de Ley de Servicios Digitales\, del que la eurodiputada es ponente en la sombra en ITRE.
URL:https://linagalvez.eu/agenda/reunion-con-stm/
CATEGORIES:Actualidad,ITRE,S&D
END:VEVENT
BEGIN:VEVENT
DTSTART;TZID=Europe/Madrid:20210504T160000
DTEND;TZID=Europe/Madrid:20210504T163000
DTSTAMP:20260420T050540
CREATED:20210503T073600Z
LAST-MODIFIED:20210503T073600Z
UID:3556-1620144000-1620145800@linagalvez.eu
SUMMARY:Reunión con European Magazine Media Association (EMMA)
DESCRIPTION:Reunión para discutir la propuesta de Ley de Servicios Digitales.
URL:https://linagalvez.eu/agenda/reunion-con-european-magazine-media-association-emma/
CATEGORIES:Actualidad,ITRE,S&D
ATTACH;FMTTYPE=image/jpeg:https://linagalvez.eu/wp-content/uploads/2021/05/EMA-.jpg
END:VEVENT
BEGIN:VEVENT
DTSTART;TZID=Europe/Madrid:20210505T090000
DTEND;TZID=Europe/Madrid:20210505T100000
DTSTAMP:20260420T050540
CREATED:20210503T074305Z
LAST-MODIFIED:20210503T074305Z
UID:3561-1620205200-1620208800@linagalvez.eu
SUMMARY:Reunión del Instituto de Inteligencia Artificial
DESCRIPTION:Reunión del  del Grupo de Trabajo de Empleo (EMPL) para debatir las propuestas a nivel social y laboral para abordar la crisis del COVID19
URL:https://linagalvez.eu/agenda/reunion-del-instituto-de-inteligencia-artificial/
CATEGORIES:Actualidad,ITRE,S&D
ATTACH;FMTTYPE=image/jpeg:https://linagalvez.eu/wp-content/uploads/2021/05/Instituto-inteligencia-artificial-.jpg
END:VEVENT
BEGIN:VEVENT
DTSTART;TZID=Europe/Madrid:20210505T110000
DTEND;TZID=Europe/Madrid:20210505T133000
DTSTAMP:20260420T050540
CREATED:20200122T145648Z
LAST-MODIFIED:20210504T075442Z
UID:3596-1620212400-1620221400@linagalvez.eu
SUMMARY:Reunión de coordinación Oficina Parlamentaria LGM
DESCRIPTION:
URL:https://linagalvez.eu/agenda/reunion-de-coordinacion-oficina-parlamentaria-lgm-5-2-2-2/
CATEGORIES:Actualidad,Parlamento
ATTACH;FMTTYPE=image/jpeg:https://linagalvez.eu/wp-content/uploads/2020/07/Calendario.jpg
END:VEVENT
BEGIN:VEVENT
DTSTART;TZID=Europe/Madrid:20210506T080000
DTEND;TZID=Europe/Madrid:20210507T170000
DTSTAMP:20260420T050540
CREATED:20210504T080629Z
LAST-MODIFIED:20210506T074951Z
UID:3598-1620288000-1620406800@linagalvez.eu
SUMMARY:Porto Social Summit
DESCRIPTION:Seguimiento y participación de la eurodiputada Lina Gálvez\, de la Cumbre Social de Oporto que será el punto culminante de la Presidencia portuguesa del Consejo de la Unión Europea y que tiene como objetivo marcar la agenda europea para la próxima década y asegurando que afrontemos los retos y objetivos europeos sin dejar a nadie atrás. \nLa Conferencia de Alto Nivel se centrará en la mejor manera de implementar el pilar europeo de derechos sociales\, con una amplia participación de todos los actores relevantes. Consistirá en dos sesiones plenarias – apertura y cierre – así como tres talleres paralelos sobre empleo y empleo\, habilidades e innovación\, bienestar y protección social. \nMás información AQUÍ
URL:https://linagalvez.eu/agenda/porto-social-summit/
CATEGORIES:Actualidad,Destacado,Parlamento,S&D
ATTACH;FMTTYPE=image/jpeg:https://linagalvez.eu/wp-content/uploads/2021/05/Porto-Social-Summit-.jpg
END:VEVENT
BEGIN:VEVENT
DTSTART;TZID=Europe/Madrid:20210506T190000
DTEND;TZID=Europe/Madrid:20210506T200000
DTSTAMP:20260420T050540
CREATED:20210503T080042Z
LAST-MODIFIED:20210504T075029Z
UID:3569-1620327600-1620331200@linagalvez.eu
SUMMARY:Encuentro digital. La covid-19 i la societat del control digital
DESCRIPTION:La eurodiputada participa en el ciclo de debates sobre los Efectos del covid-19 organizados por la Asociación Amics de la Universitat Autònoma de Barcelona\, Economistas Frente a la Crisis\, el Centre d’Anàlisis i Programes Sanitaris (CAPS) y la Unión de Europeístas y Federalistas (UEF). Se podrá seguir aquí AmicsUAB – YouTube \nMás información Aquí
URL:https://linagalvez.eu/agenda/encuentro-digital-la-covid-19-i-la-societat-del-control-digital/
CATEGORIES:Actualidad,Destacado,ITRE,S&D,STOA
ATTACH;FMTTYPE=image/jpeg:https://linagalvez.eu/wp-content/uploads/2021/05/UAB-Amics-Covid.jpg
END:VEVENT
BEGIN:VEVENT
DTSTART;TZID=Europe/Madrid:20210507T093000
DTEND;TZID=Europe/Madrid:20210507T103000
DTSTAMP:20260420T050540
CREATED:20201021T110330Z
LAST-MODIFIED:20251013T123234Z
UID:3572-1620379800-1620383400@linagalvez.eu
SUMMARY:Reunión estatutaria  The Women’s Organisation of the Party of European Socialists (PES)
DESCRIPTION:Reunión de trabajo interna del PES WOMEN con el objetivo de analizar y coordinar los trabajos en curso. Se debatira sobre la igualdad de genero dentro del marco legislativo una Europa Social y se analizará  la creciente movilización de los movimientos anti-feministas en Europa.
URL:https://linagalvez.eu/agenda/reunion-estatutaria-del-women-is-the-womens-organisation-of-the-party-of-european-socialists-pes-2/
CATEGORIES:Actualidad,S&D
ATTACH;FMTTYPE=image/png:https://linagalvez.eu/wp-content/uploads/2020/10/PES-Women.png_20619903.png
END:VEVENT
BEGIN:VEVENT
DTSTART;TZID=Europe/Madrid:20210507T123000
DTEND;TZID=Europe/Madrid:20210507T133000
DTSTAMP:20260420T050540
CREATED:20210503T091355Z
LAST-MODIFIED:20210506T070826Z
UID:3580-1620390600-1620394200@linagalvez.eu
SUMMARY:Encuentro Escuela Embajadora del Parlamento Europeo.
DESCRIPTION:La eurodiputada Lina Gázvez mantendrá un encuentro virtual con una de las Escuelas Embajadoras del Parlamento Europeo.\nEl programa educativo Escuelas Embajadoras del Parlamento Europeo\, esta promovido por la Dirección General de Comunicación del Parlamento Europeo organiza y es un programa educativo destinado al alumnado de centros de enseñanza secundaria: 4º ESO\, 1º y 2º de Bachillerato y grado medio de Formación Profesional. tiene por objeto estimular el conocimiento de Europa y de la democracia parlamentaria europea entre los jóvenes\, proporcionándoles un conocimiento activo de la Unión Europea y del Parlamento Europeo en particular.\nSe trata tanto de enseñar datos sobre la Unión Europea como de dar la oportunidad de experimentar la ciudadanía europea: lo que significa la Unión en la vida cotidiana y lo que se puede hacer para lograr que\, en el futuro\, Europa sea como sus ciudadanos deseen.\nMás información sobre el Programa AQUÍ
URL:https://linagalvez.eu/agenda/encuentro-escuela-embajadora-del-parlamento-europeo/
CATEGORIES:Actualidad,Destacado,Parlamento,S&D
ATTACH;FMTTYPE=image/jpeg:https://linagalvez.eu/wp-content/uploads/2021/05/Escuelas-Embajadoras.-.jpg
END:VEVENT
BEGIN:VEVENT
DTSTART;VALUE=DATE:20210509
DTEND;VALUE=DATE:20210510
DTSTAMP:20260420T050540
CREATED:20200508T112446Z
LAST-MODIFIED:20210503T100255Z
UID:3594-1620518400-1620604799@linagalvez.eu
SUMMARY:Día de Europa
DESCRIPTION:Europe day celebration: 70 years after the creation of the European coal and steel community\, we are called to make history\, again! Workers in the healthcare\, food\, transport sectors\, among many others\, have emerged as new heroes. They need our support and solidarity now\, more and the ever\, as do companies and SMEs at a time when we are suffering the hardest recession since the Great Depression. After WWII\, foes became friends\, Europe was reunited. Let’s live up to the dream of Robert Schuman who wrote his declaration on 9 May 1950. We are stronger together\, let’s be brave and stand up to write our history’s next chapter.
URL:https://linagalvez.eu/agenda/dia-de-europa-2/
ATTACH;FMTTYPE=image/jpeg:https://linagalvez.eu/wp-content/uploads/2020/05/Europe-Day-SD.-jpg.jpg
END:VEVENT
BEGIN:VEVENT
DTSTART;TZID=Europe/Madrid:20210510T110000
DTEND;TZID=Europe/Madrid:20210510T113000
DTSTAMP:20260420T050540
CREATED:20210503T075010Z
LAST-MODIFIED:20210506T070437Z
UID:3564-1620644400-1620646200@linagalvez.eu
SUMMARY:Meeting EIT Food
DESCRIPTION:Reunión de trabajo con EIT Food\, iniciativa de innovación alimentaria dependiente del EIT que trabaja para hacer que el sistema alimentario sea más sostenible\, saludable y confiable. \nMás información en https://www.eitfood.eu/
URL:https://linagalvez.eu/agenda/meeting-eit-food/
CATEGORIES:Actualidad,ITRE,S&D
ATTACH;FMTTYPE=image/jpeg:https://linagalvez.eu/wp-content/uploads/2021/05/EIT-Food..jpg
END:VEVENT
BEGIN:VEVENT
DTSTART;TZID=Europe/Madrid:20210510T134500
DTEND;TZID=Europe/Madrid:20210510T154500
DTSTAMP:20260420T050540
CREATED:20200921T070440Z
LAST-MODIFIED:20210507T143507Z
UID:3586-1620654300-1620661500@linagalvez.eu
SUMMARY:Committee on Women’s Rights and Gender Equality FEMM
DESCRIPTION:Orden del día por concretar \nLa sesión podrá ser seguida en el siguiente enlace AQUI \nVer orden del día 
URL:https://linagalvez.eu/agenda/committee-on-womens-rights-and-gender-equality-femm-7-2/
CATEGORIES:Destacado,FEMM,Parlamento
ATTACH;FMTTYPE=image/jpeg:https://linagalvez.eu/wp-content/uploads/2020/09/FEMM-mayo.jpg
END:VEVENT
BEGIN:VEVENT
DTSTART;TZID=Europe/Madrid:20210510T160000
DTEND;TZID=Europe/Madrid:20210510T180000
DTSTAMP:20260420T050540
CREATED:20210312T181424Z
LAST-MODIFIED:20210507T143519Z
UID:3613-1620662400-1620669600@linagalvez.eu
SUMMARY:Comisión Industria\, Investigación y Energía ITRE
DESCRIPTION:La eurodiputada Lina Gálvz intervendra en el diálogo con Thierry Breton (comisario de Mercado Interior)
URL:https://linagalvez.eu/agenda/comision-industria-investigacion-y-energia-2-2-3-2/
CATEGORIES:Actualidad,Destacado,ITRE,Parlamento
ATTACH;FMTTYPE=image/png:https://linagalvez.eu/wp-content/uploads/2020/09/ITRE.-Logo.png
END:VEVENT
BEGIN:VEVENT
DTSTART;TZID=Europe/Madrid:20210510T163000
DTEND;TZID=Europe/Madrid:20210510T203000
DTSTAMP:20260420T050540
CREATED:20210507T135920Z
LAST-MODIFIED:20210507T143533Z
UID:3615-1620664200-1620678600@linagalvez.eu
SUMMARY:Artificial Intelligence: Intensive Online Policy Lab
DESCRIPTION:El laboratorio organizado por la Escuela de Gobernanza Transnacional de la EUI y el Instituto de Inteligencia Artificial de la Universidad de Stanford con el objetivo de formar a responsables políticos de ambos lados del Atlántico con nuevas habilidades y conocimientos sobre inteligencia artificial.
URL:https://linagalvez.eu/agenda/artificial-intelligence-intensive-online-policy-lab/
CATEGORIES:Actualidad,Destacado,ITRE,Parlamento,STOA
ATTACH;FMTTYPE=image/jpeg:https://linagalvez.eu/wp-content/uploads/2021/05/Artificial-Intelligence-Intensive-Policy-Lab.jpg
END:VEVENT
BEGIN:VEVENT
DTSTART;TZID=Europe/Madrid:20210511T093000
DTEND;TZID=Europe/Madrid:20210511T110000
DTSTAMP:20260420T050540
CREATED:20210507T140846Z
LAST-MODIFIED:20210511T085050Z
UID:3622-1620725400-1620730800@linagalvez.eu
SUMMARY:Jornada ‘Avanzando en el emprendimiento verde de las mujeres’
DESCRIPTION:
URL:https://linagalvez.eu/agenda/jornada-avanzando-en-el-emprendimiento-verde-de-las-mujeres/
CATEGORIES:Actualidad,Destacado,FEMM,ITRE
ATTACH;FMTTYPE=image/jpeg:https://linagalvez.eu/wp-content/uploads/2021/04/20210426_EP-113880D_VDV_EVD_123-1-scaled.jpg
END:VEVENT
BEGIN:VEVENT
DTSTART;TZID=Europe/Madrid:20210511T113000
DTEND;TZID=Europe/Madrid:20210511T123000
DTSTAMP:20260420T050540
CREATED:20200921T070440Z
LAST-MODIFIED:20210511T094103Z
UID:3589-1620732600-1620736200@linagalvez.eu
SUMMARY:Committee on Women’s Rights and Gender Equality FEMM
DESCRIPTION:La sesión podrá ser seguida en el siguiente enlace AQUI
URL:https://linagalvez.eu/agenda/committee-on-womens-rights-and-gender-equality-femm-7-2-2/
CATEGORIES:FEMM,Parlamento
ATTACH;FMTTYPE=image/jpeg:https://linagalvez.eu/wp-content/uploads/2020/09/FEMM-mayo.jpg
END:VEVENT
BEGIN:VEVENT
DTSTART;TZID=Europe/Madrid:20210511T140000
DTEND;TZID=Europe/Madrid:20210511T163000
DTSTAMP:20260420T050540
CREATED:20210507T141420Z
LAST-MODIFIED:20210507T141420Z
UID:3624-1620741600-1620750600@linagalvez.eu
SUMMARY:STOA. Health and economic benefits of microbiomes (online event)
DESCRIPTION:El taller STOA está organizado en dos sesiones: la primera discutirá las implicaciones clínicas de los microbiomas\, mientras que la segunda analizará los aspectos económicos y regulatorios de los microbiomas. \nEn los últimos años\, una gran cantidad de conocimiento científico se ha abierto camino hacia el público en general\, lo que ha generado interés en los microbiomas humanos\, que se entienden principalmente como el universo de las bacterias intestinales que determinan nuestro estado de salud y bienestar\, así como nuestro sistema inmunológico y hormonal. sistemas. Los microbiomas son actores clave para muchos procesos naturales en la agricultura\, los sistemas de alimentación y bebida\, la degradación de desechos\, el reciclaje y la creación de nuevos materiales. Además de la producción de alimentos más saludables\, naturales y sostenibles\, las innovaciones que involucran microbiomas ya se pueden ver en la agricultura y la producción de cultivos\, por ejemplo\, en la protección de plantas a través de bioplaguicidas o en sistemas de degradación de desechos amigables con el clima que reutilizan y reciclan materiales y energía. \nMás Información
URL:https://linagalvez.eu/agenda/stoa-health-and-economic-benefits-of-microbiomes-online-event/
CATEGORIES:Actualidad,ITRE,Parlamento,STOA
ATTACH;FMTTYPE=image/jpeg:https://linagalvez.eu/wp-content/uploads/2021/05/STOAjpg.jpg
END:VEVENT
BEGIN:VEVENT
DTSTART;TZID=Europe/Madrid:20210511T181500
DTEND;TZID=Europe/Madrid:20210511T193000
DTSTAMP:20260420T050540
CREATED:20210208T092530Z
LAST-MODIFIED:20210507T141807Z
UID:3628-1620756900-1620761400@linagalvez.eu
SUMMARY:S&D Group Meeting
DESCRIPTION:Reunión del Grupo S&D preparatoria de la siguiente sesión plenaria.
URL:https://linagalvez.eu/agenda/sd-group-meeting-23-3-2-2/
CATEGORIES:Actualidad,ITRE,Parlamento,S&D
ATTACH;FMTTYPE=image/png:https://linagalvez.eu/wp-content/uploads/2020/01/1-S&D.svg.png
END:VEVENT
BEGIN:VEVENT
DTSTART;TZID=Europe/Madrid:20210512T090000
DTEND;TZID=Europe/Madrid:20210512T130000
DTSTAMP:20260420T050540
CREATED:20210208T092530Z
LAST-MODIFIED:20210507T142019Z
UID:3630-1620810000-1620824400@linagalvez.eu
SUMMARY:S&D Group Meeting
DESCRIPTION:Reunión del Grupo S&D preparatoria de la siguiente sesión plenaria.
URL:https://linagalvez.eu/agenda/sd-group-meeting-23-3-2-2-2/
CATEGORIES:Actualidad,ITRE,Parlamento,S&D
ATTACH;FMTTYPE=image/png:https://linagalvez.eu/wp-content/uploads/2020/01/1-S&D.svg.png
END:VEVENT
BEGIN:VEVENT
DTSTART;TZID=Europe/Madrid:20210512T130000
DTEND;TZID=Europe/Madrid:20210512T140000
DTSTAMP:20260420T050540
CREATED:20210503T075248Z
LAST-MODIFIED:20210506T070255Z
UID:3567-1620824400-1620828000@linagalvez.eu
SUMMARY:Reunión con Amazon
DESCRIPTION:Reunión con Amazon Europe para discutir la propuesta de Ley de Servicios Digitales\, del que la eurodiputada es ponente en la sombra en ITRE.
URL:https://linagalvez.eu/agenda/reunion-con-amazon/
CATEGORIES:Actualidad,ITRE,S&D
ATTACH;FMTTYPE=image/jpeg:https://linagalvez.eu/wp-content/uploads/2021/01/Amazon-lgm.jpg
END:VEVENT
BEGIN:VEVENT
DTSTART;TZID=Europe/Madrid:20210512T160000
DTEND;TZID=Europe/Madrid:20210512T170000
DTSTAMP:20260420T050540
CREATED:20200111T151627Z
LAST-MODIFIED:20250221T124940Z
UID:3635-1620835200-1620838800@linagalvez.eu
SUMMARY:Reunión de la Delegación USA
DESCRIPTION:
URL:https://linagalvez.eu/agenda/reunion-de-la-delegacion-usa-2/
CATEGORIES:Actualidad,D-US,Destacado
ATTACH;FMTTYPE=image/jpeg:https://linagalvez.eu/wp-content/uploads/banderas-eu-es-horiz_img_77743_pca-freepik.jpg
END:VEVENT
BEGIN:VEVENT
DTSTART;TZID=Europe/Madrid:20210512T180000
DTEND;TZID=Europe/Madrid:20210512T190000
DTSTAMP:20260420T050540
CREATED:20210507T142838Z
LAST-MODIFIED:20210511T134644Z
UID:3632-1620842400-1620846000@linagalvez.eu
SUMMARY:Coloquio Socialismo feminista en Andalucía 2030
DESCRIPTION:Participación de la eurodiputada Lina gálvez en el coloquio feminista  «Socialismo feminista en Andalucía 2030¨organizado por la Plataforma Feminismo Socialista. \nInscripciones AQUÍ \n\n\n\n\n\n\n\n\n\n \n\n\n\n\n\n\n\n\n\n\n\n\n\n\nSeguir\n\n\n\n\n\n\n\n\n\nPlataforma Feminismo Socialista
URL:https://linagalvez.eu/agenda/coloquio-socialismo-feminista-en-andalucia-2030/
CATEGORIES:Andalucía,Destacado,S&D
ATTACH;FMTTYPE=image/jpeg:https://linagalvez.eu/wp-content/uploads/2021/05/Feminismo-Socialista-2030jpg.jpg
END:VEVENT
BEGIN:VEVENT
DTSTART;VALUE=DATE:20210513
DTEND;VALUE=DATE:20210515
DTSTAMP:20260420T050540
CREATED:20210503T092558Z
LAST-MODIFIED:20210503T095342Z
UID:3592-1620864000-1621036799@linagalvez.eu
SUMMARY:Sin actividad parlamentaria. Festivo en Bélgica
DESCRIPTION:
URL:https://linagalvez.eu/agenda/sin-actividad-parlamentaria-festivo-en-belgica-2/
CATEGORIES:Actualidad,Parlamento
ATTACH;FMTTYPE=image/jpeg:https://linagalvez.eu/wp-content/uploads/2021/02/Semana-verde.jpg
END:VEVENT
BEGIN:VEVENT
DTSTART;TZID=Europe/Madrid:20210513T163000
DTEND;TZID=Europe/Madrid:20210513T203000
DTSTAMP:20260420T050540
CREATED:20210507T135920Z
LAST-MODIFIED:20210507T140347Z
UID:3619-1620923400-1620937800@linagalvez.eu
SUMMARY:Artificial Intelligence: Intensive Online Policy Lab
DESCRIPTION:El laboratorio organizado por la Escuela de Gobernanza Transnacional de la EUI y el Instituto de Inteligencia Artificial de la Universidad de Stanford con el objetivo de formar a responsables políticos de ambos lados del Atlántico con nuevas habilidades y conocimientos sobre inteligencia artificial.
URL:https://linagalvez.eu/agenda/artificial-intelligence-intensive-online-policy-lab-2/
CATEGORIES:Actualidad,ITRE,Parlamento,STOA
ATTACH;FMTTYPE=image/jpeg:https://linagalvez.eu/wp-content/uploads/2021/05/Artificial-Intelligence-Intensive-Policy-Lab.jpg
END:VEVENT
BEGIN:VEVENT
DTSTART;TZID=Europe/Madrid:20210514T163000
DTEND;TZID=Europe/Madrid:20210514T203000
DTSTAMP:20260420T050540
CREATED:20210506T135920Z
LAST-MODIFIED:20210512T162216Z
UID:3618-1621009800-1621024200@linagalvez.eu
SUMMARY:Artificial Intelligence: Intensive Online Policy Lab
DESCRIPTION:El laboratorio organizado por la Escuela de Gobernanza Transnacional de la EUI y el Instituto de Inteligencia Artificial de la Universidad de Stanford con el objetivo de formar a responsables políticos de ambos lados del Atlántico con nuevas habilidades y conocimientos sobre inteligencia artificial.
URL:https://linagalvez.eu/agenda/artificial-intelligence-intensive-online-policy-lab-3/
CATEGORIES:Actualidad,Destacado,ITRE,Parlamento,STOA
ATTACH;FMTTYPE=image/jpeg:https://linagalvez.eu/wp-content/uploads/2021/05/Artificial-Intelligence-Intensive-Policy-Lab.jpg
END:VEVENT
BEGIN:VEVENT
DTSTART;TZID=Europe/Madrid:20210517T143000
DTEND;TZID=Europe/Madrid:20210517T153000
DTSTAMP:20260420T050540
CREATED:20210301T093020Z
LAST-MODIFIED:20210517T072347Z
UID:3648-1621261800-1621265400@linagalvez.eu
SUMMARY:Reunión la coalición legislativa Tracking-free Ads
DESCRIPTION:Reunión de coordinación Tracking-Free Ads Coalition\, una plataforma legislativa que trabaja por una publicidad digital sin seguimiento\, poniendo fin a la industria de la publicidad de seguimiento generalizada que domina Internet en la actualidad. \nNuestro objetivo es lograr cambios a través de la legislación de la UE y acciones concretas en apoyo y para complementar los marcos legales existentes como el GDPR. \nLa publicidad en línea basada en el seguimiento permite a la industria publicitaria manipular el debate público a través de mensajes micro-dirigidos que siguen a las personas a través de Internet. La mayor parte de este ecosistema alimentado por datos está controlado por firmas de big data que absorben los ingresos publicitarios que deberían utilizarse para financiar la creación de contenido\, como editores\, periodismo de calidad y otras industrias creativas. \nMás información AQUÍ
URL:https://linagalvez.eu/agenda/reunion-sobre-la-coalicion-tracking-free-ads-2/
CATEGORIES:Destacado,ITRE,S&D,STOA
ATTACH;FMTTYPE=image/jpeg:https://linagalvez.eu/wp-content/uploads/2021/03/Tracking-Free-Ads.jpg
END:VEVENT
END:VCALENDAR