BEGIN:VCALENDAR
VERSION:2.0
PRODID:-//Lina Gálvez - ECPv6.15.20//NONSGML v1.0//EN
CALSCALE:GREGORIAN
METHOD:PUBLISH
X-WR-CALNAME:Lina Gálvez
X-ORIGINAL-URL:https://linagalvez.eu
X-WR-CALDESC:Eventos para Lina Gálvez
REFRESH-INTERVAL;VALUE=DURATION:PT1H
X-Robots-Tag:noindex
X-PUBLISHED-TTL:PT1H
BEGIN:VTIMEZONE
TZID:Europe/Madrid
BEGIN:DAYLIGHT
TZOFFSETFROM:+0100
TZOFFSETTO:+0200
TZNAME:CEST
DTSTART:20200329T010000
END:DAYLIGHT
BEGIN:STANDARD
TZOFFSETFROM:+0200
TZOFFSETTO:+0100
TZNAME:CET
DTSTART:20201025T010000
END:STANDARD
BEGIN:DAYLIGHT
TZOFFSETFROM:+0100
TZOFFSETTO:+0200
TZNAME:CEST
DTSTART:20210328T010000
END:DAYLIGHT
BEGIN:STANDARD
TZOFFSETFROM:+0200
TZOFFSETTO:+0100
TZNAME:CET
DTSTART:20211031T010000
END:STANDARD
BEGIN:DAYLIGHT
TZOFFSETFROM:+0100
TZOFFSETTO:+0200
TZNAME:CEST
DTSTART:20220327T010000
END:DAYLIGHT
BEGIN:STANDARD
TZOFFSETFROM:+0200
TZOFFSETTO:+0100
TZNAME:CET
DTSTART:20221030T010000
END:STANDARD
END:VTIMEZONE
BEGIN:VEVENT
DTSTART;TZID=Europe/Madrid:20210705T080000
DTEND;TZID=Europe/Madrid:20210711T170000
DTSTAMP:20260421T024955
CREATED:20210211T164450Z
LAST-MODIFIED:20210702T100019Z
UID:3087-1625472000-1626022800@linagalvez.eu
SUMMARY:Pleno del Parlamento Europeo en Estrasburgo
DESCRIPTION:Destacados del pleno. Estrasburgo\, 5-11 de julio 2021 \n\nDerechos de los ciudadanos LGBTIQ en Hungría. El plenario discutirá las posibles violaciones de la legislación de la UE y de los derechos de la ciudadanía LGBTIQ en Hungría\, y se preguntará qué medidas están previstas para proteger los derechos de los niñxs y de las personas LGBTIQ. También interrogarán al Consejo y a la Comisión sobre las dos audiencias celebradas por el Consejo sobre el Estado de Derecho en Hungría y Polonia el 22 de junio. (debates el miércoles\, resolución sobre Hungría votada el jueves)\nDebate con Janez Janša. El martes por la mañana\, lxs eurodiputadxs debatirán con el primer ministro Janez Janša las prioridades de la Presidencia eslovena del Consejo para el segundo semestre de 2021. Se espera que Eslovenia se centre en la aplicación oportuna del paquete de estímulo de la UE de próxima generación\, en facilitar la adopción de planes nacionales de recuperación\, en la Conferencia sobre el Futuro de Europa y en la promoción del Estado de Derecho.\nCumbre de la UE. Lxs eurodiputadxs evaluarán los resultados del Consejo Europeo de los días 24 y 25 de junio\, en un debate que tendrá lugar el miércoles por la mañana con el Presidente del Consejo Europeo\, Charles Michel\, y la Presidenta de la Comisión\, Ursula von der Leyen.\nPrevención de la explotación sexual de los niños y niñas en Internet. Lxs eurodiputadxs debatirán y votarán un reglamento temporal que permite a los proveedores de servicios de correo electrónico\, chats y mensajería en Internet detectar\, eliminar y denunciar voluntariamente los abusos sexuales a menores en línea\, así como utilizar tecnologías de escaneo para detectar la ciberprostitución. (debate el lunes\, votación y resultado el martes).\nAgencia Europea de Medicamentos. El Parlamento debatirá y adoptará su posición para las conversaciones con el Consejo sobre un papel más fuerte para la Agencia Europea de Medicamentos y la ampliación de su mandato para prepararse para las crisis y gestionar los medicamentos y productos sanitarios\, tras las lecciones aprendidas de la pandemia de COVID-19. (debateMiércoles\, votación y resultado Jueves)\nEstado de derecho. Lxs eurodiputadxs comentarán las directrices que está elaborando la Comisión sobre cómo aplicar el Mecanismo de Condicionalidad del Estado de Derecho de la UE\, diseñado para proteger los fondos de la UE contra el mal uso por parte de los gobiernos de la UE. (debate el martes\, votación el miércoles\, resultado el jueves).\nProyectos de infraestructuras que conectan las regiones de la UE. El Parlamento se dispone a aprobar el programa mejorado del Mecanismo «Conectar Europa»\, dotado con 30.000 millones de euros entre 2021 y 2027\, que financiará proyectos de transporte\, energía y digitales y garantizará que los proyectos transeuropeos esenciales estén terminados en el plazo previsto para 2030. (debate y votación el martes\, resultado el miércoles)
URL:https://linagalvez.eu/agenda/pleno-del-parlamento-europeo-2-2-2-2-2-2-2/
CATEGORIES:Actualidad,Destacado,Parlamento
ATTACH;FMTTYPE=image/jpeg:https://linagalvez.eu/wp-content/uploads/2020/03/European_Parliament_Strasbourg_Hemicycle_-_Diliff-2-scaled.jpg
END:VEVENT
BEGIN:VEVENT
DTSTART;TZID=Europe/Madrid:20210706T090000
DTEND;TZID=Europe/Madrid:20210706T100000
DTSTAMP:20260421T024955
CREATED:20210412T084247Z
LAST-MODIFIED:20210702T114150Z
UID:3994-1625562000-1625565600@linagalvez.eu
SUMMARY:S&D FEMM Working Group
DESCRIPTION:Reunión del  del Grupo de Trabajo de Igualdad (FEMM) del S&D donde para debatir las propuestas que se discutirán en el próximo plenario.
URL:https://linagalvez.eu/agenda/sd-femm-working-group-5-2-3-2-2-3/
CATEGORIES:FEMM,S&D
END:VEVENT
BEGIN:VEVENT
DTSTART;TZID=Europe/Madrid:20210706T100000
DTEND;TZID=Europe/Madrid:20210706T113000
DTSTAMP:20260421T024955
CREATED:20210412T080804Z
LAST-MODIFIED:20210705T081146Z
UID:3995-1625565600-1625571000@linagalvez.eu
SUMMARY:S&D ITRE Working Group meeting
DESCRIPTION:Grupo de trabajo S&D ITRE en el que se tratarán los temas que se debatirán en el siguiente Pleno.
URL:https://linagalvez.eu/agenda/sd-itre-working-group-meeting-2-4-2-3-2/
CATEGORIES:Actualidad,Destacado,ITRE,S&D
ATTACH;FMTTYPE=image/png:https://linagalvez.eu/wp-content/uploads/2020/01/1-S&D.svg.png
END:VEVENT
BEGIN:VEVENT
DTSTART;TZID=Europe/Madrid:20210706T110000
DTEND;TZID=Europe/Madrid:20210706T120000
DTSTAMP:20260421T024955
CREATED:20210701T133517Z
LAST-MODIFIED:20210701T133517Z
UID:3979-1625569200-1625572800@linagalvez.eu
SUMMARY:Webinar "El futuro de la socialdemocracia"
DESCRIPTION:
URL:https://linagalvez.eu/agenda/webinar-el-futuro-de-la-socialdemocracia/
CATEGORIES:Destacado,S&D
ATTACH;FMTTYPE=image/jpeg:https://linagalvez.eu/wp-content/uploads/2021/07/FuturoSocaildemocracia.jpg
END:VEVENT
BEGIN:VEVENT
DTSTART;TZID=Europe/Madrid:20210706T180000
DTEND;TZID=Europe/Madrid:20210706T203000
DTSTAMP:20260421T024955
CREATED:20200201T111739Z
LAST-MODIFIED:20210702T113925Z
UID:3998-1625594400-1625603400@linagalvez.eu
SUMMARY:S&D Group Meeting
DESCRIPTION:
URL:https://linagalvez.eu/agenda/sd-group-meeting-21-2-2-3/
CATEGORIES:Actualidad,Parlamento,S&D
ATTACH;FMTTYPE=image/png:https://linagalvez.eu/wp-content/uploads/2020/01/1-S&D.svg.png
END:VEVENT
BEGIN:VEVENT
DTSTART;TZID=Europe/Madrid:20210707T181500
DTEND;TZID=Europe/Madrid:20210707T203500
DTSTAMP:20260421T024955
CREATED:20200201T111739Z
LAST-MODIFIED:20210702T114030Z
UID:4001-1625681700-1625690100@linagalvez.eu
SUMMARY:S&D Group Meeting
DESCRIPTION:
URL:https://linagalvez.eu/agenda/sd-group-meeting-21-2-2-3-2/
CATEGORIES:Actualidad,Parlamento,S&D
ATTACH;FMTTYPE=image/png:https://linagalvez.eu/wp-content/uploads/2020/01/1-S&D.svg.png
END:VEVENT
BEGIN:VEVENT
DTSTART;TZID=Europe/Madrid:20210707T183000
DTEND;TZID=Europe/Madrid:20210707T190000
DTSTAMP:20260421T024955
CREATED:20210423T144018Z
LAST-MODIFIED:20210707T171727Z
UID:4007-1625682600-1625684400@linagalvez.eu
SUMMARY:Participación en plenario en el debate sobre el "A new ERA for Research and Innovation"
DESCRIPTION:La Europiputada Lina Gálvéz participara en el plenario dentro del debate sobre el nuevo Espacio Europeo de Investigación e Innovación (A new ERA for Research and Innovation). \nSe podrá seguir el debate en este enlace.
URL:https://linagalvez.eu/agenda/participacion-en-plenario-en-el-debate-conjunto-sobre-investigacion-e-innovacion-2-2-3/
CATEGORIES:Destacado,ITRE,STOA
ATTACH;FMTTYPE=image/jpeg:https://linagalvez.eu/wp-content/uploads/2021/05/Estrategia-Industrial.jpg
END:VEVENT
BEGIN:VEVENT
DTSTART;TZID=Europe/Madrid:20210707T190000
DTEND;TZID=Europe/Madrid:20210707T193000
DTSTAMP:20260421T024955
CREATED:20210611T094412Z
LAST-MODIFIED:20210707T175718Z
UID:4014-1625684400-1625686200@linagalvez.eu
SUMMARY:Acto en Madrid. Ponencia 40 Congreso PSOE
DESCRIPTION:Lina Gálvez participará en un acto en Granada en el marco de la ‘Ponencia 40 Congreso’ del PSOE «Igualdad como horizonte. Feminismo como camino»\nPodrá seguirse en el siguiente enlace.\nhttps://youtu.be/Emk9TDATA8o
URL:https://linagalvez.eu/agenda/acto-en-barcelona-sobre-inclusion-social-y-politicas-de-bienestar-ponencia-40-congreso-del-psoe-3-2/
CATEGORIES:Actualidad,Destacado,S&D
ATTACH;FMTTYPE=image/jpeg:https://linagalvez.eu/wp-content/uploads/2021/06/PSOE-Municipalismo.jpg
END:VEVENT
BEGIN:VEVENT
DTSTART;TZID=Europe/Madrid:20210707T223000
DTEND;TZID=Europe/Madrid:20210707T230000
DTSTAMP:20260421T024955
CREATED:20210305T132009Z
LAST-MODIFIED:20210707T122746Z
UID:4010-1625697000-1625698800@linagalvez.eu
SUMMARY:Intervención en el plenario. Debate sobre revisión de la política macroeconómica.
DESCRIPTION:Intervención en el Plenario de la eurodiputada Lina Gálvez el debate sobre revisión del marco legislativo macroeconómico para un mayor impacto en la economía real europea y una mayor transparencia en la toma de decisiones y la rendición de cuentas democráticas.
URL:https://linagalvez.eu/agenda/intervencion-en-el-plenario-european-semester-2/
CATEGORIES:Actualidad,Destacado,EMPL,Parlamento,S&D
ATTACH;FMTTYPE=image/jpeg:https://linagalvez.eu/wp-content/uploads/2021/01/eldiario_linagalvez.jpeg
END:VEVENT
BEGIN:VEVENT
DTSTART;TZID=Europe/Madrid:20210709T093000
DTEND;TZID=Europe/Madrid:20210709T120000
DTSTAMP:20260421T024955
CREATED:20200122T145648Z
LAST-MODIFIED:20210702T113427Z
UID:3993-1625823000-1625832000@linagalvez.eu
SUMMARY:Reunión de coordinación Oficina Parlamentaria LGM
DESCRIPTION:
URL:https://linagalvez.eu/agenda/reunion-de-coordinacion-oficina-parlamentaria-lgm-5-2-2-2-2-3/
CATEGORIES:Actualidad,Parlamento
ATTACH;FMTTYPE=image/jpeg:https://linagalvez.eu/wp-content/uploads/2020/07/Calendario.jpg
END:VEVENT
BEGIN:VEVENT
DTSTART;TZID=Europe/Madrid:20210712T100000
DTEND;TZID=Europe/Madrid:20210712T110000
DTSTAMP:20260421T024955
CREATED:20210701T080221Z
LAST-MODIFIED:20210712T092838Z
UID:4042-1626084000-1626087600@linagalvez.eu
SUMMARY:Trade Union Intergroup
DESCRIPTION:Reunión del  Intergrupo Sindicatos. Se debatirá entorno a las propuestas del la Conferencia sobre el futuro de Europa.
URL:https://linagalvez.eu/agenda/reunion-intergrupo-sindicatos-2/
CATEGORIES:EMPL,Parlamento,S&D
ATTACH;FMTTYPE=image/jpeg:https://linagalvez.eu/wp-content/uploads/2021/02/ETUC-febreo-2020.jpg
END:VEVENT
BEGIN:VEVENT
DTSTART;TZID=Europe/Madrid:20210712T134500
DTEND;TZID=Europe/Madrid:20210712T154500
DTSTAMP:20260421T024955
CREATED:20200921T070440Z
LAST-MODIFIED:20210709T101720Z
UID:4032-1626097500-1626104700@linagalvez.eu
SUMMARY:Committee on Women’s Rights and Gender Equality FEMM
DESCRIPTION:Results from the Generation Equality Forum – exchange of views with the European Commission (TBC)
URL:https://linagalvez.eu/agenda/committee-on-womens-rights-and-gender-equality-femm-7-2-2-3-2-2/
CATEGORIES:Destacado,FEMM,Parlamento
ATTACH;FMTTYPE=image/jpeg:https://linagalvez.eu/wp-content/uploads/2021/04/EMPL_220421.jpg
END:VEVENT
BEGIN:VEVENT
DTSTART;TZID=Europe/Madrid:20210713T091500
DTEND;TZID=Europe/Madrid:20210713T093000
DTSTAMP:20260421T024955
CREATED:20210412T080804Z
LAST-MODIFIED:20210712T093722Z
UID:4044-1626167700-1626168600@linagalvez.eu
SUMMARY:S&D ITRE Working Group meeting
DESCRIPTION:Grupo de trabajo S&D ITRE en el que se tratarán los temas de actualidad ITRE.
URL:https://linagalvez.eu/agenda/sd-itre-working-group-meeting-2-4-2-3-2-2/
CATEGORIES:Actualidad,ITRE,S&D
ATTACH;FMTTYPE=image/png:https://linagalvez.eu/wp-content/uploads/2020/01/1-S&D.svg.png
END:VEVENT
BEGIN:VEVENT
DTSTART;TZID=Europe/Madrid:20210713T100000
DTEND;TZID=Europe/Madrid:20210713T110000
DTSTAMP:20260421T024955
CREATED:20210412T084247Z
LAST-MODIFIED:20210712T094359Z
UID:4046-1626170400-1626174000@linagalvez.eu
SUMMARY:Comisión conjunta de las Comisiones ITRE y CONT (Control presupuestario)
DESCRIPTION:Presentación del Informe Especial del Tribunal de Cuentas 07/2021 sobre los programas espaciales de la UE Galileo y Copernicus.
URL:https://linagalvez.eu/agenda/sd-femm-working-group-5-2-3-2-2-2-2-2/
CATEGORIES:Destacado,ITRE,Parlamento
ATTACH;FMTTYPE=image/jpeg:https://linagalvez.eu/wp-content/uploads/2021/06/ITRE_170621.jpg
END:VEVENT
BEGIN:VEVENT
DTSTART;TZID=Europe/Madrid:20210713T113000
DTEND;TZID=Europe/Madrid:20210713T133000
DTSTAMP:20260421T024955
CREATED:20200921T070440Z
LAST-MODIFIED:20210709T122418Z
UID:4039-1626175800-1626183000@linagalvez.eu
SUMMARY:Committee on Women’s Rights and Gender Equality FEMM
DESCRIPTION:El 13 de julio\, la Comisión FEMM votarán el proyecto de dictamen sobre la «Estrategia de movilidad sostenible e inteligente». \nSe ha llegado a un consenso para incluir la perspectiva de género de esta estrategia de movilidad\, la necesidad de recoger y analizar datos comparables desglosados por género y la investigación sobre los patrones de viaje\, para abordar la infrarrepresentación de las mujeres como trabajadoras del transporte (22%)\, así como el vínculo con la brecha de género en los sectores STEM y de nuevas tecnologías\, que se ven afectados por los sesgos y estereotipos de género. El ejemplo de los sistemas de dummies para las pruebas de seguridad de los vehículos es sintomático de esta cuestión\, ya que sigue sin tener en cuenta la especificidad de la morfología femenina. Las mujeres y los hombres viven la movilidad de forma diferente y es urgente ofrecer un sistema de transporte más adaptado a las necesidades de las mujeres.
URL:https://linagalvez.eu/agenda/committee-on-womens-rights-and-gender-equality-femm-7-2-2-3-2-3-2/
CATEGORIES:Destacado,FEMM,Parlamento
ATTACH;FMTTYPE=image/jpeg:https://linagalvez.eu/wp-content/uploads/2021/04/EMPL_220421.jpg
END:VEVENT
BEGIN:VEVENT
DTSTART;TZID=Europe/Madrid:20210713T130000
DTEND;TZID=Europe/Madrid:20210713T140000
DTSTAMP:20260421T024955
CREATED:20210412T083611Z
LAST-MODIFIED:20210712T095015Z
UID:4049-1626181200-1626184800@linagalvez.eu
SUMMARY:S&D Grupo de trabajo de Empleo y Asuntos Sociales
DESCRIPTION:Grupo de trabajo S&D EMPL en el que se tratarán los temas que se debatirán en la Comisión EMPL siguiente.
URL:https://linagalvez.eu/agenda/sd-grupo-de-trabajo-de-empleo-y-asuntos-sociales-4-2-2-2-2-2/
CATEGORIES:Actualidad,EMPL,Parlamento,S&D
ATTACH;FMTTYPE=image/jpeg:https://linagalvez.eu/wp-content/uploads/2020/11/SD-WG-ITRE.jpg
END:VEVENT
BEGIN:VEVENT
DTSTART;TZID=Europe/Madrid:20210713T133000
DTEND;TZID=Europe/Madrid:20210713T140000
DTSTAMP:20260421T024955
CREATED:20210525T064413Z
LAST-MODIFIED:20210712T095800Z
UID:4051-1626183000-1626184800@linagalvez.eu
SUMMARY:Comité conjunto de las Comisiones FEMM y JURI
DESCRIPTION:Reunión conjunta de las Comisiones FEMM y JURI
URL:https://linagalvez.eu/agenda/comite-especial-sobe-inteligencia-artificial-2-4-3/
CATEGORIES:Destacado,FEMM,Parlamento
ATTACH;FMTTYPE=image/jpeg:https://linagalvez.eu/wp-content/uploads/2021/05/FEMM-Comision.jpg
END:VEVENT
BEGIN:VEVENT
DTSTART;TZID=Europe/Madrid:20210713T164500
DTEND;TZID=Europe/Madrid:20210713T180000
DTSTAMP:20260421T024955
CREATED:20200921T070440Z
LAST-MODIFIED:20210712T101811Z
UID:4033-1626194700-1626199200@linagalvez.eu
SUMMARY:Committee on Women’s Rights and Gender Equality FEMM
DESCRIPTION:La eurodiputada Lina Gálvez tomará la palabra para interpelar a  Janez Cigler Kralj (ministro de Trabajo\, Familia\, Asuntos Sociales e Igualdad de Oportunidades de Eslovenia) en la presentación a cargo de la Presidencia del Consejo.
URL:https://linagalvez.eu/agenda/committee-on-womens-rights-and-gender-equality-femm-7-2-2-3-2-3/
CATEGORIES:FEMM,Parlamento
ATTACH;FMTTYPE=image/jpeg:https://linagalvez.eu/wp-content/uploads/2021/06/feminizacion-pobreza.jpg
END:VEVENT
BEGIN:VEVENT
DTSTART;TZID=Europe/Madrid:20210714T090000
DTEND;TZID=Europe/Madrid:20210714T154500
DTSTAMP:20260421T024955
CREATED:20210312T175910Z
LAST-MODIFIED:20210709T123226Z
UID:4031-1626253200-1626277500@linagalvez.eu
SUMMARY:Comisión de Empleo y Asuntos Sociales
DESCRIPTION:Debates previstos \nIntercambio de opiniones con Janez CIGLER KRALJ (Ministro de Trabajo\, Familia\, Asuntos Sociales e Igualdad de Oportunidades de Eslovenia) – Presentación del programa de la Presidencia del Consejo\nIntercambio de opiniones con Nicolas SCHMIT (Comisario de Empleo y Derechos Sociales) sobre el marco estratégico de la UE en materia de salud y seguridad en el trabajo 2021- 2027 – La seguridad y la salud en el trabajo en un mundo laboral en transformación \nVotaciones \nCondiciones de trabajo justas\, derechos y protección social para los trabajadores de plataformas – Nuevas formas de empleo vinculadas al desarrollo digital – Aprobación del proyecto de informe.
URL:https://linagalvez.eu/agenda/comision-de-empleo-y-asuntos-sociales-2-2-2-2/
CATEGORIES:Actualidad,Destacado,EMPL,Parlamento
ATTACH;FMTTYPE=image/jpeg:https://linagalvez.eu/wp-content/uploads/2021/05/Estrategia-Industrial.jpg
END:VEVENT
BEGIN:VEVENT
DTSTART;TZID=Europe/Madrid:20210714T134500
DTEND;TZID=Europe/Madrid:20210714T140000
DTSTAMP:20260421T024955
CREATED:20210525T064413Z
LAST-MODIFIED:20210712T101034Z
UID:4054-1626270300-1626271200@linagalvez.eu
SUMMARY:Comisión conjunta de las Comisiones FEMM y LIBE
DESCRIPTION:Reunión conjunta de las Comisiones FEMM y LIBE considerarán un proyecto de informe legislativo de propia iniciativa que pide a la Comisión que presente una Directiva sobre la lucha contra la ciberviolencia de género. \n\n\nEl proyecto de texto identifica los «delitos informáticos» como base jurídica de la Directiva de conformidad con el artículo 83\, apartado 1\, del TFUE). Se centra en la lucha contra la ciberviolencia como expresión de la violencia de género con especial atención a la violencia contra las mujeres y aborda aspectos como las medidas encaminadas a la prevención del delito\, a la mejora de la seguridad en línea y a afrontar eficazmente este fenómeno. \nMás Info
URL:https://linagalvez.eu/agenda/comite-especial-sobe-inteligencia-artificial-2-4-4/
CATEGORIES:FEMM,Parlamento
ATTACH;FMTTYPE=image/jpeg:https://linagalvez.eu/wp-content/uploads/2021/05/VG-EuroCrimen-.jpg
END:VEVENT
BEGIN:VEVENT
DTSTART;TZID=Europe/Madrid:20210714T160000
DTEND;TZID=Europe/Madrid:20210714T170000
DTSTAMP:20260421T024955
CREATED:20210713T073548Z
LAST-MODIFIED:20210713T073548Z
UID:4068-1626278400-1626282000@linagalvez.eu
SUMMARY:Participación en el Curso "Construyendo la España post-covid Building postcovid Spain". San Lorenzo del Escorial
DESCRIPTION:La eurodiputada Lina Gálvez participará en este curso de verano de la Universidad Complutense y la Fundación Pablo Iglesias organizado en su campus de San Lorenzo del Escorial. \n«La pandemia ha acelerado cambios que preveíamos\, ahora tenemos que llevarlos a cabo. Hemos de afrontar la modernización y la transformación de nuestro país. No se trata solo de recuperar lo perdido\, sino crecer de una nueva manera\, sobre unos pilares más robustos en un mundo que ha cambiado completamente. Una forma de crecer mucho más fuerte y justa\, más competitiva pero también\, más sostenible. \nEl curso de verano que presentamos abordará\, de la mano de especialistas y representantes públicos del máximo nivel nacional e internacional\, los ejes que articularán la recuperación española desde un planteamiento progresista\, justo e inclusivo. La transición ecológica\, la transformación digital\, la igualdad de género\, la cohesión social y territorial\, la educación y la sanidad y el papel de España en Europa serán los ejes sobre los que pivotará el futuro desarrollo español.»
URL:https://linagalvez.eu/agenda/participacion-en-el-curso-construyendo-la-espana-post-covid-building-postcovid-spain-san-lorenzo-del-escorial/
CATEGORIES:FEMM,S&D,Universidad
ATTACH;FMTTYPE=image/jpeg:https://linagalvez.eu/wp-content/uploads/2021/07/VeranoEscorial.jpg
END:VEVENT
BEGIN:VEVENT
DTSTART;TZID=Europe/Madrid:20210715T090000
DTEND;TZID=Europe/Madrid:20210715T120000
DTSTAMP:20260421T024955
CREATED:20210611T142459Z
LAST-MODIFIED:20210712T102438Z
UID:4057-1626339600-1626350400@linagalvez.eu
SUMMARY:Reunión de la Comisión de Industria\, Investigación y Energía (ITRE)
DESCRIPTION:Presentación del programa de la Presidencia del Consejo por parte de los ministros eslovenos de telecomunicaciones\, energía\, industria\, pymes\, espacio\, e investigación e innovación.
URL:https://linagalvez.eu/agenda/reunion-de-la-comision-de-industria-investigacion-y-energia-itre-17-2-2-2/
CATEGORIES:ITRE
ATTACH;FMTTYPE=image/jpeg:https://linagalvez.eu/wp-content/uploads/2021/05/DiadeEuropa_LinaGalvezMunoz.jpg
END:VEVENT
BEGIN:VEVENT
DTSTART;TZID=Europe/Madrid:20210715T130000
DTEND;TZID=Europe/Madrid:20210715T134500
DTSTAMP:20260421T024955
CREATED:20210713T074908Z
LAST-MODIFIED:20210713T074908Z
UID:4071-1626354000-1626356700@linagalvez.eu
SUMMARY:Participación en el Curso "Cambio demográfico y desigualdades de género". Universidad del País Vasco
DESCRIPTION:Lina gálvez participará en este curso de verano donde reflexionará sobre “Cambio demográfico y desigualdades de género “ \nMás información AQUÍ
URL:https://linagalvez.eu/agenda/participacion-en-el-curso-cambio-demografico-y-desigualdades-de-genero-universidad-del-pais-vasco/
CATEGORIES:FEMM,S&D,Universidad
ATTACH;FMTTYPE=image/jpeg:https://linagalvez.eu/wp-content/uploads/2021/07/Cambio-demografico-jpg.jpg
END:VEVENT
BEGIN:VEVENT
DTSTART;TZID=Europe/Madrid:20210715T143000
DTEND;TZID=Europe/Madrid:20210715T190000
DTSTAMP:20260421T024955
CREATED:20210611T142459Z
LAST-MODIFIED:20210712T105251Z
UID:4066-1626359400-1626375600@linagalvez.eu
SUMMARY:Reunión de la Comisión de Industria\, Investigación y Energía (ITRE)
DESCRIPTION:14.25 – 15.45 \nLa eurodiputada Lina Gálvez tomará la palabra para defender las enmiendas sobre la Ley de servicios digitales \n 16.45 – 18.45 \nPresentación a cargo de Kadri Simson (comisaria de Energía) sobre los aspectos relacionados con la energía del paquete de medidas Objetivo 55 (Fit for 55) que se hará público el 14 de julio.
URL:https://linagalvez.eu/agenda/reunion-de-la-comision-de-industria-investigacion-y-energia-itre-17-2-2-2-2/
CATEGORIES:ITRE
ATTACH;FMTTYPE=image/jpeg:https://linagalvez.eu/wp-content/uploads/2020/04/LGM_Tecnologicas-Amazon_040621-captura.jpg
END:VEVENT
BEGIN:VEVENT
DTSTART;TZID=Europe/Madrid:20210716T110000
DTEND;TZID=Europe/Madrid:20210716T123000
DTSTAMP:20260421T024955
CREATED:20210312T182507Z
LAST-MODIFIED:20210713T080032Z
UID:4074-1626433200-1626438600@linagalvez.eu
SUMMARY:Panel for the Future of Science and Technology (STOA)
DESCRIPTION:La próxima reunión del Panel de STOA se llevará a cabo el viernes 15 de junio de 2021\, de 11.00 a 12.30 horas. \nEsta reunión contará con la presencia de Maros Sefcovic\, Vicepresidente de Relaciones Interinstitucionales y Previsión de la Comisión Europea\, que presentará el informe prospectivo.
URL:https://linagalvez.eu/agenda/panel-for-the-future-of-science-and-technology-stoa-5-2-2-2/
CATEGORIES:Actualidad,Parlamento,STOA
ATTACH;FMTTYPE=image/jpeg:https://linagalvez.eu/wp-content/uploads/2021/03/STOA-jULIOjpg.jpg
END:VEVENT
BEGIN:VEVENT
DTSTART;TZID=Europe/Madrid:20210716T123000
DTEND;TZID=Europe/Madrid:20210716T143000
DTSTAMP:20260421T024955
CREATED:20200705T094158Z
LAST-MODIFIED:20210713T075729Z
UID:4077-1626438600-1626445800@linagalvez.eu
SUMMARY:Reunión de coordinación Oficina Parlamentaria LGM
DESCRIPTION:
URL:https://linagalvez.eu/agenda/reunion-de-equipo-coordinacion-interna-2-2-2-2-2/
CATEGORIES:Actualidad,Parlamento
ATTACH;FMTTYPE=image/jpeg:https://linagalvez.eu/wp-content/uploads/2020/07/Calendario2.jpg
END:VEVENT
BEGIN:VEVENT
DTSTART;TZID=Europe/Madrid:20210719T080000
DTEND;TZID=Europe/Madrid:20210723T170000
DTSTAMP:20260421T024955
CREATED:20210205T102540Z
LAST-MODIFIED:20210212T155134Z
UID:3092-1626681600-1627059600@linagalvez.eu
SUMMARY:External parliamentary activities. Week.
DESCRIPTION:Durante las semanas verdes\,  en la medida que las normas seguridad  sanitarias COVID19 lo permitan\, l@s eurodiputad@s desarrollan actividades fuera del Parlamento Europeo. Trabajan en sus circunscripciones para tener la oportunidad de estar en contacto con las personas electoras\, o en las delegaciones del PE para mantener relaciones con los países ajenos a la UE.\nMás Información 
URL:https://linagalvez.eu/agenda/external-parliamentary-activities-week-2-2-2/
CATEGORIES:Actualidad,Parlamento
ATTACH;FMTTYPE=image/jpeg:https://linagalvez.eu/wp-content/uploads/2021/02/Semana-verde.jpg
END:VEVENT
BEGIN:VEVENT
DTSTART;TZID=Europe/Madrid:20210831T090000
DTEND;TZID=Europe/Madrid:20210831T100000
DTSTAMP:20260421T024955
CREATED:20200921T070440Z
LAST-MODIFIED:20210831T093134Z
UID:4034-1630400400-1630404000@linagalvez.eu
SUMMARY:Committee on Women’s Rights and Gender Equality FEMM
DESCRIPTION:El martes 31 de julio\, la Comisión FEMM debatirá el proyecto de presupuesto general de la Unión Europea para el ejercicio 2022 y se presentará el Foro de expertas y expertos del Instituto Europeo de la Igualdad de Género (EIGE).
URL:https://linagalvez.eu/agenda/committee-on-womens-rights-and-gender-equality-femm-7-2-2-3-2-4/
CATEGORIES:Destacado,FEMM,Parlamento
ATTACH;FMTTYPE=image/jpeg:https://linagalvez.eu/wp-content/uploads/2021/04/EMPL_220421.jpg
END:VEVENT
BEGIN:VEVENT
DTSTART;TZID=Europe/Madrid:20210831T160000
DTEND;TZID=Europe/Madrid:20210831T170000
DTSTAMP:20260421T024955
CREATED:20210412T084247Z
LAST-MODIFIED:20210831T092828Z
UID:4092-1630425600-1630429200@linagalvez.eu
SUMMARY:S&D FEMM Working Group
DESCRIPTION:Sesion monografica sobre la Situacion Socioeconomica de las Mujeres
URL:https://linagalvez.eu/agenda/sd-femm-working-group-5-2-3-2-3/
CATEGORIES:FEMM,S&D
END:VEVENT
BEGIN:VEVENT
DTSTART;TZID=Europe/Madrid:20210901T090000
DTEND;TZID=Europe/Madrid:20210901T100000
DTSTAMP:20260421T024955
CREATED:20210830T165910Z
LAST-MODIFIED:20210831T093455Z
UID:4056-1630486800-1630490400@linagalvez.eu
SUMMARY:Comisión de Empleo y Asuntos Sociales
DESCRIPTION:Debates previstos \nSe presenta el expediente sobre Políticas sociales y de empleo de la zona del euro en 2021\, del que es responsable la eurodiputada Lina Gálvez Muñoz.
URL:https://linagalvez.eu/agenda/comision-de-empleo-y-asuntos-sociales-2-2-2-2-2/
CATEGORIES:Actualidad,Destacado,EMPL,Parlamento
ATTACH;FMTTYPE=image/jpeg:https://linagalvez.eu/wp-content/uploads/2021/05/Estrategia-Industrial.jpg
END:VEVENT
END:VCALENDAR