BEGIN:VCALENDAR
VERSION:2.0
PRODID:-//Lina Gálvez - ECPv6.15.20//NONSGML v1.0//EN
CALSCALE:GREGORIAN
METHOD:PUBLISH
X-WR-CALNAME:Lina Gálvez
X-ORIGINAL-URL:https://linagalvez.eu
X-WR-CALDESC:Eventos para Lina Gálvez
REFRESH-INTERVAL;VALUE=DURATION:PT1H
X-Robots-Tag:noindex
X-PUBLISHED-TTL:PT1H
BEGIN:VTIMEZONE
TZID:Europe/Madrid
BEGIN:DAYLIGHT
TZOFFSETFROM:+0100
TZOFFSETTO:+0200
TZNAME:CEST
DTSTART:20200329T010000
END:DAYLIGHT
BEGIN:STANDARD
TZOFFSETFROM:+0200
TZOFFSETTO:+0100
TZNAME:CET
DTSTART:20201025T010000
END:STANDARD
BEGIN:DAYLIGHT
TZOFFSETFROM:+0100
TZOFFSETTO:+0200
TZNAME:CEST
DTSTART:20210328T010000
END:DAYLIGHT
BEGIN:STANDARD
TZOFFSETFROM:+0200
TZOFFSETTO:+0100
TZNAME:CET
DTSTART:20211031T010000
END:STANDARD
BEGIN:DAYLIGHT
TZOFFSETFROM:+0100
TZOFFSETTO:+0200
TZNAME:CEST
DTSTART:20220327T010000
END:DAYLIGHT
BEGIN:STANDARD
TZOFFSETFROM:+0200
TZOFFSETTO:+0100
TZNAME:CET
DTSTART:20221030T010000
END:STANDARD
END:VTIMEZONE
BEGIN:VEVENT
DTSTART;TZID=Europe/Madrid:20210927T150000
DTEND;TZID=Europe/Madrid:20210930T203000
DTSTAMP:20260421T175732
CREATED:20210927T091747Z
LAST-MODIFIED:20210927T093900Z
UID:4279-1632754800-1633033800@linagalvez.eu
SUMMARY:External Group Meeting en Malta
DESCRIPTION:Primera reunión del Grupo S&D en modo presencial\, del 28 al 30 de septiembre de 2021. Siguiendo estrictamente todas las demandas de seguridad sanitaria\, l@s MEPs celebrarán su reunión de grupo\, talleres y encontrar misiones en Malta\, junto con un evento ciudadano en el contexto de la Conferencia sobre el futuro de Europa . \nEl martes 28 de septiembre de 2021\, de 16.30 a 17.15 horas\, tendrá lugar una rueda de prensa retransmitida en directo con Iratxe García Pérez \, presidente del Grupo S&D\, y Robert Abela \, primer ministro maltés. El enlace a la transmisión web se puede encontrar aquí . \nEl programa completo de la reunión del Grupo S&Den Malta está disponible aquí . \nEl programa del evento ciudadano en el contexto de la Conferencia sobre el futuro de Europa titulado “¡Es tu Europa\, da tu opinión!” está disponible aquí .
URL:https://linagalvez.eu/agenda/external-group-meeting-en-malta/
CATEGORIES:Actualidad,Destacado,S&D
ATTACH;FMTTYPE=image/jpeg:https://linagalvez.eu/wp-content/uploads/2021/09/WhatsApp-Image-2021-09-27-at-10.58.17.jpeg
END:VEVENT
BEGIN:VEVENT
DTSTART;TZID=Europe/Madrid:20210930T090000
DTEND;TZID=Europe/Madrid:20210930T110000
DTSTAMP:20260421T175732
CREATED:20210927T104830Z
LAST-MODIFIED:20210929T102652Z
UID:4316-1632992400-1632999600@linagalvez.eu
SUMMARY:Committee on Women's Rights and Gender Equality. "Salarios mínimos justos en la UE"\, Ponente Lina Gálvez. Votación
DESCRIPTION:Salarios mínimos justos en la Unión Europea – Votación Proyecto de Dictamen MEP Lina Gálvez \nEl jueves 30 de septiembre de 2021 la Comisión FEMM votará el proyecto de dictamen sobre “Salarios mínimos adecuados en Europa” \n\n\nLos salarios mínimos son un elemento clave en el desarrollo de una política dirigida a para la pobreza y reducir las desigualdades. Estudios como el ‘ Salario mínimo en 2020: revisión anual ‘ de Eurofound muestran que\, si bien las mujeres constituyen el 48% de los empleados en la Unión Europea\, representan el 59% de los asalariados mínimos y también son uno de los principales asalariados por debajo del mínimo. \nEl dictamen FEMM\, cuya ponente es la eurodiputada\, Lina Gálvez Muňoz\, (S&D)\, tiene como objetivo fortalecer los aspectos de género en la remuneración y en las pensiones\, la recopilación de datos\, la presentación de informes\, la cooperación con los interlocutores sociales\, o el mayor impacto en la crisis covid\, entre otros. \nSe han presentado 296 enmiendas y 15 enmiendas de transacción. \n\n\n\n\nLa sesión podrá ser seguida AQUÍ
URL:https://linagalvez.eu/agenda/joint-meeting-committee-on-employment-and-social-affairs-committee-on-womens-rights-and-gender-equality/
CATEGORIES:Destacado,EMPL,FEMM,Parlamento
ATTACH;FMTTYPE=image/jpeg:https://linagalvez.eu/wp-content/uploads/2020/04/LGM_Tecnologicas-Amazon_040621-captura.jpg
END:VEVENT
BEGIN:VEVENT
DTSTART;TZID=Europe/Madrid:20210930T090000
DTEND;TZID=Europe/Madrid:20210930T120000
DTSTAMP:20260421T175732
CREATED:20210927T094856Z
LAST-MODIFIED:20210927T103600Z
UID:4309-1632992400-1633003200@linagalvez.eu
SUMMARY:S&D External Group Meeting. Malta.Con representantes de la sociedad civil\, sindicatos y organizaciones de mujeres\, con la Comisionada Helena Dalli
DESCRIPTION:
URL:https://linagalvez.eu/agenda/encuentro-con-la-embajadora-espanola-en-malta-external-group-meeting-2-2-3-2/
CATEGORIES:FEMM,S&D
ATTACH;FMTTYPE=image/jpeg:https://linagalvez.eu/wp-content/uploads/2021/09/Malta-GM-SD.jpg
END:VEVENT
BEGIN:VEVENT
DTSTART;TZID=Europe/Madrid:20210930T091500
DTEND;TZID=Europe/Madrid:20210930T104500
DTSTAMP:20260421T175732
CREATED:20210312T175910Z
LAST-MODIFIED:20210929T102539Z
UID:4095-1632993300-1632998700@linagalvez.eu
SUMMARY:Reunión conjunta de la Comisión de Derechos de la Mujer e Igualdad de Género (FEMM) y la Comisión de Empleo y Asuntos Sociales (EMPL) examinarán el proyecto de informe sobre la propuesta de la Comisión de Directiva sobre transparencia salarial.
DESCRIPTION:El jueves 30 de septiembre de 2021\, la Comisión de Derechos de la Mujer e Igualdad de Género (FEMM) y la Comisión de Empleo y Asuntos Sociales (EMPL) examinarán el proyecto de informe sobre la propuesta de la Comisión de Directiva sobre transparencia salarial. \n\n\nEl 4 de marzo de 2021\, la Comisión Europea publicó su propuesta de Directiva sobre transparencia salarial. Los coponentes del Parlamento Europeo acogen con agrado la iniciativa tan esperada y buscan en el proyecto de informe mejorar aún más la propuesta\, elaborando disposiciones como el derecho a la información\, informes y obligaciones salariales\, sistemas de clasificación y evaluación de puestos neutrales en cuanto al género\, la papel de los representantes de los trabajadores y de los interlocutores sociales\, interseccionalidad\, órganos de igualdad y órganos de control.
URL:https://linagalvez.eu/agenda/comision-de-empleo-y-asuntos-sociales-2-2-2-2-3/
CATEGORIES:Actualidad,Destacado,EMPL,Parlamento
ATTACH;FMTTYPE=image/jpeg:https://linagalvez.eu/wp-content/uploads/2021/03/Sesion-Comite-FEMM.jpg
END:VEVENT
BEGIN:VEVENT
DTSTART;TZID=Europe/Madrid:20211001T131500
DTEND;TZID=Europe/Madrid:20211001T140000
DTSTAMP:20260421T175732
CREATED:20210927T105319Z
LAST-MODIFIED:20211001T091815Z
UID:4318-1633094100-1633096800@linagalvez.eu
SUMMARY:Participación en conferencia "Mujeres en investigación e innovación: situación y retos". Hoja de ruta para conseguir un sistema europeo de innovación que incluya a las mujeres
DESCRIPTION:La eurodiputada Lina Gálvez asistirá a esta conferencia organizada por la Universidad de la Coruña donde impartirá la ponencia «Hoja de ruta para conseguir un sistema europeo de innovación que incluya a las mujeres». \nLa ANECA en 2018 para evaluar e incentivar la actividad de transferencia\, el “sexenio de transferencia”\, han evidenciado una importante brecha de género. \nSe hace necesaria una reflexión\, con perspectiva de género\, sobre el proceso de transferencia del conocimiento universitario; los distintos factores causantes de esta brecha\, la implementación de estrategias desde las universidades y organismos públicos para reducirla; así como las estrategias de empoderamiento de las investigadoras para afrontar con éxito estos nuevos retos. \nPara ello la Universidad de la Coruña. propone un programa de día y medio de duración articulado a través de ponencias impartidas por personas expertas\, mesas redondas y talleres que permitirán el debate participativo para profundizar en todo el proceso de transferencia desde una perspectiva de género.
URL:https://linagalvez.eu/agenda/participacion-en-conferencia-mujeres-en-investigacion-e-innovacion-situacion-y-retos-hoja-de-ruta-para-conseguir-un-sistema-europeo-de-innovacion-que-incluya-a-las-mujeres/
CATEGORIES:Actualidad,Destacado,FEMM,ITRE,Parlamento
ATTACH;FMTTYPE=image/jpeg:https://linagalvez.eu/wp-content/uploads/2021/09/ULaCoruna.jpg
END:VEVENT
BEGIN:VEVENT
DTSTART;TZID=Europe/Madrid:20211004T080000
DTEND;TZID=Europe/Madrid:20211007T170000
DTSTAMP:20260421T175732
CREATED:20210211T164450Z
LAST-MODIFIED:20211004T070001Z
UID:4104-1633334400-1633626000@linagalvez.eu
SUMMARY:Pleno del Parlamento Europeo en Estrasburgo
DESCRIPTION:Destacados del pleno. Estrasburgo\, 3-7 de octubre 2021 \nPrecio de la energía\nL@s eurodiputad@s debatirán el miércoles sobre cómo puede la Unión Europea abordar el aumento de los precios de la energía. En este contexto\, evaluarán el papel de la eficiencia energética y de las renovables y discutirán medidas para hacer frente a la pobreza energética. \nRelaciones UE-EEUU\nEl pleno analizará el martes\, y votará al día siguiente\, el futuro de la alianza transatlántica. Además\,debatirá cómo dotar a la UE de más autonomía y trabajar con la Administración Biden. \nAgencia de asilo\nLa Eurocámara discutirá el jueves los planes para convertir a la actual Oficina Europea de Apoyo al Asilo en una agencia europea de asilo independiente\, que cuente con más capacidad operacional y técnica\, así como con más recursos económicos y humanos. \nViolencia de género\nL@s eurodiputad@s demandarán a la Comisión que proponga medidas para prevenir y combatir todas las formas de violencia de género. \nBielorrusia\nLa crisis humanitaria en la frontera entre la UE y Bielorrusia y la guerra híbrida librada por el régimen bielorruso contra la UE centrarán un debate plenario el martes. \nSeguridad vial\nPara conseguir el objetivo de reducir a cero las muertes en carretera en la UE en 2050\, los eurodiputados pedirán más inversiones para reforzar la seguridad\, limitando la velocidad a 30 km/h en las zonas residenciales y aplicando tolerancia cero con el alcohol al volante. \nCiberseguridad\nEl miércoles\, l@s eurodiputad@s votarán propuestas para promover la ciberdefensa e incrementar la cooperación y las respuestas conjuntas a los ciberataques. Además\, el martes propondrán directrices para el uso de la inteligencia artificial por parte de la policía. \nPolítica para el Ártico\nEl interés en el Ártico aumenta debido a la presencia de minerales de tierras raras y la posibilidad de contar con nuevas rutas marítimas. Con motivo de la actualización de la política de la UE para el Ártico por parte de la Comisión\, los eurodiputados debatirán el aumento de las amenazas a la estabilidad en la región y adoptarán un informe con recomendaciones. \nBiodiversidad\nLos miembros del PE debatirán y votarán un informe de iniciativa propia en el que solicita a la UE que aborde las causas fundamentales de la pérdida de biodiversidad y que intensifique el apoyo financiero y técnico a los países en desarrollo para abordar el problema. \nOtros temas\nEvento Europeo de la Juventud \nMiles de jóvenes de toda Europa intercambiarán ideas sobre el futuro de la UE durante el Evento Europeo de la Juventud 2021 (EYE2021) en el Parlamento de Estrasburgo y en línea del 8 al 9 de octubre.
URL:https://linagalvez.eu/agenda/pleno-del-parlamento-europeo-2-2-2-2-2-2-2-4/
CATEGORIES:Actualidad,Destacado,Parlamento
ATTACH;FMTTYPE=image/jpeg:https://linagalvez.eu/wp-content/uploads/2020/03/European_Parliament_Strasbourg_Hemicycle_-_Diliff-2-scaled.jpg
END:VEVENT
BEGIN:VEVENT
DTSTART;TZID=Europe/Madrid:20211004T160000
DTEND;TZID=Europe/Madrid:20211004T170000
DTSTAMP:20260421T175732
CREATED:20210208T092530Z
LAST-MODIFIED:20211004T081337Z
UID:4336-1633363200-1633366800@linagalvez.eu
SUMMARY:S&D Group Meeting
DESCRIPTION:Reunión del Grupo S&D preparatoria de la sesión plenaria.
URL:https://linagalvez.eu/agenda/sd-group-meeting-23-3-2-2-4-2-3-3-5-2-2-2/
CATEGORIES:Actualidad,Parlamento,S&D
ATTACH;FMTTYPE=image/png:https://linagalvez.eu/wp-content/uploads/2020/01/1-S&D.svg.png
END:VEVENT
BEGIN:VEVENT
DTSTART;TZID=Europe/Madrid:20211004T191000
DTEND;TZID=Europe/Madrid:20211004T193000
DTSTAMP:20260421T175732
CREATED:20210208T091341Z
LAST-MODIFIED:20211004T162351Z
UID:4361-1633374600-1633375800@linagalvez.eu
SUMMARY:Intervención en Pleno. Debate sobre el impacto de la Violencia de género\, y los derechos de custodia en mujeres\, niños y niñas\,
DESCRIPTION:Intervención de la Eurodiputada Lina Gálvez para defender que el Parlamento adopte un informe que condene «en los términos más enérgicos posibles» todas las formas de violencia de género\, y violencias contra la mujer. \nTal y como demuestra el borrador de informe presentado pro la Comisión JURI; Las disputas por la custodia de los hijos e hijas constituyen una forma habitual de violencia de género ya que frecuentemente es usada por exparejas para continuar haciéndole daño a sus víctimas. \nPor este motivo la eurodiputada Gálvez\, reivindicará que es necesario retirar\, en estos casos\, los derechos de custodia y visita de estos progenitores así como establecer en la UE protocolos de cooperación entre los estados que eviten situaciones de desamparo para las víctimas. \nEl texto pedirá a los Estados miembros que aborden urgentemente el aumento de la violencia en el seno de la pareja durante la pandemia de COVID-19 y que garanticen una protección legal adecuada\, audiencias efectivas\, órdenes de alejamiento\, hogares seguros\, asesoramiento y apoyo financiero para las víctimas. \nConscientes de las graves consecuencias que puede tener la violencia infligida por la pareja después de la separación\, dando lugar a los casos más extremos de femicidio e infanticidio\, los eurodiputados y eurodiputadas subrayan que la protección de las mujeres y los niñ@s contra la violencia de género y el interés superior del menor debe primar sobre otros criterios cuando establecer los arreglos para la custodia y los derechos de visita. \n\n\n\nEl texto se debatirá el lunes y se someterá a votación el marte \n\n\n\nEl debate podrá ser seguido online
URL:https://linagalvez.eu/agenda/intervencion-en-pleno-debate-sobre-la-propuesta-de-european-skills-agenda-2-2/
CATEGORIES:Actualidad,Destacado,FEMM,Parlamento
ATTACH;FMTTYPE=image/jpeg:https://linagalvez.eu/wp-content/uploads/2021/06/LGM_intervencion_250621.jpg
END:VEVENT
BEGIN:VEVENT
DTSTART;TZID=Europe/Madrid:20211005T120000
DTEND;TZID=Europe/Madrid:20211005T130000
DTSTAMP:20260421T175732
CREATED:20210412T084247Z
LAST-MODIFIED:20211004T080849Z
UID:4351-1633435200-1633438800@linagalvez.eu
SUMMARY:Reunión conjunta. S&D FEMM and EMPL Working Group
DESCRIPTION:Reunión conjunta de eurodiputadas y eurodiputados del S&D para coordinar las iniciativas relacionadas con el informe de Transparencia Salarial.
URL:https://linagalvez.eu/agenda/sd-femm-working-group-5-2-3-2-3-2-2-2-2/
CATEGORIES:FEMM,S&D
END:VEVENT
BEGIN:VEVENT
DTSTART;TZID=Europe/Madrid:20211006T110000
DTEND;TZID=Europe/Madrid:20211006T123000
DTSTAMP:20260421T175732
CREATED:20210312T173611Z
LAST-MODIFIED:20211004T080206Z
UID:4344-1633518000-1633523400@linagalvez.eu
SUMMARY:S&D Grupo de trabajo de Empleo y Asuntos Sociales EMPL
DESCRIPTION:Se tratarán\, entre otros expedientes e iniciativas\, el contenido de la Conferencia sobre «El futuro de Europa».
URL:https://linagalvez.eu/agenda/sd-grupo-de-trabajo-de-empleo-y-asuntos-sociales-4-3/
CATEGORIES:Actualidad,Destacado,EMPL,Parlamento
ATTACH;FMTTYPE=image/jpeg:https://linagalvez.eu/wp-content/uploads/2020/11/SD-WG-ITRE.jpg
END:VEVENT
BEGIN:VEVENT
DTSTART;TZID=Europe/Madrid:20211007T110000
DTEND;TZID=Europe/Madrid:20211007T140000
DTSTAMP:20260421T175732
CREATED:20200608T074306Z
LAST-MODIFIED:20211014T103209Z
UID:4339-1633604400-1633615200@linagalvez.eu
SUMMARY:Meeting shadow rapporteurs. Empleo
DESCRIPTION:Reunión  de (EMPL)  relacionadas con las negociaciones #shadows\, del Expediente sobre Salarios Mínimos Adecuados. del European Parliament\,
URL:https://linagalvez.eu/agenda/meeting-shadow-rapporteurs-eit-package-4-2-2-2-2/
CATEGORIES:Actualidad,Destacado,EMPL
ATTACH;FMTTYPE=image/jpeg:https://linagalvez.eu/wp-content/uploads/2020/06/Negociacion-semestre-2.jpg
END:VEVENT
BEGIN:VEVENT
DTSTART;TZID=Europe/Madrid:20211008T093000
DTEND;TZID=Europe/Madrid:20211008T123000
DTSTAMP:20260421T175732
CREATED:20200705T094158Z
LAST-MODIFIED:20211004T075518Z
UID:4346-1633685400-1633696200@linagalvez.eu
SUMMARY:Reunión de coordinación Oficina Parlamentaria LGM
DESCRIPTION:
URL:https://linagalvez.eu/agenda/reunion-de-equipo-coordinacion-interna-2-2-2-2-2-2-2-2/
CATEGORIES:Actualidad,Parlamento
ATTACH;FMTTYPE=image/jpeg:https://linagalvez.eu/wp-content/uploads/2020/07/Calendario2.jpg
END:VEVENT
BEGIN:VEVENT
DTSTART;TZID=Europe/Madrid:20211008T190000
DTEND;TZID=Europe/Madrid:20211008T200000
DTSTAMP:20260421T175732
CREATED:20211008T095132Z
LAST-MODIFIED:20211008T095132Z
UID:4374-1633719600-1633723200@linagalvez.eu
SUMMARY:Intervención en el IX Congreso de la Federación Estatal de Lesbianas\, Gais\, Trans y Bisexuales #Madrid
DESCRIPTION:
URL:https://linagalvez.eu/agenda/intervencion-en-el-ix-congreso-de-la-federacion-estatal-de-lesbianas-gais-trans-y-bisexuales-madrid/
CATEGORIES:Actualidad,S&D
ATTACH;FMTTYPE=image/png:https://linagalvez.eu/wp-content/uploads/2021/10/Congreso-LGTBI.png
END:VEVENT
BEGIN:VEVENT
DTSTART;TZID=Europe/Madrid:20211011T090000
DTEND;TZID=Europe/Madrid:20211011T093000
DTSTAMP:20260421T175732
CREATED:20200921T070440Z
LAST-MODIFIED:20211011T073508Z
UID:4383-1633942800-1633944600@linagalvez.eu
SUMMARY:Committee on Women’s Rights and Gender Equality FEMM
DESCRIPTION:Continuación de la Comisión FEMM del día anterior
URL:https://linagalvez.eu/agenda/committee-on-womens-rights-and-gender-equality-femm-7-2-2-3-2-4-4/
CATEGORIES:FEMM,Parlamento
ATTACH;FMTTYPE=image/jpeg:https://linagalvez.eu/wp-content/uploads/2021/04/EMPL_220421.jpg
END:VEVENT
BEGIN:VEVENT
DTSTART;TZID=Europe/Madrid:20211011T090000
DTEND;TZID=Europe/Madrid:20211011T100000
DTSTAMP:20260421T175732
CREATED:20210312T173611Z
LAST-MODIFIED:20211011T071058Z
UID:4377-1633942800-1633946400@linagalvez.eu
SUMMARY:S&D Grupo de trabajo de Empleo y Asuntos Sociales EMPL
DESCRIPTION:Reunión de coordinación interna del Grupo S&D  que tiene como objetivo trabajar sobre los expedientes legislativos en curso en el seno de la Comisión EMPL
URL:https://linagalvez.eu/agenda/sd-grupo-de-trabajo-de-empleo-y-asuntos-sociales-4-3-2/
CATEGORIES:Actualidad,Destacado,EMPL,Parlamento
ATTACH;FMTTYPE=image/jpeg:https://linagalvez.eu/wp-content/uploads/2020/11/SD-WG-ITRE.jpg
END:VEVENT
BEGIN:VEVENT
DTSTART;TZID=Europe/Madrid:20211011T100000
DTEND;TZID=Europe/Madrid:20211011T114500
DTSTAMP:20260421T175732
CREATED:20210927T094856Z
LAST-MODIFIED:20211011T075003Z
UID:4388-1633946400-1633952700@linagalvez.eu
SUMMARY:Grupo de trabajo para tratar el paquete Fit for 55 convocado por grupos de interés sindicales. Group Meeting virtual
DESCRIPTION:
URL:https://linagalvez.eu/agenda/encuentro-con-la-embajadora-espanola-en-malta-external-group-meeting-2-3/
CATEGORIES:Destacado,ITRE,S&D
ATTACH;FMTTYPE=image/jpeg:https://linagalvez.eu/wp-content/uploads/2021/02/ETUC-febreo-2020.jpg
END:VEVENT
BEGIN:VEVENT
DTSTART;TZID=Europe/Madrid:20211011T134500
DTEND;TZID=Europe/Madrid:20211011T154500
DTSTAMP:20260421T175732
CREATED:20200921T070440Z
LAST-MODIFIED:20211011T081829Z
UID:4114-1633959900-1633967100@linagalvez.eu
SUMMARY:Committee on Women’s Rights and Gender Equality FEMM
DESCRIPTION:El lunes 11 de octubre\, la Comisión FEMM debatirá sobre el borrador de informe del Informe Anual sobre Perspectiva de Género en el Parlamento Europeo. \nhttps://www.europarl.europa.eu/committees/en/femm/home/highlights
URL:https://linagalvez.eu/agenda/committee-on-womens-rights-and-gender-equality-femm-7-2-2-3-2-4-3/
CATEGORIES:Destacado,FEMM,Parlamento
ATTACH;FMTTYPE=image/jpeg:https://linagalvez.eu/wp-content/uploads/2021/04/EMPL_220421.jpg
END:VEVENT
BEGIN:VEVENT
DTSTART;TZID=Europe/Madrid:20211011T164500
DTEND;TZID=Europe/Madrid:20211011T183000
DTSTAMP:20260421T175732
CREATED:20210312T175910Z
LAST-MODIFIED:20211014T103123Z
UID:4384-1633970700-1633977000@linagalvez.eu
SUMMARY:Comisión de Empleo y Asuntos Sociales
DESCRIPTION:Debates previstos \nEn la próxima reunión de la Comisión EMPL\, el 11 de octubre\, se intercambiarán puntos de vista con la Autoridad Laboral Europea en el marco de la semana de los derechos de las trabajadoras y  trabajadores temporeros\,  una  acción conjunta de la campaña «Derechos para todas las estaciones». ELA ha lanzado esta campaña junto con la Comisión Europea\, EURES\, la Plataforma europea de lucha contra el trabajo no declarado\, los Estados miembros y los interlocutores sociales para concienciar sobre los derechos y obligaciones de los trabajadores temporeros y sus empleadores. \n\nAdemás\, el Comité considerará el proyecto de dictamen del informe del Comité JURI sobre un estatuto para las asociaciones transfronterizas europeas y las organizaciones sin fines de lucro (OSFL).
URL:https://linagalvez.eu/agenda/comision-de-empleo-y-asuntos-sociales-2-2-2-2-4/
CATEGORIES:Actualidad,Destacado,EMPL,Parlamento
ATTACH;FMTTYPE=image/jpeg:https://linagalvez.eu/wp-content/uploads/2021/05/Estrategia-Industrial.jpg
END:VEVENT
BEGIN:VEVENT
DTSTART;TZID=Europe/Madrid:20211011T200000
DTEND;TZID=Europe/Madrid:20211011T210000
DTSTAMP:20260421T175732
CREATED:20211011T073106Z
LAST-MODIFIED:20211011T073106Z
UID:4396-1633982400-1633986000@linagalvez.eu
SUMMARY:Acto de presentación 'El Periódico de España'. Madrid
DESCRIPTION:
URL:https://linagalvez.eu/agenda/acto-de-presentacion-el-periodico-de-espana-madrid/
CATEGORIES:Actualidad,S&D
END:VEVENT
BEGIN:VEVENT
DTSTART;TZID=Europe/Madrid:20211012T090000
DTEND;TZID=Europe/Madrid:20211012T093000
DTSTAMP:20260421T175732
CREATED:20200921T070440Z
LAST-MODIFIED:20211011T081546Z
UID:4412-1634029200-1634031000@linagalvez.eu
SUMMARY:Committee on Women’s Rights and Gender Equality FEMM
DESCRIPTION:Votación
URL:https://linagalvez.eu/agenda/committee-on-womens-rights-and-gender-equality-femm-7-2-2-3-2-4-3-2/
CATEGORIES:Destacado,FEMM,Parlamento
ATTACH;FMTTYPE=image/jpeg:https://linagalvez.eu/wp-content/uploads/2021/04/EMPL_220421.jpg
END:VEVENT
BEGIN:VEVENT
DTSTART;TZID=Europe/Madrid:20211012T110000
DTEND;TZID=Europe/Madrid:20211012T110000
DTSTAMP:20260421T175732
CREATED:20210301T093643Z
LAST-MODIFIED:20250210T090242Z
UID:4386-1634036400-1634036400@linagalvez.eu
SUMMARY:S&D Reunión de la Delegación Socialista Española
DESCRIPTION:Reunión interna de trabajo y de coordinación.
URL:https://linagalvez.eu/agenda/sd-reunion-de-la-delegacion-socialista-espanola-11-2-2-2-2-2-2/
CATEGORIES:Parlamento,S&D
ATTACH;FMTTYPE=image/png:https://linagalvez.eu/wp-content/uploads/2020/07/Delegacion-española.png
END:VEVENT
BEGIN:VEVENT
DTSTART;TZID=Europe/Madrid:20211012T151500
DTEND;TZID=Europe/Madrid:20211012T161500
DTSTAMP:20260421T175732
CREATED:20210301T094153Z
LAST-MODIFIED:20211012T085639Z
UID:4385-1634051700-1634055300@linagalvez.eu
SUMMARY:S&D Grupo de Trabajo de Europa Digital
DESCRIPTION:Reunión del grupo de trabajo digital del Grupo de Socialistas y Demócratas Se debatirán expedientes legislativos en el ámbito digital\, prioridad para el Grupo S&D. \nTendrá lugar un Intercambio de opiniones con el Comisario Nicolas Schmit sobre «la dimensión social de la economía y la sociedad digitales\, incluidas las condiciones de trabajo en la economía de plataforma»
URL:https://linagalvez.eu/agenda/grupo-de-trabajo-de-europa-digital-3-2-3/
CATEGORIES:Destacado,ITRE,Parlamento,S&D,STOA
ATTACH;FMTTYPE=image/png:https://linagalvez.eu/wp-content/uploads/2020/05/digital-europe.png
END:VEVENT
BEGIN:VEVENT
DTSTART;TZID=Europe/Madrid:20211012T181500
DTEND;TZID=Europe/Madrid:20211012T193000
DTSTAMP:20260421T175732
CREATED:20210208T092530Z
LAST-MODIFIED:20211011T080425Z
UID:4302-1634062500-1634067000@linagalvez.eu
SUMMARY:S&D Group Meeting
DESCRIPTION:Reunión del Grupo S&D preparatoria de la sesión plenaria.
URL:https://linagalvez.eu/agenda/sd-group-meeting-23-3-2-2-4-2-3-3-5-2-3/
CATEGORIES:Actualidad,Parlamento,S&D
ATTACH;FMTTYPE=image/png:https://linagalvez.eu/wp-content/uploads/2020/01/1-S&D.svg.png
END:VEVENT
BEGIN:VEVENT
DTSTART;TZID=Europe/Madrid:20211013T090000
DTEND;TZID=Europe/Madrid:20211013T100000
DTSTAMP:20260421T175732
CREATED:20200705T094158Z
LAST-MODIFIED:20211015T123425Z
UID:4470-1634115600-1634119200@linagalvez.eu
SUMMARY:Reunión de coordinación Oficina Parlamentaria LGM
DESCRIPTION:
URL:https://linagalvez.eu/agenda/reunion-de-equipo-coordinacion-interna-2-2-2-2-2-2-2-2-2/
CATEGORIES:Actualidad,Parlamento
ATTACH;FMTTYPE=image/jpeg:https://linagalvez.eu/wp-content/uploads/2020/07/WhatsApp-Image-2021-10-13-at-14.38.56.jpeg
END:VEVENT
BEGIN:VEVENT
DTSTART;TZID=Europe/Madrid:20211013T090000
DTEND;TZID=Europe/Madrid:20211013T130000
DTSTAMP:20260421T175732
CREATED:20210208T092530Z
LAST-MODIFIED:20211011T080507Z
UID:4406-1634115600-1634130000@linagalvez.eu
SUMMARY:S&D Group Meeting
DESCRIPTION:Reunión del Grupo S&D preparatoria de la sesión plenaria.
URL:https://linagalvez.eu/agenda/sd-group-meeting-23-3-2-2-4-2-3-3-5-2-3-2/
CATEGORIES:Actualidad,Parlamento,S&D
ATTACH;FMTTYPE=image/png:https://linagalvez.eu/wp-content/uploads/2020/01/1-S&D.svg.png
END:VEVENT
BEGIN:VEVENT
DTSTART;TZID=Europe/Madrid:20211013T170000
DTEND;TZID=Europe/Madrid:20211013T183000
DTSTAMP:20260421T175732
CREATED:20210412T084247Z
LAST-MODIFIED:20211012T085813Z
UID:4277-1634144400-1634149800@linagalvez.eu
SUMMARY:S&D Grupo de trabajo extraordinario de Socialistas y Demócratas de FEMM sobre el Cuidados CARE DEAL.
DESCRIPTION:Habrá un debate y cambio de impresiones sobre el futuro papel de los cuidados en Europa CARE DEAL.
URL:https://linagalvez.eu/agenda/sd-femm-working-group-5-2-3-3/
CATEGORIES:Destacado,FEMM,S&D
END:VEVENT
BEGIN:VEVENT
DTSTART;TZID=Europe/Madrid:20211014T090000
DTEND;TZID=Europe/Madrid:20211014T120000
DTSTAMP:20260421T175732
CREATED:20210611T142459Z
LAST-MODIFIED:20211011T081140Z
UID:4271-1634202000-1634212800@linagalvez.eu
SUMMARY:Grupo de trabajo de la Comisión de Industria\, Investigación y Energía (ITRE). EUROATOM
DESCRIPTION:El 14 de octubre de 2021\, la Comisión ITRE mantendrá un intercambio de puntos de vista con el Sr. Massimo Garribba\, Director General Adjunto de la DG ENER\, sobre el futuro del Tratado constitutivo de la Comunidad Europea de la Energía Atómica. ITRE es el Comité responsable de la energía nuclear y del Tratado Euratom.
URL:https://linagalvez.eu/agenda/reunion-de-la-comision-de-industria-investigacion-y-energia-itre-17-2-2-2-2-2-2-2/
CATEGORIES:ITRE
ATTACH;FMTTYPE=image/jpeg:https://linagalvez.eu/wp-content/uploads/2021/06/EUROATOM.jpg
END:VEVENT
BEGIN:VEVENT
DTSTART;TZID=Europe/Madrid:20211014T134500
DTEND;TZID=Europe/Madrid:20211014T153000
DTSTAMP:20260421T175732
CREATED:20210611T142459Z
LAST-MODIFIED:20211012T085927Z
UID:4411-1634219100-1634225400@linagalvez.eu
SUMMARY:Grupo de trabajo de la Comisión de Industria\, Investigación y Energía (ITRE). Presentación de las medidas para hacer frente al aumento de los precios de la energía
DESCRIPTION:Los precios de la electricidad están alcanzando niveles récord en toda Europa\, lo que agobia a las industrias y los consumidores con facturas de energía más altas. La Comisión Europea está considerando establecer una caja de herramientas estructurada para que los Estados miembros mitiguen la situación. Para discutir el asunto\, el Comité ITRE ha invitado a la Comisaria de Energía de la UE\, Sra. Kadri Simson\, para el 14 de octubre de 2021.
URL:https://linagalvez.eu/agenda/reunion-de-la-comision-de-industria-investigacion-y-energia-itre-17-2-2-2-2-2-2-2-2/
CATEGORIES:Destacado,ITRE
ATTACH;FMTTYPE=image/jpeg:https://linagalvez.eu/wp-content/uploads/2021/01/Lina-galvez-FEMM_260121.jpg
END:VEVENT
BEGIN:VEVENT
DTSTART;TZID=Europe/Madrid:20211014T164500
DTEND;TZID=Europe/Madrid:20211014T184500
DTSTAMP:20260421T175732
CREATED:20210611T142459Z
LAST-MODIFIED:20211014T111152Z
UID:4415-1634229900-1634237100@linagalvez.eu
SUMMARY:Grupo de trabajo de la Comisión (ITRE). Directivas de Eficiencia Energética y Energías Renovables
DESCRIPTION:El 14 de octubre de 2021\, la Sra. Mechthild Wörsdörfer\, Directora General Adjunta de la DG ENER\, presentará las propuestas de la Comisión y las evaluaciones de impacto para la revisión de la Directiva sobre eficiencia energética y la Directiva sobre energías renovables. Las dos propuestas fueron adoptadas por la Comisión el 14 de julio como parte del paquete Fit for 55. ITRE es el Comité líder de esas propuestas.
URL:https://linagalvez.eu/agenda/reunion-de-la-comision-de-industria-investigacion-y-energia-itre-17-2-2-2-2-2-2-2-2-2/
CATEGORIES:ITRE
ATTACH;FMTTYPE=image/jpeg:https://linagalvez.eu/wp-content/uploads/2021/06/Eficiencia-Energetica.jpg
END:VEVENT
BEGIN:VEVENT
DTSTART;TZID=Europe/Madrid:20211015T100000
DTEND;TZID=Europe/Madrid:20211015T123000
DTSTAMP:20260421T175732
CREATED:20210312T182507Z
LAST-MODIFIED:20260120T130905Z
UID:4381-1634292000-1634301000@linagalvez.eu
SUMMARY:Panel for the Future of Science and Technology (STOA)
DESCRIPTION:La próxima reunión del Panel STOA se llevará a cabo el viernes 15 de octubre de 2021\, de 11.00 a 12.30. Este encuentro contará con una presentación de los estudios sobre inteligencia artificial para biometría y deepfakes: derechos humanos\, principios éticos y opciones políticas. La reunión se transmitirá por Internet. El enlace se publicará a continuación.
URL:https://linagalvez.eu/agenda/panel-for-the-future-of-science-and-technology-stoa-5-2-2-2-2-2/
CATEGORIES:Actualidad,Destacado,Parlamento,STOA
ATTACH;FMTTYPE=image/jpeg:https://linagalvez.eu/wp-content/uploads/2021/03/STOA-15Oct.jpg
END:VEVENT
END:VCALENDAR