BEGIN:VCALENDAR
VERSION:2.0
PRODID:-//Lina Gálvez - ECPv6.15.20//NONSGML v1.0//EN
CALSCALE:GREGORIAN
METHOD:PUBLISH
X-WR-CALNAME:Lina Gálvez
X-ORIGINAL-URL:https://linagalvez.eu
X-WR-CALDESC:Eventos para Lina Gálvez
REFRESH-INTERVAL;VALUE=DURATION:PT1H
X-Robots-Tag:noindex
X-PUBLISHED-TTL:PT1H
BEGIN:VTIMEZONE
TZID:Europe/Madrid
BEGIN:DAYLIGHT
TZOFFSETFROM:+0100
TZOFFSETTO:+0200
TZNAME:CEST
DTSTART:20200329T010000
END:DAYLIGHT
BEGIN:STANDARD
TZOFFSETFROM:+0200
TZOFFSETTO:+0100
TZNAME:CET
DTSTART:20201025T010000
END:STANDARD
BEGIN:DAYLIGHT
TZOFFSETFROM:+0100
TZOFFSETTO:+0200
TZNAME:CEST
DTSTART:20210328T010000
END:DAYLIGHT
BEGIN:STANDARD
TZOFFSETFROM:+0200
TZOFFSETTO:+0100
TZNAME:CET
DTSTART:20211031T010000
END:STANDARD
BEGIN:DAYLIGHT
TZOFFSETFROM:+0100
TZOFFSETTO:+0200
TZNAME:CEST
DTSTART:20220327T010000
END:DAYLIGHT
BEGIN:STANDARD
TZOFFSETFROM:+0200
TZOFFSETTO:+0100
TZNAME:CET
DTSTART:20221030T010000
END:STANDARD
END:VTIMEZONE
BEGIN:VEVENT
DTSTART;TZID=Europe/Madrid:20211115T103000
DTEND;TZID=Europe/Madrid:20211115T113000
DTSTAMP:20260424T002948
CREATED:20211114T084302Z
LAST-MODIFIED:20211114T084302Z
UID:4639-1636972200-1636975800@linagalvez.eu
SUMMARY:Reunión con los representantes sindicales del comercio
DESCRIPTION:Reunión con los representantes sindicales del comercio\, donde se abordará\, entre otras cosas: la lucha por los derechos de las y los empleados\, la comercialización justa\, la justicia fiscal o la explotación laboral de las y los trabajadores migrantes.
URL:https://linagalvez.eu/agenda/reunion-con-los-representantes-sindicales-del-comercio/
CATEGORIES:Actualidad,EMPL,Parlamento
ATTACH;FMTTYPE=image/jpeg:https://linagalvez.eu/wp-content/uploads/2020/06/Negociacion-semestre-2.jpg
END:VEVENT
BEGIN:VEVENT
DTSTART;TZID=Europe/Madrid:20211115T130000
DTEND;TZID=Europe/Madrid:20211115T130000
DTSTAMP:20260424T002948
CREATED:20211114T084904Z
LAST-MODIFIED:20211114T093708Z
UID:4642-1636981200-1636981200@linagalvez.eu
SUMMARY:Almuerzo con la diputada y portavoz del Grupo Parlamentario Socialista en la Asamblea de Madrid\, Hana Jalloul Muro y el expresidente del Gobierno\, José Luís Rodríguez Zapatero.
DESCRIPTION:
URL:https://linagalvez.eu/agenda/almuerzo-con-la-diputada-y-portavoz-del-grupo-parlamentario-socialista-en-la-asamblea-de-madrid-hana-jalloul-muro-y-el-expresidente-del-gobierno-jose-luis-rodriguez-zapatero/
CATEGORIES:Parlamento,S&D
END:VEVENT
BEGIN:VEVENT
DTSTART;TZID=Europe/Madrid:20211115T164500
DTEND;TZID=Europe/Madrid:20211115T180000
DTSTAMP:20260424T002948
CREATED:20210927T104830Z
LAST-MODIFIED:20211114T090202Z
UID:4644-1636994700-1636999200@linagalvez.eu
SUMMARY:Committee on Women's Rights and Gender Equality. Votación
DESCRIPTION:Votación \n\n\nStrengthening the application of the principle of equal pay for equal work or work of equal value between men and women through pay transparency and enforcement mechanisms
URL:https://linagalvez.eu/agenda/joint-meeting-committee-on-employment-and-social-affairs-committee-on-womens-rights-and-gender-equality-2/
CATEGORIES:Destacado,EMPL,FEMM,Parlamento
ATTACH;FMTTYPE=image/jpeg:https://linagalvez.eu/wp-content/uploads/2021/03/Sesion-Comite-FEMM.jpg
END:VEVENT
BEGIN:VEVENT
DTSTART;TZID=Europe/Madrid:20211115T170000
DTEND;TZID=Europe/Madrid:20211115T190000
DTSTAMP:20260424T002948
CREATED:20211114T091433Z
LAST-MODIFIED:20211114T091850Z
UID:4646-1636995600-1637002800@linagalvez.eu
SUMMARY:S&D Latin America High Level Meeting - a global partnership for progress
DESCRIPTION:Día de Latinoamérica. Organizado por el Grupo S&D\, un encuentro de alto nivel que contará\, entre otros ponentes con la presencia del expresidente de Brasil\, Lula da Silva y el expresidente español\, Rodríguez Zapatero. \nMás Información AQUÍ
URL:https://linagalvez.eu/agenda/sd-latin-america-high-level-meeting-a-global-partnership-for-progress/
CATEGORIES:Actualidad,Destacado,Parlamento,S&D
ATTACH;FMTTYPE=image/jpeg:https://linagalvez.eu/wp-content/uploads/2021/11/Dia-de-latinoamerica.jpg
END:VEVENT
BEGIN:VEVENT
DTSTART;TZID=Europe/Madrid:20211116T090000
DTEND;TZID=Europe/Madrid:20211116T120000
DTSTAMP:20260424T002948
CREATED:20211114T092329Z
LAST-MODIFIED:20211114T095746Z
UID:4650-1637053200-1637064000@linagalvez.eu
SUMMARY:Grupo de trabajo horizontal sobre Retos demográficos.
DESCRIPTION:Grupo de trabajo horizontal sobre Retos demográficos. En el encuentro se hablará principalmente de la esperanza de vida\, el envejecimiento\, las zonas rurales vs urbanas y los nuevos proyectos de población.
URL:https://linagalvez.eu/agenda/grupo-de-trabajo-horizontal-sobre-retos-demograficos/
CATEGORIES:Actualidad,Destacado,Parlamento
ATTACH;FMTTYPE=image/png:https://linagalvez.eu/wp-content/uploads/2021/11/Demographic-challenges.png
END:VEVENT
BEGIN:VEVENT
DTSTART;TZID=Europe/Madrid:20211116T121500
DTEND;TZID=Europe/Madrid:20211116T133000
DTSTAMP:20260424T002948
CREATED:20211114T092533Z
LAST-MODIFIED:20211114T095634Z
UID:4653-1637064900-1637069400@linagalvez.eu
SUMMARY:Encuentro con el grupo de portavoces nacionales del colectivo de trabajadores públicos temporales.
DESCRIPTION:
URL:https://linagalvez.eu/agenda/encuentro-con-el-grupo-de-portavoces-nacionales-del-colectivo-de-trabajadores-publicos-temporales/
CATEGORIES:Actualidad,EMPL,Parlamento
END:VEVENT
BEGIN:VEVENT
DTSTART;TZID=Europe/Madrid:20211116T130000
DTEND;TZID=Europe/Madrid:20211116T140000
DTSTAMP:20260424T002948
CREATED:20210301T093643Z
LAST-MODIFIED:20250210T090242Z
UID:4655-1637067600-1637071200@linagalvez.eu
SUMMARY:S&D Reunión de la Delegación Socialista Española
DESCRIPTION:Reunión interna de trabajo y de coordinación.
URL:https://linagalvez.eu/agenda/sd-reunion-de-la-delegacion-socialista-espanola-11-2-2-2-2-2-2-2-2/
CATEGORIES:Parlamento,S&D
ATTACH;FMTTYPE=image/png:https://linagalvez.eu/wp-content/uploads/2020/07/Delegacion-española.png
END:VEVENT
BEGIN:VEVENT
DTSTART;TZID=Europe/Madrid:20211116T183000
DTEND;TZID=Europe/Madrid:20211116T193000
DTSTAMP:20260424T002948
CREATED:20211114T093614Z
LAST-MODIFIED:20211114T093614Z
UID:4659-1637087400-1637091000@linagalvez.eu
SUMMARY:Lanzamiento de la exposición What were you wearing?
DESCRIPTION:Lanzamiento de la exposición What were you wearing? Una exhibición sobre la violencia de género\, que contará con los testimonios de mujeres supervivientes de dichas situaciones.
URL:https://linagalvez.eu/agenda/lanzamiento-de-la-exposicion-what-were-you-wearing/
CATEGORIES:Actualidad,FEMM,Parlamento,S&D
ATTACH;FMTTYPE=image/jpeg:https://linagalvez.eu/wp-content/uploads/2021/11/25N-VG-.jpg
END:VEVENT
BEGIN:VEVENT
DTSTART;TZID=Europe/Madrid:20211116T200000
DTEND;TZID=Europe/Madrid:20211116T200000
DTSTAMP:20260424T002948
CREATED:20211114T093800Z
LAST-MODIFIED:20211114T093849Z
UID:4663-1637092800-1637092800@linagalvez.eu
SUMMARY:S&D Cena con la Delegación Socialista Austriaca.
DESCRIPTION:
URL:https://linagalvez.eu/agenda/sd-cena-con-la-delegacion-socialista-austriaca/
CATEGORIES:Parlamento,S&D
END:VEVENT
BEGIN:VEVENT
DTSTART;TZID=Europe/Madrid:20211117T090000
DTEND;TZID=Europe/Madrid:20211117T130000
DTSTAMP:20260424T002948
CREATED:20211108T110030Z
LAST-MODIFIED:20211114T093041Z
UID:4657-1637139600-1637154000@linagalvez.eu
SUMMARY:S&D Group Meeting
DESCRIPTION:Reunión del Grupo S&D preparatoria de la sesión plenaria.
URL:https://linagalvez.eu/agenda/sd-group-meeting-23-3-2-2-4-2-3-3-5-2-2-2-2-2-2-2-2-2/
CATEGORIES:Actualidad,Parlamento,S&D
ATTACH;FMTTYPE=image/png:https://linagalvez.eu/wp-content/uploads/2020/01/1-S&D.svg.png
END:VEVENT
BEGIN:VEVENT
DTSTART;TZID=Europe/Madrid:20211117T100000
DTEND;TZID=Europe/Madrid:20211117T110000
DTSTAMP:20260424T002948
CREATED:20210412T080804Z
LAST-MODIFIED:20211114T092022Z
UID:4597-1637143200-1637146800@linagalvez.eu
SUMMARY:S&D ITRE Working Group meeting
DESCRIPTION:Grupo de trabajo S&D ITRE en el que se tratarán los temas que se debatirán en el Pleno.
URL:https://linagalvez.eu/agenda/sd-itre-working-group-meeting-2-4-2-2-2-2-2-2-2/
CATEGORIES:Actualidad,ITRE,Parlamento,S&D
ATTACH;FMTTYPE=image/png:https://linagalvez.eu/wp-content/uploads/2020/01/1-S&D.svg.png
END:VEVENT
BEGIN:VEVENT
DTSTART;TZID=Europe/Madrid:20211117T180000
DTEND;TZID=Europe/Madrid:20211117T190000
DTSTAMP:20260424T002948
CREATED:20211114T094040Z
LAST-MODIFIED:20211114T094040Z
UID:4665-1637172000-1637175600@linagalvez.eu
SUMMARY:Presentación en Madrid del informe Diez Tecnologías para Impulsar a España (INTEC 2021). Cátedra Ciencia y Sociedad Fundación Rafael del Pino.
DESCRIPTION:
URL:https://linagalvez.eu/agenda/presentacion-en-madrid-del-informe-diez-tecnologias-para-impulsar-a-espana-intec-2021-catedra-ciencia-y-sociedad-fundacion-rafael-del-pino/
CATEGORIES:Actualidad,ITRE
END:VEVENT
BEGIN:VEVENT
DTSTART;TZID=Europe/Madrid:20211118T110000
DTEND;TZID=Europe/Madrid:20211118T123000
DTSTAMP:20260424T002948
CREATED:20211114T094338Z
LAST-MODIFIED:20211118T113726Z
UID:4667-1637233200-1637238600@linagalvez.eu
SUMMARY:Encuentro "Conversando con Europa". Oficina del Parlamento Europeo #Madrid
DESCRIPTION:La eurodiputada Lina Gálvez participará en el evento online que organiza la Oficina del Parlamento Europeo en Madrid «Conversando con Europa» en el encuentro se debatirá sobre las transiciones justas en el ámbito energético y digital. \nEl evento se puede seguir en el en el siguiente enlace.
URL:https://linagalvez.eu/agenda/acto-conversando-con-europa-transiciones-justas-en-la-oficina-de-enlace-del-pe-en-madrid/
CATEGORIES:Actualidad,Destacado,Parlamento,S&D
ATTACH;FMTTYPE=image/jpeg:https://linagalvez.eu/wp-content/uploads/2021/07/LGM-Wise4AllChallenges.jpg
END:VEVENT
BEGIN:VEVENT
DTSTART;TZID=Europe/Madrid:20211118T143000
DTEND;TZID=Europe/Madrid:20211118T163000
DTSTAMP:20260424T002948
CREATED:20211114T094618Z
LAST-MODIFIED:20211114T094632Z
UID:4669-1637245800-1637253000@linagalvez.eu
SUMMARY:Caucus de la familia progresista COFOE sobre social-económica justicia/digital/cultura y democracia/valores.
DESCRIPTION:
URL:https://linagalvez.eu/agenda/caucus-de-la-familia-progresista-cofoe-sobre-social-economica-justicia-digital-cultura-y-democracia-valores/
CATEGORIES:Actualidad,Parlamento,S&D
END:VEVENT
BEGIN:VEVENT
DTSTART;TZID=Europe/Madrid:20211119T100000
DTEND;TZID=Europe/Madrid:20211119T113000
DTSTAMP:20260424T002948
CREATED:20200705T094158Z
LAST-MODIFIED:20211114T095401Z
UID:4673-1637316000-1637321400@linagalvez.eu
SUMMARY:Reunión de coordinación Oficina Parlamentaria LGM
DESCRIPTION:
URL:https://linagalvez.eu/agenda/reunion-de-equipo-coordinacion-interna-2-2-2-2-2-2-3-2-2/
CATEGORIES:Actualidad,Parlamento
ATTACH;FMTTYPE=image/jpeg:https://linagalvez.eu/wp-content/uploads/2020/07/Calendario2.jpg
END:VEVENT
BEGIN:VEVENT
DTSTART;TZID=Europe/Madrid:20211122T160000
DTEND;TZID=Europe/Madrid:20211122T170000
DTSTAMP:20260424T002948
CREATED:20210208T092530Z
LAST-MODIFIED:20211122T085528Z
UID:4683-1637596800-1637600400@linagalvez.eu
SUMMARY:S&D Group Meeting
DESCRIPTION:Reunión del Grupo S&D preparatoria de la sesión plenaria.
URL:https://linagalvez.eu/agenda/sd-group-meeting-23-3-2-2-4-2-3-3-5-2-2-2-2-2-2-4/
CATEGORIES:Actualidad,Destacado,Parlamento,S&D
ATTACH;FMTTYPE=image/png:https://linagalvez.eu/wp-content/uploads/2020/01/1-S&D.svg.png
END:VEVENT
BEGIN:VEVENT
DTSTART;TZID=Europe/Madrid:20211122T173000
DTEND;TZID=Europe/Madrid:20211124T170000
DTSTAMP:20260424T002948
CREATED:20210211T164450Z
LAST-MODIFIED:20211122T085830Z
UID:4154-1637602200-1637773200@linagalvez.eu
SUMMARY:Pleno del Parlamento Europeo en Estrasburgo
DESCRIPTION:Destacados del pleno. Estrasburgo\, 22-24 de noviembre 2021  \n\n\n\nDía Internacional de la Eliminación de la Violencia contra la Mujer\n\n\n\n\n\n\nCon motivo del Día Internacional de la Eliminación de la Violencia contra la Mujer\, el jueves\, los eurodiputados instarán a todos los países de la UE a ratificar la Convención de Estambul. \n\n\n\n\n\n\nEl pleno discutirá la falta de avances en el proceso de ratificación de la Convención\, pendiente todavía en seis Estados miembros (Bulgaria\, Chequia\, Hungría\, Letonia\, Lituania y Eslovaquia). \nDebate: jueves\, 25 de noviembre \nProcedimiento: declaraciones del Consejo y la Comisión\, sin resolución \n\n\n\nPolítica Agrícola Común (PAC)\nEl Parlamento votará el martes las propuestas para reformar la PAC\, cuyo objetivo es hacerla más justa\, sostenible y resistente a las crisis. El nuevo marco legislativo incluye medidas concretas para ayudar a los agricultores frente a las crisis\, más apoyo para las explotaciones agrícolas pequeñas y agricultores jóvenes\, así como más sanciones para quienes infrijan repetidamente las normas. \nPresupuesto para 2022\nLos jóvenes\, la salud y la acción climática están entre las prioridades del presupuesto de la UE para el año que viene\, que se votará el miércoles tras haber alcanzado un acuerdo con el Consejo. El Parlamento consiguió incrementar 479\,1 millones de euros más que lo propuesto por la Comisión Europea\, que se destinará a programas como el de investigación Horizonte Europa y Erasmus+. \nCovid-19\nEl plenario examinará el lunes el aumento de casos de Covid-19 en la UE y debatirán como coordinar mejor las medidas nacionales para combatir la pandemia. \nEl miércoles\, otro debate tratará el papel de la Unión en la lucha contra la pandemia en el mundo y cómo aumentar las tasas de vacunación. \nLa Eurocámara discutirá el jueves los planes para convertir a la actual Oficina Europea de Apoyo al Asilo en una agencia europea de asilo independiente\, que cuente con más capacidad operacional y técnica\, así como con más recursos económicos y humanos. \nUna estrategia farmacéutica más fuerte\nLos miembros del PE presentarán propuestas para impulsar la política farmacéutica de la UE. Las recomendaciones incluyen que todos los pacientes puedan optar a medicamentos esenciales y asequibles\, así como más apoyo para aumentar la competitividad de la industria farmacéutica y conseguir que sea climáticamente neutra. \nBielorrusia\nEl martes\, l@s eurodiputad@s debatirán las consecuencias humanitarias y de seguridad de la crisis geopolítica en la frontera entre Polonia y Bielorrusia. La situación se deba al flujo de migrantes que el régimen bielorruso está canalizando hacia las fronteras de la UE. \nLa líder de la oposición bielorrusa\, Svetlana Tijanóvskaya\, dará un discurso en el hemiciclo de Estrasburgo al día siguiente. \nNuevas vías para la migración legal\nEl pleno demandará el martes nuevas vías para migrar de manera legal a la UE y acabar con la explotación laboral. Con las propuestas se busca hacer frente a los retos democráficos y mejorar la correspondencia entre las necesidades del mercado laboral y las cualificaciones de los inmigrantes. La votación tendrá lugar al día siguiente. \nMaterias primas clave\nLa pandemia de Covid-19 y la transición ecológica han puesto de manifiesto la necesidad de que el suministro de materias primas fundamentales\, como el titanio y el litio\, sea más seguro y sostenible. El lunes\, la Eurocámara discutirá un borrador de resolución que demanda que la extracción\, procesamiento y eliminación de materias primas sean más respetuosos con el medio ambiente. \nOtros temas\n\nAyuda de 1\,2 millones para 300 despedidos del metal en el País Vasco\nResultados de la cumbre climática COP26\nDerechos fundamentales y el Estado de derecho en Eslovenia\nViolencia policial contra las personas gitanas\nUnión de la Energía
URL:https://linagalvez.eu/agenda/pleno-del-parlamento-europeo-2-2-2-2-2-2-2-4-3/
CATEGORIES:Actualidad,Destacado,Parlamento
ATTACH;FMTTYPE=image/jpeg:https://linagalvez.eu/wp-content/uploads/2020/03/European_Parliament_Strasbourg_Hemicycle_-_Diliff-2-scaled.jpg
END:VEVENT
BEGIN:VEVENT
DTSTART;TZID=Europe/Madrid:20211123T110000
DTEND;TZID=Europe/Madrid:20211123T120000
DTSTAMP:20260424T002948
CREATED:20210412T080804Z
LAST-MODIFIED:20211122T085539Z
UID:4682-1637665200-1637668800@linagalvez.eu
SUMMARY:S&D ITRE Working Group meeting
DESCRIPTION:Grupo de trabajo S&D ITRE en el que se tratarán los temas que se debatirán en el siguiente Pleno.
URL:https://linagalvez.eu/agenda/sd-itre-working-group-meeting-2-4-2-3-3/
CATEGORIES:Actualidad,Destacado,ITRE,S&D
ATTACH;FMTTYPE=image/jpeg:https://linagalvez.eu/wp-content/uploads/2020/11/SD-WG-ITRE.jpg
END:VEVENT
BEGIN:VEVENT
DTSTART;TZID=Europe/Madrid:20211123T150000
DTEND;TZID=Europe/Madrid:20211123T170000
DTSTAMP:20260424T002948
CREATED:20210412T084247Z
LAST-MODIFIED:20211122T092307Z
UID:4701-1637679600-1637686800@linagalvez.eu
SUMMARY:S&D FEMM Working Group
DESCRIPTION:Sesión interna de trabajo en el seno del S&D para coordinar y revisar las iniciativas que se tratarán en el Pleno. En esta sesión se contará con la presencia de Zita Gurmai\, presidenta de PES Women\, que promueve la igualdad de género dentro y fuera del Partido Socialista Europeo.
URL:https://linagalvez.eu/agenda/sd-femm-working-group-5-2-3-2-3-2-2-2-4/
CATEGORIES:FEMM,S&D
END:VEVENT
BEGIN:VEVENT
DTSTART;TZID=Europe/Madrid:20211123T180000
DTEND;TZID=Europe/Madrid:20211123T180000
DTSTAMP:20260424T002948
CREATED:20210208T092530Z
LAST-MODIFIED:20211122T085520Z
UID:4621-1637690400-1637690400@linagalvez.eu
SUMMARY:S&D Group Meeting
DESCRIPTION:Reunión del Grupo S&D preparatoria de la sesión plenaria. Esta reunión se celebrará en formato híbrido.
URL:https://linagalvez.eu/agenda/sd-group-meeting-23-3-2-2-4-2-3-3-5-2-2-2-2-2-2-3/
CATEGORIES:Actualidad,Parlamento,S&D
ATTACH;FMTTYPE=image/png:https://linagalvez.eu/wp-content/uploads/2020/01/1-S&D.svg.png
END:VEVENT
BEGIN:VEVENT
DTSTART;TZID=Europe/Madrid:20211124T181500
DTEND;TZID=Europe/Madrid:20211124T203000
DTSTAMP:20260424T002948
CREATED:20210208T092530Z
LAST-MODIFIED:20211122T084239Z
UID:4690-1637777700-1637785800@linagalvez.eu
SUMMARY:S&D Group Meeting
DESCRIPTION:Reunión del Grupo S&D preparatoria de la sesión plenaria. Esta reunión se celebrará en formato híbrido.
URL:https://linagalvez.eu/agenda/sd-group-meeting-23-3-2-2-4-2-3-3-5-2-2-2-2-2-2-3-2/
CATEGORIES:Actualidad,Parlamento,S&D
ATTACH;FMTTYPE=image/png:https://linagalvez.eu/wp-content/uploads/2020/01/1-S&D.svg.png
END:VEVENT
BEGIN:VEVENT
DTSTART;TZID=Europe/Madrid:20211125T090000
DTEND;TZID=Europe/Madrid:20211125T100000
DTSTAMP:20260424T002948
CREATED:20201124T091839Z
LAST-MODIFIED:20211122T092419Z
UID:4697-1637830800-1637834400@linagalvez.eu
SUMMARY:Plenario .Día Internacional para la Eliminación de la Violencia contra la Mujer (25 de noviembre)\, cumplimiento del Convenio de Estambul
DESCRIPTION:Día Internacional de la Eliminación de la Violencia contra la Mujer\n\n\n\n\n\n\nCon motivo del Día Internacional de la Eliminación de la Violencia contra la Mujer\, el jueves\, los eurodiputados instarán a todos los países de la UE a ratificar la Convención de Estambul. \n\n\n\n\n\n\nEl pleno discutirá la falta de avances en el proceso de ratificación de la Convención\, pendiente todavía en seis Estados miembros (Bulgaria\, Chequia\, Hungría\, Letonia\, Lituania y Eslovaquia). También el jueves\, coincidiendo con la celebración del Día Internacional de la Eliminación de la Violencia contra la Mujer (25 de noviembre) la sedes del PE en Bruselas y Estrasburgo se iluminarán en naranja. \nDebate: jueves\, 25 de noviembre \nProcedimiento: declaraciones del Consejo y la Comisión\, sin resolución
URL:https://linagalvez.eu/agenda/plenario-dia-internacional-para-la-eliminacion-de-la-violencia-contra-la-mujer-25-de-noviembre-cumplimiento-del-convenio-de-estambul-2/
CATEGORIES:Actualidad,Destacado,FEMM,Parlamento
ATTACH;FMTTYPE=image/jpeg:https://linagalvez.eu/wp-content/uploads/2020/06/lina-galvez-andalucia-unviersidades.jpg
END:VEVENT
BEGIN:VEVENT
DTSTART;TZID=Europe/Madrid:20211125T090000
DTEND;TZID=Europe/Madrid:20211125T100000
DTSTAMP:20260424T002948
CREATED:20211114T095026Z
LAST-MODIFIED:20211122T091801Z
UID:4699-1637830800-1637834400@linagalvez.eu
SUMMARY:Reunión del Grupo Operativo de Trabajo Fit for 55
DESCRIPTION:Fit for 55\, es el paquete de medidas de la UE para reducir a mayor velocidad las emisiones de GEI. Europa sigue dando pasos firmemente para avanzar hacia una transición energética\, climáticamente neutra y cumplir sus compromisos con arreglo al Acuerdo de París. El  Fitfor 55\, contiene las propuestas legislativas para adaptar las políticas de la Unión Europea sobre clima\, energía\, uso del suelo\, transporte y fiscalidad cuyo objetivo es reducir las emisiones netas de gases de efecto invernadero (GEI) en al menos un 55 % desde ahora hasta al año 2030\, en comparación con los niveles de 1990. Esto significa que el objetivo a conseguir se ha ampliado de un original 40% al 55% de reducción de emisiones.
URL:https://linagalvez.eu/agenda/primera-reunion-del-grupo-de-trabajo-fit-for-55-con-la-participacion-de-la-vicepresidenta-tercera-para-la-transicion-ecologica-teresa-ribera-2/
CATEGORIES:Actualidad,ITRE,Parlamento,S&D
ATTACH;FMTTYPE=image/jpeg:https://linagalvez.eu/wp-content/uploads/2021/11/fit-for-55.jpg
END:VEVENT
BEGIN:VEVENT
DTSTART;TZID=Europe/Madrid:20211126T170000
DTEND;TZID=Europe/Madrid:20211126T190000
DTSTAMP:20260424T002948
CREATED:20211125T124955Z
LAST-MODIFIED:20211126T101105Z
UID:4703-1637946000-1637953200@linagalvez.eu
SUMMARY:¿Un Pacto Verde justo o un Pacto Verde a secas? La perspectiva de las regiones y ciudades progresistas #Sevilla
DESCRIPTION:La eurodiputada Lina Gálvez participará en este evento que se celebrará en #Sevilla organizado por  el Grupo del PSE en el Comité Europeo de las Regiones\, en cooperación con el Grupo S&D en el Parlamento Europeo\, el Partido de los Socialistas Europeos\, las Juventudes Socialistas Europeas y el Foro Progresista Global. \nCentrado en el territorio será un debate que pondrá el foco en las ciudades y regiones y en la capacidad que tenga el Green Deal para desplegar una política progresista en temas como:  la movilidad del empleo\, la cohesión social y territorial\, la juventud o a la sostenibilidad. \nSi bien la pandemia de coronavirus está poniendo a prueba a los Estados del bienestar y las economías de prácticamente todos los Estados miembros de la UE (y no solo de ellos)\, no cabe duda de que la Unión necesita con mayor urgencia que nunca un nuevo modelo económico sostenible que combine el progreso social y ecológico\, mejore el bienestar de las personas y no deje atrás a ninguna persona ni ningún lugar. \nTodo ello debería ser precisamente el objetivo de un Pacto Verde Europeo progresista\, que solo la familia política socialista puede defender. Además\, la lucha contra la crisis climática y la dirigida a promover la justicia social deben ir de la mano. \nMás información AQUÍ
URL:https://linagalvez.eu/agenda/un-pacto-verde-justo-o-un-pacto-verde-a-secas-la-perspectiva-de-las-regiones-y-ciudades-progresistas/
CATEGORIES:Actualidad,Destacado,EMPL,ITRE,S&D
ATTACH;FMTTYPE=image/jpeg:https://linagalvez.eu/wp-content/uploads/2021/11/PES.jpg
END:VEVENT
BEGIN:VEVENT
DTSTART;TZID=Europe/Madrid:20211129T113000
DTEND;TZID=Europe/Madrid:20211129T130000
DTSTAMP:20260424T002948
CREATED:20211129T111646Z
LAST-MODIFIED:20211129T112409Z
UID:4748-1638185400-1638190800@linagalvez.eu
SUMMARY:Despedida a Almudena Grandes
DESCRIPTION:La eurodiputada Lina Gálvez Asiste al funeral de Almudena Grandes\, en el Cementerio Civil de Madrid. \n«Admiración\, amor y mucho vacío…no me sale mucho más que saber que te echaremos de menos\, te echaré de menos» han sido las palabras de Gálvez para intentar describir el vacío que deja Almudena Grandes entre sus amig@s.
URL:https://linagalvez.eu/agenda/despedida-a-almudena-grandes/
CATEGORIES:Actualidad,Destacado
ATTACH;FMTTYPE=image/jpeg:https://linagalvez.eu/wp-content/uploads/2021/11/Almudena-Grandes.jpg
END:VEVENT
BEGIN:VEVENT
DTSTART;TZID=Europe/Madrid:20211129T124500
DTEND;TZID=Europe/Madrid:20211129T133000
DTSTAMP:20260424T002948
CREATED:20211129T074259Z
LAST-MODIFIED:20211129T074259Z
UID:4722-1638189900-1638192600@linagalvez.eu
SUMMARY:Participación\, acto sobre la Agenda 2030 en el Semestre Europeo.
DESCRIPTION:La eurodiputada LGM presentará la ponencia principal en el Panel;La Agenda 2030 y la integración de los ODS en el Semestre Europeo\, donde participará en un debate con el resto de ponentes. \nEste debate esta organizado por SDG Watch Europe. \nMás información Aquí
URL:https://linagalvez.eu/agenda/participacion-acto-sobre-la-agenda-2030-en-el-semestre-europeo/
CATEGORIES:Actualidad,Destacado,EMPL,Parlamento
ATTACH;FMTTYPE=image/jpeg:https://linagalvez.eu/wp-content/uploads/2021/10/Lina-Galvez-Munoz_Igualdad-Europea.jpg
END:VEVENT
BEGIN:VEVENT
DTSTART;TZID=Europe/Madrid:20211129T133000
DTEND;TZID=Europe/Madrid:20211129T154500
DTSTAMP:20260424T002948
CREATED:20211129T073442Z
LAST-MODIFIED:20211129T075058Z
UID:4719-1638192600-1638200700@linagalvez.eu
SUMMARY:Comisión de Derechos de la Mujer e Igualdad de Género.Integración de la perspectiva de género en el PE. Debates
DESCRIPTION:La Comisión de Derechos de la Mujer e Igualdad de Género examinará las enmiendas al proyecto de informe sobre «Integración de la perspectiva de género en el Parlamento Europeo – Informe anual 2020»\, el 29 de noviembre. \nPodrá seguirse online AQUÏ
URL:https://linagalvez.eu/agenda/comision-de-derechos-de-la-mujer-e-igualdad-de-genero-integracion-de-la-perspectiva-de-genero-en-el-pe-debates/
CATEGORIES:Actualidad,Destacado,FEMM,Parlamento
ATTACH;FMTTYPE=image/jpeg:https://linagalvez.eu/wp-content/uploads/2021/03/Red-T-PEjpg.jpg
END:VEVENT
BEGIN:VEVENT
DTSTART;TZID=Europe/Madrid:20211129T164500
DTEND;TZID=Europe/Madrid:20211129T174500
DTSTAMP:20260424T002948
CREATED:20200921T070440Z
LAST-MODIFIED:20211129T075502Z
UID:4718-1638204300-1638207900@linagalvez.eu
SUMMARY:Committee on Women’s Rights and Gender Equality FEMM
DESCRIPTION:Reunión de la Red de Integración de la Perspectiva de Género del Parlamento Europeo donde se hablará\, entre otras cosas\, sobre los efectos de la digitalización y la inteligencia artificial en la igualdad de género\, con un enfoque en los efectos de la COVID-19. \nMás información
URL:https://linagalvez.eu/agenda/committee-on-womens-rights-and-gender-equality-femm-7-2-2-3-2-4-3-2-2-4/
CATEGORIES:Destacado,FEMM,Parlamento
ATTACH;FMTTYPE=image/jpeg:https://linagalvez.eu/wp-content/uploads/2021/04/EMPL_220421.jpg
END:VEVENT
BEGIN:VEVENT
DTSTART;TZID=Europe/Madrid:20211130T090000
DTEND;TZID=Europe/Madrid:20211130T174500
DTSTAMP:20260424T002948
CREATED:20200921T070440Z
LAST-MODIFIED:20211129T075841Z
UID:4728-1638262800-1638294300@linagalvez.eu
SUMMARY:Committee on Women’s Rights and Gender Equality FEMM
DESCRIPTION:La Comisión FEMM está organizando una reunión de la comisión interparlamentaria sobre “Eliminación de la violencia contra la mujer” el 30 de noviembre de 2021 de 09:00 a 18:45. \n\n\nDesde hace varios años\, el Parlamento Europeo celebra el Día Internacional para la Eliminación de la Violencia contra la Mujer\, el 25 de noviembre\, con un evento especial que reúne a miembros del PE y miembros de los Parlamentos nacionales de toda la Unión Europea\, con el fin de plantear conciencia de este importante tema. \nLa reunión de este año sobre «Eliminación de la violencia contra la mujer» constará de cuatro sesiones que explorarán el estado actual de la política y la práctica en áreas específicas de violencia de género. El primer panel se organizará en conjunto con el Subcomité de Derechos Humanos y abordará la violencia sexual como arma de guerra. El segundo panel se ocupará de prevenir y combatir la violencia contra las mujeres y niñas con discapacidad. Los paneles tercero y cuarto se organizarán conjuntamente con la Comisión de Libertades Civiles\, Justicia y Asuntos de Interior y tratarán la ciberviolencia y el Convenio de Estambul\, respectivamente.
URL:https://linagalvez.eu/agenda/committee-on-womens-rights-and-gender-equality-femm-7-2-2-3-2-4-3-2-2-4-2/
CATEGORIES:FEMM,Parlamento
ATTACH;FMTTYPE=image/jpeg:https://linagalvez.eu/wp-content/uploads/2020/09/Inter-parliamentary-committee-meeting.jpg
END:VEVENT
BEGIN:VEVENT
DTSTART;TZID=Europe/Madrid:20211130T100000
DTEND;TZID=Europe/Madrid:20211130T120000
DTSTAMP:20260424T002948
CREATED:20210611T142459Z
LAST-MODIFIED:20211129T083845Z
UID:4717-1638266400-1638273600@linagalvez.eu
SUMMARY:Reunión de la Comisión de Industria\, Investigación y Energía (ITRE)
DESCRIPTION:Votación. \n\nA European strategy for offshore renewable energy (INI) – Adoption of draft report .
URL:https://linagalvez.eu/agenda/reunion-de-la-comision-de-industria-investigacion-y-energia-itre-17-2-2-2-2-2-2-3-2-2/
CATEGORIES:ITRE
ATTACH;FMTTYPE=image/jpeg:https://linagalvez.eu/wp-content/uploads/2021/06/Itre-votacion.jpg
END:VEVENT
END:VCALENDAR