BEGIN:VCALENDAR
VERSION:2.0
PRODID:-//Lina Gálvez - ECPv6.15.20//NONSGML v1.0//EN
CALSCALE:GREGORIAN
METHOD:PUBLISH
X-WR-CALNAME:Lina Gálvez
X-ORIGINAL-URL:https://linagalvez.eu
X-WR-CALDESC:Eventos para Lina Gálvez
REFRESH-INTERVAL;VALUE=DURATION:PT1H
X-Robots-Tag:noindex
X-PUBLISHED-TTL:PT1H
BEGIN:VTIMEZONE
TZID:Europe/Madrid
BEGIN:DAYLIGHT
TZOFFSETFROM:+0100
TZOFFSETTO:+0200
TZNAME:CEST
DTSTART:20200329T010000
END:DAYLIGHT
BEGIN:STANDARD
TZOFFSETFROM:+0200
TZOFFSETTO:+0100
TZNAME:CET
DTSTART:20201025T010000
END:STANDARD
BEGIN:DAYLIGHT
TZOFFSETFROM:+0100
TZOFFSETTO:+0200
TZNAME:CEST
DTSTART:20210328T010000
END:DAYLIGHT
BEGIN:STANDARD
TZOFFSETFROM:+0200
TZOFFSETTO:+0100
TZNAME:CET
DTSTART:20211031T010000
END:STANDARD
BEGIN:DAYLIGHT
TZOFFSETFROM:+0100
TZOFFSETTO:+0200
TZNAME:CEST
DTSTART:20220327T010000
END:DAYLIGHT
BEGIN:STANDARD
TZOFFSETFROM:+0200
TZOFFSETTO:+0100
TZNAME:CET
DTSTART:20221030T010000
END:STANDARD
BEGIN:DAYLIGHT
TZOFFSETFROM:+0100
TZOFFSETTO:+0200
TZNAME:CEST
DTSTART:20230326T010000
END:DAYLIGHT
BEGIN:STANDARD
TZOFFSETFROM:+0200
TZOFFSETTO:+0100
TZNAME:CET
DTSTART:20231029T010000
END:STANDARD
END:VTIMEZONE
BEGIN:VEVENT
DTSTART;TZID=Europe/Madrid:20211213T100000
DTEND;TZID=Europe/Madrid:20211213T110000
DTSTAMP:20260424T002948
CREATED:20211206T085232Z
LAST-MODIFIED:20211213T084504Z
UID:4796-1639389600-1639393200@linagalvez.eu
SUMMARY:Encuentro entre la dirección de UGT Andalucía y la eurodiputada Lina Gálvez. Sevilla
DESCRIPTION:La eurodiputada Lina Gálvez mantendrá una reunión con UGT-Andalucía donde se presentarán las principales iniciativas legislativas europeas en marcha relacionadas con las Comisiones ITRE\, EMPL y FMM y  la agenda desarrollada por el sindicato en Andalucía. 
URL:https://linagalvez.eu/agenda/encuentro-entre-la-direccion-de-ugt-andalucia-y-la-eurodiputada-lina-galvez-sevilla/
CATEGORIES:Actualidad,Andalucía,Destacado,S&D
ATTACH;FMTTYPE=image/jpeg:https://linagalvez.eu/wp-content/uploads/2021/11/1557860441_494516_1557860723_noticia_normal.jpg
END:VEVENT
BEGIN:VEVENT
DTSTART;TZID=Europe/Madrid:20211213T173000
DTEND;TZID=Europe/Madrid:20211213T183000
DTSTAMP:20260424T002948
CREATED:20210412T083611Z
LAST-MODIFIED:20211213T092927Z
UID:4819-1639416600-1639420200@linagalvez.eu
SUMMARY:S&D Grupo de trabajo de Empleo y Asuntos Sociales
DESCRIPTION:Grupo de trabajo interno del  S&D EMPL en el que se coordinarán las iniciativas y votos del pleno de diciembre y se trabajará en el nuevo marco europeo para los derechos de participación de los trabajadores y trabajadoras en relación a la Directiva sobre los comités de empresa.
URL:https://linagalvez.eu/agenda/sd-grupo-de-trabajo-de-empleo-y-asuntos-sociales-4-2-2-2-2-2-2-2-2-2-2-2/
CATEGORIES:Actualidad,EMPL,Parlamento,S&D
ATTACH;FMTTYPE=image/jpeg:https://linagalvez.eu/wp-content/uploads/2020/11/SD-WG-ITRE.jpg
END:VEVENT
BEGIN:VEVENT
DTSTART;TZID=Europe/Madrid:20211213T173000
DTEND;TZID=Europe/Madrid:20211217T170000
DTSTAMP:20260424T002948
CREATED:20210211T164450Z
LAST-MODIFIED:20211213T085231Z
UID:4161-1639416600-1639760400@linagalvez.eu
SUMMARY:Pleno del Parlamento Europeo en Estrasburgo
DESCRIPTION:Destacados del pleno. Estrasburgo\, 13-17 de diciembre 2021  \nPremio Sájarov 2021\nEl opositor y activista anticorrupción ruso Alexéi Navalnyel Premio Sájarov 2021 a la Libertad de Conciencia en una ceremonia el miércoles. Debido a que actualmente está encarcelado en Rusia\, su hija Daria recogerá el premio de manos del presidente David Sassoli. \nLey de Mercados Digitales\nEl miércoles\, los eurodiputados fijarán su posición sobre la Ley de Mercados Digitales para negociar con la nueva presidencia francesa del Consejo\, en representación de los gobiernos de la UE\, lo que está previsto para el primer semestre de 2022. El proyecto legislativo fija reglas claras sobre lo que las grandes plataformas de internet y pretende acabar con las prácticas injustas. \nIgualdad de género y violencia de género en internet\nEl pleno debatirá el lunes dos informes sobre igualdad de género y violencia de género en línea. El primero demanda a los países de la UE medidas concretas para defender los derechos de las mujeres y reducir las desigualdades de género. \nEl segundo reclama normas para terminar con la violencia de género en internet\, ante el aumento de los casos durante la pandemia. \nAmbos informes se votarán el miércoles. \n Covid-19 \nEl miércoles por la mañana\, los eurodiputados discutirán sobre la coordinación de las medidas para contener la Covid-19 y la propagación de nuevas variantes en Europa\, unos de los temas prioritarios del Consejo Europeo del 16 y 17 de diciembre. \nEl mismo día\, los miembros del PE tratarán con la Comisión y el Consejo la implementación de los planes nacionales de recuperación\, que son una parte clave de la respuesta europea a la pandemia. \nAño Europeo de la Juventud\nEl Parlamento Europeo votará el martes para que 2022 sea el Año Europeo de la Juventud. La iniciativa tiene en cuenta la difícil situación de los jóvenes durante la pandemia\, que afecta a su educación\, empleo\, vida social\, salud mental y bienestar. \nDescubra más en la plataforma del Parlamento sobre ideas de los jóvenes. \nDiscriminación de las empresas europeas en la contratación pública internacional\nLa propuesta sobre el instrumento de contratación internacional introduce medidas que limitan el acceso al mercado de contratación pública de la UE a compañías de otros países si sus gobiernos no ofrecen unas condiciones similares en sus concursos y licitaciones a las empresas de la UE. Los eurodiputados votarán su posición el martes\, lo que definirá el mandato del Parlamento en las próximas negociaciones.\n \nExteriores\nEl pleno analizará el martes con el jefe de la diplomacia europea\, Josep Borrell la acumulación de efectivos militares rusos en la frontera con Ucrania y votará una resolución al día siguiente. \nAdemas\, los eurodiputados también evaluarán con Borrell la preocupante situación política y de derechos humanos en Nicaragua \nEl 30º aniversario de la disolución de la Unión Soviética se celebrará con declaraciones del presidente Sassoli y de los grupos políticos el lunes por la tarde. \nEl pleno debatirá la situación de los activistas y opositores cubanos víctimas de la represión del régimen y votará una resolución\, el jueves. \nOtros temas en la agenda\n\n\nAyuda de 1\,4 millones para 320 trabajadores del motor despedidos en Aragón\n\n\nEl PE debate si prohibir en la UE el uso de animales salvajes en circos\n\n\nSesión solemne con el presidente de Ghana\, Nana Akufo-Add\n\n\nLos derechos fundamentales en Polonia
URL:https://linagalvez.eu/agenda/pleno-del-parlamento-europeo-2-2-2-2-2-2-2-4-3-2/
CATEGORIES:Actualidad,Destacado,Parlamento
ATTACH;FMTTYPE=image/jpeg:https://linagalvez.eu/wp-content/uploads/2020/03/European_Parliament_Strasbourg_Hemicycle_-_Diliff-2-scaled.jpg
END:VEVENT
BEGIN:VEVENT
DTSTART;TZID=Europe/Madrid:20211214T110000
DTEND;TZID=Europe/Madrid:20211214T120000
DTSTAMP:20260424T002948
CREATED:20211213T092129Z
LAST-MODIFIED:20211213T113316Z
UID:4825-1639479600-1639483200@linagalvez.eu
SUMMARY:Participación. Foro de Mujeres de la Sanidad
DESCRIPTION:La eurodiputada Lina Gálvez participará en el Foro de Mujeres de la Sanidad\, un encuentro de mujeres comprometidas con el desarrollo de políticas efectivas que reconozcan y promuevan la presencia de la mujer en los más altos niveles de gestión sanitaria.\nMás Información Aquí
URL:https://linagalvez.eu/agenda/participacion-foro-de-mujeres-de-la-sanidad/
CATEGORIES:Actualidad,Destacado,FEMM,ITRE,Parlamento
ATTACH;FMTTYPE=image/jpeg:https://linagalvez.eu/wp-content/uploads/2021/12/Mujeres-en-la-sanidad.jpg
END:VEVENT
BEGIN:VEVENT
DTSTART;TZID=Europe/Madrid:20211214T150000
DTEND;TZID=Europe/Madrid:20211214T160000
DTSTAMP:20260424T002948
CREATED:20210412T084247Z
LAST-MODIFIED:20211213T094522Z
UID:4818-1639494000-1639497600@linagalvez.eu
SUMMARY:S&D FEMM Working Group
DESCRIPTION:Sesión interna de trabajo en el seno del S&D para coordinar y revisar las iniciativas que se tratarán en el Pleno; resultados del Informe de igualdad entre mujeres y hombres en la UE en 2018-2020\, así como el de la Ciberviolenica. También se abordará el tratamiento del lenguaje inclusivo  en el seno de la Comisión Europea\, el #MeToo y las consecuencias del acoso en relación a las instituciones de europeas.
URL:https://linagalvez.eu/agenda/sd-femm-working-group-5-2-3-2-3-2-2-2-4-2/
CATEGORIES:FEMM,S&D
END:VEVENT
BEGIN:VEVENT
DTSTART;TZID=Europe/Madrid:20211214T173000
DTEND;TZID=Europe/Madrid:20211214T173000
DTSTAMP:20260424T002948
CREATED:20211213T094111Z
LAST-MODIFIED:20211214T144017Z
UID:4831-1639503000-1639503000@linagalvez.eu
SUMMARY:Participación en los diálogos de Intermon Oxfam Bilbao sobre los cuidados.
DESCRIPTION:Intermon Oxfam Bilbao organiza este evento en el marco del proyecto La organización de los cuidados de Bizkaia: avanzando hacia la corresponsabilidad. La eurodiputada Lina gálvez participará como experta en la materia y compartirá la mesa de diálogo con Sonia Ruíz\, directora de servicios de género y políticas del tiempo del Ayuntamiento de Barcelona\, y Diana Parra\, de la Subsecretaría de Políticas de Igualdad de Bogotá\, al frente de los sistemas distritales de cuidados. Más Información: https://oxfamintermon.typeform.com/to/RaAbZd2F?typeform-source=lm.facebook.com
URL:https://linagalvez.eu/agenda/participacion-en-los-dialogos-de-intermon-oxfam-bilbao-sobre-los-cuidados/
CATEGORIES:Actualidad,Destacado,EMPL,FEMM,Parlamento,Universidad
ATTACH;FMTTYPE=image/jpeg:https://linagalvez.eu/wp-content/uploads/2021/10/Lina-Galvez-Munoz_Igualdad-Europea.jpg
END:VEVENT
BEGIN:VEVENT
DTSTART;TZID=Europe/Madrid:20211215T083000
DTEND;TZID=Europe/Madrid:20211215T090000
DTSTAMP:20260424T002948
CREATED:20211108T110030Z
LAST-MODIFIED:20211213T094809Z
UID:4823-1639557000-1639558800@linagalvez.eu
SUMMARY:S&D Group Meeting
DESCRIPTION:Reunión del Grupo S&D preparatoria de la sesión plenaria.
URL:https://linagalvez.eu/agenda/sd-group-meeting-23-3-2-2-4-2-3-3-5-2-2-2-2-2-2-2-2-3/
CATEGORIES:Actualidad,Parlamento,S&D
ATTACH;FMTTYPE=image/png:https://linagalvez.eu/wp-content/uploads/2020/01/1-S&D.svg.png
END:VEVENT
BEGIN:VEVENT
DTSTART;TZID=Europe/Madrid:20211215T103000
DTEND;TZID=Europe/Madrid:20211215T110000
DTSTAMP:20260424T002948
CREATED:20211213T095105Z
LAST-MODIFIED:20211213T095143Z
UID:4834-1639564200-1639566000@linagalvez.eu
SUMMARY:Reunión con Electronic identification
DESCRIPTION:
URL:https://linagalvez.eu/agenda/reunion-con-electronic-identification/
CATEGORIES:Actualidad,ITRE,Parlamento
END:VEVENT
BEGIN:VEVENT
DTSTART;TZID=Europe/Madrid:20211215T140000
DTEND;TZID=Europe/Madrid:20211215T153000
DTSTAMP:20260424T002948
CREATED:20211213T103647Z
LAST-MODIFIED:20211214T143901Z
UID:4848-1639576800-1639582200@linagalvez.eu
SUMMARY:Meeting Generation Equality. Finland
DESCRIPTION:Encuentro promovido por el Gobierno Finlandés  en relación a la campaña 5 años Generación Igualdad de ONU Mujeres que promueve los derechos de las mujeres y las niñas en todo el mundo. El objetivo es acelerar especialmente aquellos objetivos de igualdad de género que han sufrido un lento desarrollo global. Finlandia tiene un papel de liderazgo en la Coalición de Acción centrado en la tecnología y la innovación.
URL:https://linagalvez.eu/agenda/meeting-generation-equality-finland/
CATEGORIES:Destacado,FEMM,ITRE,Parlamento,STOA
ATTACH;FMTTYPE=image/jpeg:https://linagalvez.eu/wp-content/uploads/2021/12/GenerationEquality-notag-En-CMYK-1.jpg
END:VEVENT
BEGIN:VEVENT
DTSTART;TZID=Europe/Madrid:20211215T150000
DTEND;TZID=Europe/Madrid:20211215T163000
DTSTAMP:20260424T002948
CREATED:20210423T144018Z
LAST-MODIFIED:20211217T105258Z
UID:4853-1639580400-1639585800@linagalvez.eu
SUMMARY:Intervención. Debate en pleno sobre cuestiones FEMM
DESCRIPTION:La Eurodiputada Lina Gálvez participará en el plenario dentro en el punto del orden relacionado con el debate de actualidad sobre las Directrices sobre lenguaje inclusivo de la Comisión Europea. \n\n\nLos debates de los asuntos FEMM comenzarán entorno a las 15.o0h\n\n\nPodrán seguirse en directo en este ENLACE
URL:https://linagalvez.eu/agenda/participacion-en-plenario-en-el-debate-conjunto-sobre-investigacion-e-innovacion-2-2-2-2-2-3/
CATEGORIES:Actualidad,Destacado,FEMM,Parlamento
ATTACH;FMTTYPE=image/jpeg:https://linagalvez.eu/wp-content/uploads/2021/12/20211216_EP-123180A_FMA_AHA_025-scaled.jpg
END:VEVENT
BEGIN:VEVENT
DTSTART;TZID=Europe/Madrid:20211215T150000
DTEND;TZID=Europe/Madrid:20211215T163000
DTSTAMP:20260424T002948
CREATED:20211114T095026Z
LAST-MODIFIED:20211214T150227Z
UID:4671-1639580400-1639585800@linagalvez.eu
SUMMARY:Reunión del Grupo de Trabajo Fit for 55 con la participación de la Vicepresidenta Tercera para la Transición Ecológica\, Teresa Ribera.
DESCRIPTION:Intercambio de opiniones en el seno del Grupo Parlamentario Español del S&D  en relación al Grupo de Trabajo Fit for 55  y que contará con la participación de Teresa Ribera\, Vicepresidenta Tercera para la Transición Ecológica del Gobierno de España. \nFit for 55\, es el paquete de medidas de la UE para reducir a mayor velocidad las emisiones de GEI. Europa sigue dando pasos firmemente para avanzar hacia una transición energética\, climáticamente neutra y cumplir sus compromisos con arreglo al Acuerdo de París. El  Fitfor 55\, contiene las propuestas legislativas para adaptar las políticas de la Unión Europea sobre clima\, energía\, uso del suelo\, transporte y fiscalidad cuyo objetivo es reducir las emisiones netas de gases de efecto invernadero (GEI) en al menos un 55 % desde ahora hasta al año 2030\, en comparación con los niveles de 1990. Esto significa que el objetivo a conseguir se ha ampliado de un original 40% al 55% de reducción de emisiones.
URL:https://linagalvez.eu/agenda/primera-reunion-del-grupo-de-trabajo-fit-for-55-con-la-participacion-de-la-vicepresidenta-tercera-para-la-transicion-ecologica-teresa-ribera/
CATEGORIES:Actualidad,Destacado,ITRE,Parlamento,S&D
ATTACH;FMTTYPE=image/jpeg:https://linagalvez.eu/wp-content/uploads/2021/11/fit-for-55.jpg
END:VEVENT
BEGIN:VEVENT
DTSTART;TZID=Europe/Madrid:20211215T160000
DTEND;TZID=Europe/Madrid:20211215T170000
DTSTAMP:20260424T002948
CREATED:20200111T151627Z
LAST-MODIFIED:20250221T131055Z
UID:4821-1639584000-1639587600@linagalvez.eu
SUMMARY:Reunión de la Delegación USA
DESCRIPTION:Intercambio de opiniones con Heather Conley\, Vicepresidenta Senior para Europa\, Eurasia y el Ártico; y Directora del Programa de Europa\, Rusia y Eurasia del Centro de Estudios Estratégicos e Internacionales.
URL:https://linagalvez.eu/agenda/reunion-de-la-delegacion-usa-2-2/
CATEGORIES:Actualidad,D-US,Destacado
ATTACH;FMTTYPE=image/jpeg:https://linagalvez.eu/wp-content/uploads/banderas-eu-es-cruzadas_img_77744_pca-freepik.jpg
END:VEVENT
BEGIN:VEVENT
DTSTART;TZID=Europe/Madrid:20211215T181500
DTEND;TZID=Europe/Madrid:20211215T201500
DTSTAMP:20260424T002948
CREATED:20211108T110030Z
LAST-MODIFIED:20220307T122008Z
UID:4976-1639592100-1639599300@linagalvez.eu
SUMMARY:S&D Group Meeting
DESCRIPTION:Reunión del Grupo S&D preparatoria de la sesión plenaria.
URL:https://linagalvez.eu/agenda/sd-group-meeting-23-3-2-2-4-2-3-3-5-2-2-2-2-2-2-2-3-6/
CATEGORIES:Actualidad,Parlamento,S&D
ATTACH;FMTTYPE=image/png:https://linagalvez.eu/wp-content/uploads/2020/01/1-S&D.svg.png
END:VEVENT
BEGIN:VEVENT
DTSTART;TZID=Europe/Madrid:20211215T183000
DTEND;TZID=Europe/Madrid:20211215T203000
DTSTAMP:20260424T002948
CREATED:20211108T110030Z
LAST-MODIFIED:20211213T102225Z
UID:4822-1639593000-1639600200@linagalvez.eu
SUMMARY:S&D Group Meeting
DESCRIPTION:Reunión del Grupo S&D preparatoria de la sesión plenaria.
URL:https://linagalvez.eu/agenda/sd-group-meeting-23-3-2-2-4-2-3-3-5-2-2-2-2-2-2-2-3/
CATEGORIES:Actualidad,Parlamento,S&D
ATTACH;FMTTYPE=image/png:https://linagalvez.eu/wp-content/uploads/2020/01/1-S&D.svg.png
END:VEVENT
BEGIN:VEVENT
DTSTART;TZID=Europe/Madrid:20211216T090000
DTEND;TZID=Europe/Madrid:20211216T100000
DTSTAMP:20260424T002948
CREATED:20210423T144018Z
LAST-MODIFIED:20211215T135059Z
UID:4854-1639645200-1639648800@linagalvez.eu
SUMMARY:Intervención. Debate en pleno. MeToo and harassment – the consequences for the EU institutions
DESCRIPTION:La Eurodiputada Lina Gálvez intervendrá en el plenario dentro en el punto del orden relacionado con #MeToo y el acoso y las consecuencias para las instituciones de la Unión Europea. \nEl debate podrá ser seguido en directo y se desarrollará la mañana (9.00h) del jueves en el hemiciclo de Estrasburgo.
URL:https://linagalvez.eu/agenda/participacion-en-plenario-en-el-debate-conjunto-sobre-investigacion-e-innovacion-2-2-2-2-2-2-2/
CATEGORIES:Actualidad,Destacado,FEMM,Parlamento
ATTACH;FMTTYPE=image/jpeg:https://linagalvez.eu/wp-content/uploads/2021/09/Captura_I.jpg
END:VEVENT
BEGIN:VEVENT
DTSTART;TZID=Europe/Madrid:20211216T090000
DTEND;TZID=Europe/Madrid:20211216T100000
DTSTAMP:20260424T002948
CREATED:20211114T095026Z
LAST-MODIFIED:20211213T095944Z
UID:4815-1639645200-1639648800@linagalvez.eu
SUMMARY:Reunión del Grupo Operativo de Trabajo Fit for 55
DESCRIPTION:Fit for 55\, es el paquete de medidas de la UE para reducir a mayor velocidad las emisiones de GEI. Europa sigue dando pasos firmemente para avanzar hacia una transición energética\, climáticamente neutra y cumplir sus compromisos con arreglo al Acuerdo de París. El  Fitfor 55\, contiene las propuestas legislativas para adaptar las políticas de la Unión Europea sobre clima\, energía\, uso del suelo\, transporte y fiscalidad cuyo objetivo es reducir las emisiones netas de gases de efecto invernadero (GEI) en al menos un 55 % desde ahora hasta al año 2030\, en comparación con los niveles de 1990. Esto significa que el objetivo a conseguir se ha ampliado de un original 40% al 55% de reducción de emisiones.
URL:https://linagalvez.eu/agenda/primera-reunion-del-grupo-de-trabajo-fit-for-55-con-la-participacion-de-la-vicepresidenta-tercera-para-la-transicion-ecologica-teresa-ribera-2-2/
CATEGORIES:Actualidad,ITRE,Parlamento,S&D
ATTACH;FMTTYPE=image/jpeg:https://linagalvez.eu/wp-content/uploads/2021/11/fit-for-55.jpg
END:VEVENT
BEGIN:VEVENT
DTSTART;TZID=Europe/Madrid:20211216T093000
DTEND;TZID=Europe/Madrid:20211216T110000
DTSTAMP:20260424T002948
CREATED:20210312T182507Z
LAST-MODIFIED:20211215T112149Z
UID:4820-1639647000-1639652400@linagalvez.eu
SUMMARY:Panel for the Future of Science and Technology (STOA)
DESCRIPTION:La próxima reunión del Panel de STOA se llevará a cabo el jueves 16 de diciembre de 2021\, de 09.30 a 11.00 horas. Esta reunión contará con una presentación de los resultados del estudio sobre «Investigación y desarrollo farmacéutico europeo: ¿Podría una infraestructura pública superar los defectos del mercado?»
URL:https://linagalvez.eu/agenda/panel-for-the-future-of-science-and-technology-stoa-5-2-2-2-2-2-2/
CATEGORIES:Actualidad,Parlamento,STOA
ATTACH;FMTTYPE=image/jpeg:https://linagalvez.eu/wp-content/uploads/2021/05/STOA-28M-e1639394848457.jpg
END:VEVENT
BEGIN:VEVENT
DTSTART;TZID=Europe/Madrid:20211216T100000
DTEND;TZID=Europe/Madrid:20211216T113000
DTSTAMP:20260424T002948
CREATED:20210208T092530Z
LAST-MODIFIED:20211213T100123Z
UID:4817-1639648800-1639654200@linagalvez.eu
SUMMARY:Grupo de trabajo horizontal S&D sobre el DSA / DMA
DESCRIPTION:Grupo de trabajo horizontal para debatir la DSA (Ley de Servicios Digitales) y la DMA (Ley de Mercados Digitales)
URL:https://linagalvez.eu/agenda/sd-group-meeting-23-3-2-2-3-2-2/
CATEGORIES:Actualidad,Parlamento,S&D
ATTACH;FMTTYPE=image/png:https://linagalvez.eu/wp-content/uploads/2020/01/1-S&D.svg.png
END:VEVENT
BEGIN:VEVENT
DTSTART;TZID=Europe/Madrid:20211216T190000
DTEND;TZID=Europe/Madrid:20211216T200000
DTSTAMP:20260424T002948
CREATED:20211213T100902Z
LAST-MODIFIED:20211217T104125Z
UID:4841-1639681200-1639684800@linagalvez.eu
SUMMARY:Participación en losDiálogos Google-Nebrija
DESCRIPTION:La eurodiputada Lina Gálvez participará en los Diálogos Google-Nebrija\, en relación a la nueva legislación europea sobre Servicios Digitales (DSA) y Mercados Digitales (DMA).
URL:https://linagalvez.eu/agenda/participacion-en-los-dsadialogos-google-nebrija/
CATEGORIES:Actualidad,Destacado,ITRE,Parlamento,STOA,Universidad
ATTACH;FMTTYPE=image/jpeg:https://linagalvez.eu/wp-content/uploads/2021/12/actualidadN_dialogos01_G_N-787x459-1.jpg
END:VEVENT
BEGIN:VEVENT
DTSTART;TZID=Europe/Madrid:20211217T100000
DTEND;TZID=Europe/Madrid:20211217T103000
DTSTAMP:20260424T002948
CREATED:20211213T101116Z
LAST-MODIFIED:20211213T102146Z
UID:4845-1639735200-1639737000@linagalvez.eu
SUMMARY:Reunión con ArcelorMittal (ETS & CBAM).
DESCRIPTION:
URL:https://linagalvez.eu/agenda/reunion-con-arcelormittal-ets-cbam/
CATEGORIES:Actualidad,ITRE,Parlamento
END:VEVENT
BEGIN:VEVENT
DTSTART;TZID=Europe/Madrid:20211220T080000
DTEND;TZID=Europe/Madrid:20220103T170000
DTSTAMP:20260424T002948
CREATED:20210205T102540Z
LAST-MODIFIED:20211213T085722Z
UID:4167-1639987200-1641229200@linagalvez.eu
SUMMARY:External parliamentary activities. Week.
DESCRIPTION:Durante las semanas verdes\,  en la medida que las normas seguridad  sanitarias COVID19 lo permitan\, l@s eurodiputad@s desarrollan actividades fuera del Parlamento Europeo. Trabajan en sus circunscripciones para tener la oportunidad de estar en contacto con las personas electoras\, o en las delegaciones del PE para mantener relaciones con los países ajenos a la UE.\nMás Información 
URL:https://linagalvez.eu/agenda/external-parliamentary-activities-week-2-2-2-2-2/
CATEGORIES:Actualidad,Parlamento
ATTACH;FMTTYPE=image/jpeg:https://linagalvez.eu/wp-content/uploads/2021/02/Semana-verde.jpg
END:VEVENT
BEGIN:VEVENT
DTSTART;TZID=Europe/Madrid:20220103T120000
DTEND;TZID=Europe/Madrid:20220103T130000
DTSTAMP:20260424T002948
CREATED:20220103T105256Z
LAST-MODIFIED:20220103T110438Z
UID:4890-1641211200-1641214800@linagalvez.eu
SUMMARY:Asistencia a la toma de posesión de Antonio Muñoz como nuevo Alcalde de Sevilla
DESCRIPTION:La eurodiputada Lina Gálvez asistirá al Pleno de investidura donde el socialista Antonio Muñoz\, tomará posesión como nuevo alcalde de la ciudad de Sevilla. También asistirán a la sesión\, la ministra de Hacienda y Función Pública\, María Jesús Montero; la ministra de Industria\, Comercio y Turismo; Reyes Maroto; la ministra de Justicia\, Pilar Llop; el  presidente de la Diputación de Sevilla\, Fernando Rodríguez Villalobos\, entre otras autoridades.
URL:https://linagalvez.eu/agenda/asistencia-a-la-toma-de-posesion-de-antonio-munoz-como-nuevo-alcalde-de-sevilla/
CATEGORIES:Actualidad,Andalucía,Destacado
ATTACH;FMTTYPE=image/jpeg:https://linagalvez.eu/wp-content/uploads/2021/04/LGM-turquia.jpg
END:VEVENT
BEGIN:VEVENT
DTSTART;TZID=Europe/Madrid:20220111T123000
DTEND;TZID=Europe/Madrid:20220111T140000
DTSTAMP:20260424T002948
CREATED:20210301T093643Z
LAST-MODIFIED:20250210T090241Z
UID:4920-1641904200-1641909600@linagalvez.eu
SUMMARY:S&D Reunión de la Delegación Socialista Española
DESCRIPTION:Reunión interna de trabajo y de coordinación.
URL:https://linagalvez.eu/agenda/sd-reunion-de-la-delegacion-socialista-espanola-11-2-2-2-2-2-2-2-2-3/
CATEGORIES:Destacado,Parlamento,S&D
ATTACH;FMTTYPE=image/png:https://linagalvez.eu/wp-content/uploads/2020/07/Delegacion-española.png
END:VEVENT
BEGIN:VEVENT
DTSTART;TZID=Europe/Madrid:20220111T150000
DTEND;TZID=Europe/Madrid:20220111T160000
DTSTAMP:20260424T002948
CREATED:20210208T092530Z
LAST-MODIFIED:20220111T082730Z
UID:4922-1641913200-1641916800@linagalvez.eu
SUMMARY:Grupo de trabajo horizontal S&D sobre el DSA / DMA
DESCRIPTION:Grupo de trabajo horizontal para debatir la DSA (Ley de Servicios Digitales) y la DMA (Ley de Mercados Digitales)
URL:https://linagalvez.eu/agenda/sd-group-meeting-23-3-2-2-3-2-2-2/
CATEGORIES:Actualidad,Parlamento,S&D
ATTACH;FMTTYPE=image/png:https://linagalvez.eu/wp-content/uploads/2020/01/1-S&D.svg.png
END:VEVENT
BEGIN:VEVENT
DTSTART;TZID=Europe/Madrid:20220111T160000
DTEND;TZID=Europe/Madrid:20220111T170000
DTSTAMP:20260424T002948
CREATED:20220111T085635Z
LAST-MODIFIED:20220111T085652Z
UID:4925-1641916800-1641920400@linagalvez.eu
SUMMARY:Reunión con la Plataforma por el Empleo y el emprendimiento Verde
DESCRIPTION:Reunión online con la Plataforma para el empleo y el emprendimiento verde\, una iniciativa público-privada que se está desarrollando para promover empleo verde y conseguir una transición justa. \nMás Información: https://diadespues.org/plataforma-por-el-empleo-verde/
URL:https://linagalvez.eu/agenda/reunion-con-la-plataforma-por-el-empleo-y-el-emprendimiento-verde/
CATEGORIES:Actualidad,Destacado,EMPL,Parlamento
ATTACH;FMTTYPE=image/jpeg:https://linagalvez.eu/wp-content/uploads/2020/06/Negociacion-semestre-2.jpg
END:VEVENT
BEGIN:VEVENT
DTSTART;TZID=Europe/Madrid:20220111T161500
DTEND;TZID=Europe/Madrid:20220111T170000
DTSTAMP:20260424T002948
CREATED:20210412T080804Z
LAST-MODIFIED:20220111T084734Z
UID:4387-1641917700-1641920400@linagalvez.eu
SUMMARY:S&D ITRE Working Group meeting
DESCRIPTION:Grupo de trabajo interno del Grupo S&D  en el que se fijaran posturas en relación a los temas que se debatirán en el Pleno de la semana próxima en Estrasburgo.
URL:https://linagalvez.eu/agenda/sd-itre-working-group-meeting-2-4-2-3-5/
CATEGORIES:Actualidad,Destacado,Parlamento,S&D
ATTACH;FMTTYPE=image/png:https://linagalvez.eu/wp-content/uploads/2020/01/1-S&D.svg.png
END:VEVENT
BEGIN:VEVENT
DTSTART;TZID=Europe/Madrid:20220112T090000
DTEND;TZID=Europe/Madrid:20220112T110000
DTSTAMP:20260424T002948
CREATED:20210208T092530Z
LAST-MODIFIED:20220111T090742Z
UID:4794-1641978000-1641985200@linagalvez.eu
SUMMARY:S&D Group Meeting
DESCRIPTION:Reunión del Grupo Híbrido: Intercambio de puntos de vista con Roberta Metsol\, candidata del EPP a la Presidencia del Parlamento Europeo.
URL:https://linagalvez.eu/agenda/sd-group-meeting-23-3-2-2-4-2-3-3-5-2-2-2-2-2-2-7/
CATEGORIES:Actualidad,Parlamento,S&D
ATTACH;FMTTYPE=image/png:https://linagalvez.eu/wp-content/uploads/2020/01/1-S&D.svg.png
END:VEVENT
BEGIN:VEVENT
DTSTART;TZID=Europe/Madrid:20220112T103000
DTEND;TZID=Europe/Madrid:20220112T111500
DTSTAMP:20260424T002948
CREATED:20220111T090901Z
LAST-MODIFIED:20220112T083204Z
UID:4928-1641983400-1641986100@linagalvez.eu
SUMMARY:Reunión con LEAPS\, Liga europea de fuentes de fotones basadas en aceleradores.
DESCRIPTION:Reunión de trabajo con LEAPS: League of European Accelerator-based Photon Sources en relacionada con la visita a la infraestructura científica situada en barcelona\, del sincotron ALBA.\nLEAPS\, la Liga europea de fuentes de fotones basadas en aceleradores\, un consorcio estratégico iniciado por los directores de las instalaciones de usuari@s de radiación de sincrotrón y láser de electrones libres en Europa. Su objetivo principal es garantizar y promover activa y constructivamente la calidad y el impacto de la investigación fundamental\, aplicada e industrial que se lleva a cabo en cada instalación para el mayor beneficio de la ciencia y la sociedad europeas.\n\nMás información Aquí
URL:https://linagalvez.eu/agenda/reunion-leaps/
CATEGORIES:Parlamento
ATTACH;FMTTYPE=image/jpeg:https://linagalvez.eu/wp-content/uploads/2021/06/STEM_100621.jpg
END:VEVENT
BEGIN:VEVENT
DTSTART;TZID=Europe/Madrid:20220112T140000
DTEND;TZID=Europe/Madrid:20220112T153000
DTSTAMP:20260424T002948
CREATED:20210503T070655Z
LAST-MODIFIED:20220111T091422Z
UID:4469-1641996000-1642001400@linagalvez.eu
SUMMARY:S&D Conferencia sobre el futuro de Europa
DESCRIPTION:Conferencia S&D Conferencia sobre el futuro de Europa \nGrupo de Trabajo del S&D para la Conferencia sobre el Futuro de Europa. Además de las comunicaciones de los copresidentes\, se tratará el enfoque de la «Igualdad de Género» en el proceso de la Conferencia.
URL:https://linagalvez.eu/agenda/conferencia-sd-conferencia-sobre-el-futuro-de-europa-3/
CATEGORIES:Actualidad,Parlamento,S&D
ATTACH;FMTTYPE=image/jpeg:https://linagalvez.eu/wp-content/uploads/2021/10/Conferencia-futuro-Europa.jpg
END:VEVENT
BEGIN:VEVENT
DTSTART;TZID=Europe/Madrid:20220112T160000
DTEND;TZID=Europe/Madrid:20220112T163000
DTSTAMP:20260424T002948
CREATED:20220111T091808Z
LAST-MODIFIED:20220111T091808Z
UID:4932-1642003200-1642005000@linagalvez.eu
SUMMARY:Reunión con Electronic Identification.
DESCRIPTION:Reunión con el CEO de Electronic Identification\, para abordar la revisión del Reglamento eIDAS que está teniendo lugar actualmente en la comisión ITRE. Electronic IDentification es una pyme española\, líder mundial en la provisión de sistemas de identificación remota a través de vídeo en streaming. Están interesados en analizar con LGM las posibilidades y desafíos que Electronic IDentificación ve en la presente revisión de la normativa europea sobre identificación electrónica.
URL:https://linagalvez.eu/agenda/reunion-con-electronic-identification-2/
CATEGORIES:ITRE,Parlamento,S&D
ATTACH;FMTTYPE=image/jpeg:https://linagalvez.eu/wp-content/uploads/2021/06/STEM_100621.jpg
END:VEVENT
END:VCALENDAR