BEGIN:VCALENDAR
VERSION:2.0
PRODID:-//Lina Gálvez - ECPv6.15.20//NONSGML v1.0//EN
CALSCALE:GREGORIAN
METHOD:PUBLISH
X-WR-CALNAME:Lina Gálvez
X-ORIGINAL-URL:https://linagalvez.eu
X-WR-CALDESC:Eventos para Lina Gálvez
REFRESH-INTERVAL;VALUE=DURATION:PT1H
X-Robots-Tag:noindex
X-PUBLISHED-TTL:PT1H
BEGIN:VTIMEZONE
TZID:Europe/Madrid
BEGIN:DAYLIGHT
TZOFFSETFROM:+0100
TZOFFSETTO:+0200
TZNAME:CEST
DTSTART:20210328T010000
END:DAYLIGHT
BEGIN:STANDARD
TZOFFSETFROM:+0200
TZOFFSETTO:+0100
TZNAME:CET
DTSTART:20211031T010000
END:STANDARD
BEGIN:DAYLIGHT
TZOFFSETFROM:+0100
TZOFFSETTO:+0200
TZNAME:CEST
DTSTART:20220327T010000
END:DAYLIGHT
BEGIN:STANDARD
TZOFFSETFROM:+0200
TZOFFSETTO:+0100
TZNAME:CET
DTSTART:20221030T010000
END:STANDARD
BEGIN:DAYLIGHT
TZOFFSETFROM:+0100
TZOFFSETTO:+0200
TZNAME:CEST
DTSTART:20230326T010000
END:DAYLIGHT
BEGIN:STANDARD
TZOFFSETFROM:+0200
TZOFFSETTO:+0100
TZNAME:CET
DTSTART:20231029T010000
END:STANDARD
END:VTIMEZONE
BEGIN:VEVENT
DTSTART;TZID=Europe/Madrid:20220315T090000
DTEND;TZID=Europe/Madrid:20220315T120000
DTSTAMP:20260424T064908
CREATED:20210611T142459Z
LAST-MODIFIED:20220314T074738Z
UID:5143-1647334800-1647345600@linagalvez.eu
SUMMARY:Reunión Extraordinaria de la Comisión de Industria\, Investigación y Energía (ITRE)
DESCRIPTION:El Comité extraordinario ITRE abordará en la agenda de tarde los siguientes temas; \n\nPresentación de la Comunicación REPowerEU por parte de la Comisaria de Energía\, la señora Simson.\nPresentación por parte de la Comisión del paquete de medidas sobre el hidrógeno y el mercado del gas descarbonizado.\nIntercambio de opiniones con la Comisión sobre los últimos avances tecnológicos en materia de fusión nuclear.\nPresentación de la Comisión sobre la situación y los avances del ITER y el F4E
URL:https://linagalvez.eu/agenda/reunion-de-la-comision-de-industria-investigacion-y-energia-itre-17-2-2-2-2-2-2-3-2-2-2-2-2-2-2-4/
CATEGORIES:Actualidad,Destacado,ITRE,Parlamento
ATTACH;FMTTYPE=image/jpeg:https://linagalvez.eu/wp-content/uploads/2021/06/Itre-votacion.jpg
END:VEVENT
BEGIN:VEVENT
DTSTART;TZID=Europe/Madrid:20220315T120000
DTEND;TZID=Europe/Madrid:20220315T130000
DTSTAMP:20260424T064908
CREATED:20211108T110030Z
LAST-MODIFIED:20220314T075056Z
UID:5415-1647345600-1647349200@linagalvez.eu
SUMMARY:S&D Group Meeting
DESCRIPTION:Reunión en formato híbrido del Grupo S&D preparatoria para la semana parlamentaria europea. intercambio de puntos de vista sobre los impactos sociales\, económicos y ambientales de la guerra en Ucrania para la Unión Europea.
URL:https://linagalvez.eu/agenda/sd-group-meeting-23-3-2-2-4-2-3-3-5-2-2-2-2-2-2-2-3-3-2/
CATEGORIES:Actualidad,Parlamento,S&D
ATTACH;FMTTYPE=image/png:https://linagalvez.eu/wp-content/uploads/2020/01/1-S&D.svg.png
END:VEVENT
BEGIN:VEVENT
DTSTART;TZID=Europe/Madrid:20220315T163000
DTEND;TZID=Europe/Madrid:20220315T173000
DTSTAMP:20260424T064908
CREATED:20210412T080804Z
LAST-MODIFIED:20220314T075328Z
UID:5412-1647361800-1647365400@linagalvez.eu
SUMMARY:S&D ITRE Working Group meeting
DESCRIPTION:Grupo de trabajo S&D ITRE en el que se tratarán los temas que se debatirán en el siguiente Pleno y Comisiones y entre otros asuntos: \n\nSistema de Comercio de Misiones de la UE (ETS)\, incluyendo el funcionamiento marítimo y de una reserva de estabilidad del mercado.\nDictamen sobre el Mecanismo de Ajuste en la Frontera del Carbono.
URL:https://linagalvez.eu/agenda/sd-itre-working-group-meeting-2-4-2-3-3-2-2/
CATEGORIES:Actualidad,Destacado,ITRE,S&D
ATTACH;FMTTYPE=image/jpeg:https://linagalvez.eu/wp-content/uploads/2020/11/SD-WG-ITRE.jpg
END:VEVENT
BEGIN:VEVENT
DTSTART;TZID=Europe/Madrid:20220316T090000
DTEND;TZID=Europe/Madrid:20220316T100000
DTSTAMP:20260424T064908
CREATED:20210412T084247Z
LAST-MODIFIED:20220314T075710Z
UID:5413-1647421200-1647424800@linagalvez.eu
SUMMARY:Reunión conjunta. S&D FEMM and EMPL Working Group
DESCRIPTION:Reunión conjunta de eurodiputadas y eurodiputados del S&D para coordinar las iniciativas relacionadas con la preparación de la votación conjunta sobre la «Propuesta de Directiva del Parlamento Europeo y del Consejo destinada a reforzar la aplicación del principio de igualdad de retribución entre hombres y mujeres para un mismo trabajo o un trabajo de igual valor\, mediante la transparencia salarial y mecanismos de ejecución”
URL:https://linagalvez.eu/agenda/sd-femm-working-group-5-2-3-2-3-2-2-2-2-2/
CATEGORIES:FEMM,S&D
END:VEVENT
BEGIN:VEVENT
DTSTART;TZID=Europe/Madrid:20220316T164500
DTEND;TZID=Europe/Madrid:20220316T164500
DTSTAMP:20260424T064908
CREATED:20210927T104830Z
LAST-MODIFIED:20220314T083549Z
UID:5426-1647449100-1647449100@linagalvez.eu
SUMMARY:Committee on Women's Rights and Gender Equality.
DESCRIPTION:El Comité FEMM del 16 de marzo tratará los siguientes asuntos: \nDebates \n\nLa Comisión de Asuntos Jurídicos y la Comisión de Derechos de la Mujer e Igualdad de Género debatirán sobre la mejora del equilibrio de género entre los consejeros no ejecutivos de las empresas que cotizan en bolsa y medidas conexas\, el 15 de marzo. La propuesta de la Comisión de 2012 y la posición del Parlamento sobre ella adoptada en 2013 han sido bloqueadas en el Consejo. La Presidencia francesa tiene previsto adoptar un enfoque general sobre el texto para poner fin a un punto muerto que se prolonga desde hace casi 10 años. Votación\n\nLa Comisión FEMM junto con la Comisión de Empleo y Asuntos Sociales votará el proyecto de informe sobre “Reforzar la aplicación del principio de igual salario por igual trabajo o trabajo de igual valor entre hombres y mujeres a través de la transparencia salarial y su cumplimiento”. mecanismos”. \n\n\nEl 4 de marzo de 2021\, la Comisión Europea publicó su propuesta de Directiva de transparencia salarial. Los coponentes del Parlamento Europeo mostraron su agrado a la tan esperada iniciativa y mejoraron aún más la propuesta en el borrador de informe elaborando disposiciones como el derecho a la información\, los informes y obligaciones salariales\, los sistemas de evaluación y clasificación de puestos neutrales en cuanto al género\, el papel de los trabajadores representantes e interlocutores sociales\, interseccionalidad\, igualdad y órganos de seguimiento. \nEn su proyecto de informe\, los coponentes propusieron 147 enmiendas a la propuesta de la Comisión. Se han presentado un total de 1090 enmiendas y se han preparado 168 enmiendas de transacción. \nLas Comisiones EMPL y FEMM también votarán la decisión de iniciar negociaciones interinstitucionales el 17 de marzo de 2022.
URL:https://linagalvez.eu/agenda/joint-meeting-committee-on-employment-and-social-affairs-committee-on-womens-rights-and-gender-equality-2-3-2-3-2-2/
CATEGORIES:Destacado,EMPL,FEMM,Parlamento
ATTACH;FMTTYPE=image/jpeg:https://linagalvez.eu/wp-content/uploads/2021/12/20211208_EP-123402A_PB7_077-1-scaled.jpg
END:VEVENT
BEGIN:VEVENT
DTSTART;TZID=Europe/Madrid:20220316T164500
DTEND;TZID=Europe/Madrid:20220316T174500
DTSTAMP:20260424T064908
CREATED:20210525T064413Z
LAST-MODIFIED:20220314T080521Z
UID:5418-1647449100-1647452700@linagalvez.eu
SUMMARY:Comisión conjunta de las Comisiones ENVI y ITRE
DESCRIPTION:Reunión conjunta de las Comisiones FEMM y LIBE para tratar la creación de un Fondo Social del Clima.
URL:https://linagalvez.eu/agenda/comite-especial-sobe-inteligencia-artificial-2-4-4-2-3/
CATEGORIES:ITRE,Parlamento
ATTACH;FMTTYPE=image/jpeg:https://linagalvez.eu/wp-content/uploads/2021/12/Lina-Galvez_energia.jpeg
END:VEVENT
BEGIN:VEVENT
DTSTART;TZID=Europe/Madrid:20220316T180000
DTEND;TZID=Europe/Madrid:20220316T190000
DTSTAMP:20260424T064908
CREATED:20220314T082726Z
LAST-MODIFIED:20260209T124412Z
UID:5428-1647453600-1647457200@linagalvez.eu
SUMMARY:Lucha contra el cambio climático: perspectiva de género y soluciones feministas -Side event- 16.3.
DESCRIPTION:El 16 de marzo de 2022\, el Comité de Derechos de la Mujer e Igualdad de Género está organizando un evento paralelo a la 66.ª sesión de la Comisión de la Condición Jurídica y Social de la Mujer de la ONU (UN CSW 66). \n\n\nEl evento paralelo es el foro en el que la delegación del Parlamento Europeo en la ONU CSW 66 presenta las prioridades e iniciativas del Parlamento Europeo en materia de igualdad de género y lucha contra el cambio climático. También proporciona un foro para intercambiar buenas prácticas y discutir enfoques innovadores y posibles caminos a seguir. \nEl evento paralelo contendrá dos mesas redondas con varias expertas y miembros del Parlamento Europeo. \nMás información
URL:https://linagalvez.eu/agenda/lucha-contra-el-cambio-climatico-perspectiva-de-genero-y-soluciones-feministas-side-event-16-3/
CATEGORIES:Actualidad,FEMM,Parlamento
ATTACH;FMTTYPE=image/jpeg:https://linagalvez.eu/wp-content/uploads/2022/03/Lucha-contra-el-cambio-climatico-perspectiva-de-genero-y-soluciones-feministas.jpeg
END:VEVENT
BEGIN:VEVENT
DTSTART;TZID=Europe/Madrid:20220318T090000
DTEND;TZID=Europe/Madrid:20220318T110000
DTSTAMP:20260424T064908
CREATED:20220314T083434Z
LAST-MODIFIED:20220314T083434Z
UID:5431-1647594000-1647601200@linagalvez.eu
SUMMARY:Desayuno-coloquio “2022: Políticas del Gobierno de España para la Ciudadanía”. Sevilla
DESCRIPTION:La eurodiputada Lina Gálvez asistirá al acto organizado por la Cámara de Comercio\, “2022: Políticas del Gobierno de España para la Ciudadanía” que contará con la presencia de  María Jesús Montero\, Ministra de Hacienda y Función Pública del Gobierno de España y Antonio Muñoz\, Alcalde de Sevilla.
URL:https://linagalvez.eu/agenda/desayuno-coloquio-2022-politicas-del-gobierno-de-espana-para-la-ciudadania-sevilla/
CATEGORIES:Actualidad,Andalucía,S&D
END:VEVENT
BEGIN:VEVENT
DTSTART;TZID=Europe/Madrid:20220321T100000
DTEND;TZID=Europe/Madrid:20220321T110000
DTSTAMP:20260424T064908
CREATED:20220111T091808Z
LAST-MODIFIED:20220321T081325Z
UID:5447-1647856800-1647860400@linagalvez.eu
SUMMARY:Reunión con el Director General de Planificación del Ministerio de Ciencia e Innovación
DESCRIPTION:Reunión de la Eurodiputada Lina Gálvez con con Gonzalo Arévalo\, Director General de Planificación del Ministerio de Ciencia e Innovación con el objetivo de coordinar la agenda legislativa en marcha en relación a las competencias de la Comisión ITRE.
URL:https://linagalvez.eu/agenda/reunion-con-electronic-identification-2-2/
CATEGORIES:Destacado,ITRE,Parlamento,S&D
ATTACH;FMTTYPE=image/jpeg:https://linagalvez.eu/wp-content/uploads/2021/06/STEM_100621.jpg
END:VEVENT
BEGIN:VEVENT
DTSTART;TZID=Europe/Madrid:20220321T113000
DTEND;TZID=Europe/Madrid:20220321T123000
DTSTAMP:20260424T064908
CREATED:20220124T143728Z
LAST-MODIFIED:20220321T081630Z
UID:5446-1647862200-1647865800@linagalvez.eu
SUMMARY:Reunión con el cuerpo diplomático francés. Sevilla
DESCRIPTION:
URL:https://linagalvez.eu/agenda/reunion-de-trabajo-psoe-a-sevilla-2/
CATEGORIES:Andalucía,Parlamento,S&D
ATTACH;FMTTYPE=image/jpeg:https://linagalvez.eu/wp-content/uploads/2020/07/Calendario2.jpg
END:VEVENT
BEGIN:VEVENT
DTSTART;TZID=Europe/Madrid:20220321T134500
DTEND;TZID=Europe/Madrid:20220321T194500
DTSTAMP:20260424T064908
CREATED:20210611T142459Z
LAST-MODIFIED:20220321T082507Z
UID:5416-1647870300-1647891900@linagalvez.eu
SUMMARY:Reunión de la Comisión de Industria\, Investigación y Energía (ITRE)
DESCRIPTION:El Comité ITRE abordará en la agenda de tarde los siguientes temas; \n\nIntercambio de opiniones con la Comisión Europea sobre el programa Copernicus.\nDebate acerca de las normas armonizadas sobre la inteligencia artificial y la modificación de determinados actos legislativos de la UE.\nPresentación del estudio;Mercado espacial: ¿cómo facilitar el acceso y crear un mercado abierto y competitivo?\n\nSegunda parte (16:45 – 18:45): \n\nIntercambio de opiniones con el Director General del Organismo Internacional de Energía Atómica (OIEA)\, sobre la situación en Ucrania.\nPresentación del estudio sobre la descarbonización de la energía.\nAplicación de la nueva estrategia industrial actualizada para Europa: adecuación del gasto a la política.
URL:https://linagalvez.eu/agenda/reunion-de-la-comision-de-industria-investigacion-y-energia-itre-17-2-2-2-2-2-2-3-2-2-2-2-2-2-2-3-2/
CATEGORIES:Actualidad,Destacado,ITRE,Parlamento
ATTACH;FMTTYPE=image/jpeg:https://linagalvez.eu/wp-content/uploads/2021/06/Itre-votacion.jpg
END:VEVENT
BEGIN:VEVENT
DTSTART;TZID=Europe/Madrid:20220322T090000
DTEND;TZID=Europe/Madrid:20220322T120000
DTSTAMP:20260424T064908
CREATED:20210927T104830Z
LAST-MODIFIED:20220321T083512Z
UID:5450-1647939600-1647950400@linagalvez.eu
SUMMARY:Committee on Women's Rights and Gender Equality.
DESCRIPTION:El Comité FEMM del 22 de marzo tratará los siguientes asuntos: \nDebates \n\nAlcanzar la independencia económica de las mujeres a través del emprendimiento y el\nautoempleo.\nUna visión a largo plazo para las zonas rurales de la UE. Hacia unas zonas rurales\nmás fuertes\, conectadas\, resistentes y prósperas para 2040.\nEncuesta del Eurobarómetro.\nCombatir la violencia contra las mujeres y la violencia de género.\nDiálogo estructurado con la Comisaria Helena Dalli.
URL:https://linagalvez.eu/agenda/joint-meeting-committee-on-employment-and-social-affairs-committee-on-womens-rights-and-gender-equality-2-3-2-3-2-2-2/
CATEGORIES:Destacado,EMPL,FEMM,Parlamento
ATTACH;FMTTYPE=image/jpeg:https://linagalvez.eu/wp-content/uploads/2021/12/20211208_EP-123402A_PB7_077-1-scaled.jpg
END:VEVENT
BEGIN:VEVENT
DTSTART;TZID=Europe/Madrid:20220322T110000
DTEND;TZID=Europe/Madrid:20220322T120000
DTSTAMP:20260424T064908
CREATED:20210301T093643Z
LAST-MODIFIED:20250210T090241Z
UID:5458-1647946800-1647950400@linagalvez.eu
SUMMARY:S&D Reunión de la Delegación Socialista Española con el Padre Ángel
DESCRIPTION:Reunión interna de trabajo y de coordinación.
URL:https://linagalvez.eu/agenda/sd-reunion-de-la-delegacion-socialista-espanola-11-2-2-2-2-2-2-2-2-4-2/
CATEGORIES:Parlamento,S&D
ATTACH;FMTTYPE=image/png:https://linagalvez.eu/wp-content/uploads/2020/07/Delegacion-española.png
END:VEVENT
BEGIN:VEVENT
DTSTART;TZID=Europe/Madrid:20220322T120000
DTEND;TZID=Europe/Madrid:20220322T123000
DTSTAMP:20260424T064908
CREATED:20220321T100013Z
LAST-MODIFIED:20220321T100241Z
UID:5476-1647950400-1647952200@linagalvez.eu
SUMMARY:Participación en la mesa "Thriving through the energy transition"
DESCRIPTION:
URL:https://linagalvez.eu/agenda/participacion-en-la-mesa-thriving-through-the-energy-transition/
CATEGORIES:ITRE,Parlamento
END:VEVENT
BEGIN:VEVENT
DTSTART;TZID=Europe/Madrid:20220322T120000
DTEND;TZID=Europe/Madrid:20220322T130000
DTSTAMP:20260424T064908
CREATED:20210412T083611Z
LAST-MODIFIED:20220321T092435Z
UID:5414-1647950400-1647954000@linagalvez.eu
SUMMARY:S&D Grupo de trabajo de Empleo y Asuntos Sociales
DESCRIPTION:Grupo de trabajo interno del  S&D EMPL para coordinar las iniciativas legislativas relacionadas con la sesión plenaria. \nEntre los temas a tratar para sesión plenaria: Declaración Europea sobre Derechos Digitales y Principios para la Década Digital\, comentarios sobre la Conferencia sobre el Futuro de Europa\, y la situación en Ucrania y posibles acciones a tomar.
URL:https://linagalvez.eu/agenda/sd-grupo-de-trabajo-de-empleo-y-asuntos-sociales-4-2-2-2-2-2-2-2-2-2-2-2-3-3-2-2/
CATEGORIES:Actualidad,EMPL,Parlamento,S&D
ATTACH;FMTTYPE=image/jpeg:https://linagalvez.eu/wp-content/uploads/2020/11/SD-WG-ITRE.jpg
END:VEVENT
BEGIN:VEVENT
DTSTART;TZID=Europe/Madrid:20220322T123000
DTEND;TZID=Europe/Madrid:20220322T133000
DTSTAMP:20260424T064908
CREATED:20210301T093643Z
LAST-MODIFIED:20250210T090241Z
UID:5460-1647952200-1647955800@linagalvez.eu
SUMMARY:S&D Reunión de la Delegación Socialista Española. Agricultura y Ucrania
DESCRIPTION:Reunión interna de trabajo y de coordinación.
URL:https://linagalvez.eu/agenda/sd-reunion-de-la-delegacion-socialista-espanola-11-2-2-2-2-2-2-2-2-4-2-2/
CATEGORIES:Parlamento,S&D
ATTACH;FMTTYPE=image/png:https://linagalvez.eu/wp-content/uploads/2020/07/Delegacion-española.png
END:VEVENT
BEGIN:VEVENT
DTSTART;TZID=Europe/Madrid:20220322T134500
DTEND;TZID=Europe/Madrid:20220322T154500
DTSTAMP:20260424T064908
CREATED:20210927T104830Z
LAST-MODIFIED:20220321T092231Z
UID:5462-1647956700-1647963900@linagalvez.eu
SUMMARY:Committee on Women's Rights and Gender Equality.
DESCRIPTION:El Comité FEMM del 22 de marzo tratará los siguientes asuntos: \nDebates (Segunda parte) \n\nAlcanzar la independencia económica de las mujeres a través del emprendimiento y el\nautoempleo.\nDiscriminación interseccional en la Unión Europea: la situación socioeconómica de\nlas mujeres de ascendencia africana\, Oriente Medio\, latinoamericana y asiática.
URL:https://linagalvez.eu/agenda/joint-meeting-committee-on-employment-and-social-affairs-committee-on-womens-rights-and-gender-equality-2-3-2-3-2-2-2-2/
CATEGORIES:EMPL,FEMM,Parlamento
ATTACH;FMTTYPE=image/jpeg:https://linagalvez.eu/wp-content/uploads/2021/12/20211208_EP-123402A_PB7_077-1-scaled.jpg
END:VEVENT
BEGIN:VEVENT
DTSTART;TZID=Europe/Madrid:20220322T164500
DTEND;TZID=Europe/Madrid:20220322T184500
DTSTAMP:20260424T064908
CREATED:20210611T142459Z
LAST-MODIFIED:20220321T163501Z
UID:5456-1647967500-1647974700@linagalvez.eu
SUMMARY:Reunión de la Comisión de Industria\, Investigación y Energía (ITRE)
DESCRIPTION:El Comité ITRE abordará en la agenda de tarde los siguientes temas; \nDebates \n\nDiálogo estructurado con el Sr. Thierry Breton\, Comisario de Mercado Interior\, con especial atención a las propuestas de la Comisión sobre el Programa de Conectividad Segura y la Ley de Chips\nPresentación del programa de la Presidencia del Consejo: intercambio de puntos de vista con el Sr. Cédric O\, Ministro de Estado para la Transición Digital y las Comunicaciones Electrónicas (telecomunicaciones\, TIC)\nEstablecimiento del Programa de Política 2030 “Camino a la Década Digital” (2021/0293(COD)) –
URL:https://linagalvez.eu/agenda/reunion-de-la-comision-de-industria-investigacion-y-energia-itre-17-2-2-2-2-2-2-3-2-2-2-2-2-2-2-3-2-2/
CATEGORIES:Actualidad,Destacado,ITRE,Parlamento
ATTACH;FMTTYPE=image/jpeg:https://linagalvez.eu/wp-content/uploads/2021/06/Itre-votacion.jpg
END:VEVENT
BEGIN:VEVENT
DTSTART;TZID=Europe/Madrid:20220322T183000
DTEND;TZID=Europe/Madrid:20220322T190000
DTSTAMP:20260424T064908
CREATED:20220321T163257Z
LAST-MODIFIED:20220322T133311Z
UID:5478-1647973800-1647975600@linagalvez.eu
SUMMARY:Presentación del libro de Juan S. Mora-Sanguinetti "La factura de la injusticia" .Bruselas
DESCRIPTION:La eurodiputada Lina Gálvez\, junto a otros MEPs participará en Bruselas en la presentación del libro del economista Juan S. Mora-Sanguinetti «La factura de la injusticia» .
URL:https://linagalvez.eu/agenda/presentacion-del-libro-de-juan-s-mora-sanguinetti-la-factura-de-la-injusticia-bruselas/
CATEGORIES:Actualidad,Parlamento,S&D
ATTACH;FMTTYPE=image/jpeg:https://linagalvez.eu/wp-content/uploads/2022/03/FOYe6BcXsAQGgcB.jpg
END:VEVENT
BEGIN:VEVENT
DTSTART;TZID=Europe/Madrid:20220323T090000
DTEND;TZID=Europe/Madrid:20220324T190000
DTSTAMP:20260424T064908
CREATED:20210211T164450Z
LAST-MODIFIED:20220321T094113Z
UID:5443-1648026000-1648148400@linagalvez.eu
SUMMARY:Pleno del Parlamento Europeo en Bruselas
DESCRIPTION:Destacados del pleno. Bruselas\, 23-24 de marzo 2022  \nSesión plenaria de dos días donde se abordaran entre otros asuntos; La Cumbre del Consejo de la UE\, el suministro de energía de la UE a precios asequibles y la seguridad alimentaria en el contexto internacional actual. \nTambién en la agenda: protección de los fondos de la UE contra los oligarcas\, Swiss Secrets\, una nueva década de roaming asequible en la UE\, la política de cohesión de la UE y\,  la escalada de la agresión rusa en Ucrania.
URL:https://linagalvez.eu/agenda/pleno-del-parlamento-europeo-2-2-2-2-2-2-2-4-3-2-2-2/
CATEGORIES:Actualidad,Destacado,Parlamento
ATTACH;FMTTYPE=image/jpeg:https://linagalvez.eu/wp-content/uploads/2021/02/Pleno-en-Bruselas.jpg
END:VEVENT
BEGIN:VEVENT
DTSTART;TZID=Europe/Madrid:20220323T093000
DTEND;TZID=Europe/Madrid:20220323T103000
DTSTAMP:20260424T064908
CREATED:20220111T091808Z
LAST-MODIFIED:20220321T092916Z
UID:5465-1648027800-1648031400@linagalvez.eu
SUMMARY:Reunión con el CDTI (Centro para el Desarrollo Tecnológico Industrial) Bruselas
DESCRIPTION:Reunión de la Eurodiputada Lina Gálvez con representantes del CDTI (Centro para el Desarrollo Tecnológico Industrial) en Bruselas con el objetivo de coordinar la agenda legislativa en marcha en relación a las competencias de la Comisión ITRE.
URL:https://linagalvez.eu/agenda/reunion-con-electronic-identification-2-2-2/
CATEGORIES:ITRE,Parlamento,S&D
ATTACH;FMTTYPE=image/jpeg:https://linagalvez.eu/wp-content/uploads/2021/06/STEM_100621.jpg
END:VEVENT
BEGIN:VEVENT
DTSTART;TZID=Europe/Madrid:20220323T103000
DTEND;TZID=Europe/Madrid:20220323T130000
DTSTAMP:20260424T064908
CREATED:20211108T110030Z
LAST-MODIFIED:20220321T093324Z
UID:5471-1648031400-1648040400@linagalvez.eu
SUMMARY:S&D Group Meeting
DESCRIPTION:Reunión en formato híbrido del Grupo S&D preparatoria para la semana parlamentaria europea. intercambio de puntos de vista sobre los impactos sociales\, económicos y ambientales de la guerra en Ucrania para la Unión Europea.
URL:https://linagalvez.eu/agenda/sd-group-meeting-23-3-2-2-4-2-3-3-5-2-2-2-2-2-2-2-3-3-2-2/
CATEGORIES:Actualidad,Parlamento,S&D
ATTACH;FMTTYPE=image/png:https://linagalvez.eu/wp-content/uploads/2020/01/1-S&D.svg.png
END:VEVENT
BEGIN:VEVENT
DTSTART;TZID=Europe/Madrid:20220323T203000
DTEND;TZID=Europe/Madrid:20220323T210000
DTSTAMP:20260424T064908
CREATED:20210208T091341Z
LAST-MODIFIED:20220323T131405Z
UID:5489-1648067400-1648069200@linagalvez.eu
SUMMARY:Intervención en Pleno. Debate sobre la regulación del roaming en la UE
DESCRIPTION:La eurodiputada Lina Gálvez participará en el debate plenario sobre las tarifas de itinerancia (Roaming). El plenario debatirá y votará el acuerdo alcanzado con los Estados miembros para renovar el régimen «Roam like at Home» durante otros diez años\, de modo que las personas consumidoras puedan seguir utilizando sus teléfonos móviles cuando viajen por la UE sin pagar tasas adicionales a las que pagan en el país de origen. El régimen que suprime los recargos por itinerancia de los móviles expiraba el 30 de junio de 2022. (debate el miércoles\, votación el jueves) \n\n\n\nEl debate podrá ser seguido online
URL:https://linagalvez.eu/agenda/intervencion-en-pleno-debate-sobre-la-propuesta-de-european-skills-agenda-2-2-2-2/
CATEGORIES:Actualidad,Destacado,ITRE,Parlamento,S&D
ATTACH;FMTTYPE=image/png:https://linagalvez.eu/wp-content/uploads/2022/03/2022-03-09.png
END:VEVENT
BEGIN:VEVENT
DTSTART;TZID=Europe/Madrid:20220324T133000
DTEND;TZID=Europe/Madrid:20220324T153000
DTSTAMP:20260424T064908
CREATED:20210312T175910Z
LAST-MODIFIED:20220324T083619Z
UID:5473-1648128600-1648135800@linagalvez.eu
SUMMARY:Reunión conjunta de la Comisión de Derechos de la Mujer e Igualdad de Género (FEMM) y la Comisión de Empleo y Asuntos Sociales (EMPL)
DESCRIPTION:El 24 de marzo de 2022\, entre las 13.45 y las 16.15\, la Comisión EMPL junto con la Comisión de Derechos de la Mujer e Igualdad de Género celebrarán una audiencia pública conjunta sobre Una estrategia europea de cuidados – Cómo mejorar la vida de los cuidadores y sus dependientes – Audiencia pública. La audiencia analiza diferentes modelos de atención en Europa que continúan desarrollándose y cambiando\, adaptándose a las realidades y desafíos de la vida moderna. \n\nLa pandemia de COVID-19 ha puesto de manifiesto que este sector carece de fondos y de personal. Se requiere ahora un debate permanente\, priorizando la conciliación de la vida familiar y laboral para garantizar una buena calidad de vida familiar\, la consideración de las mujeres como cuidadoras y la garantía de la mejor calidad de atención posible para todas aquellas personas que lo requieran. También se discutirá la pregunta sobre las soluciones para garantizar la desinstitucionalización de las personas con discapacidad y los enfoques para garantizar una inclusión más fluida de las personas con discapacidad en el mercado laboral abierto y en la sociedad.
URL:https://linagalvez.eu/agenda/comision-de-empleo-y-asuntos-sociales-2-2-2-2-3-2/
CATEGORIES:Actualidad,Destacado,EMPL,Parlamento
ATTACH;FMTTYPE=image/jpeg:https://linagalvez.eu/wp-content/uploads/2021/03/Sesion-Comite-FEMM.jpg
END:VEVENT
BEGIN:VEVENT
DTSTART;TZID=Europe/Madrid:20220325T103000
DTEND;TZID=Europe/Madrid:20220325T120000
DTSTAMP:20260424T064908
CREATED:20200705T094158Z
LAST-MODIFIED:20220329T073511Z
UID:5352-1648204200-1648209600@linagalvez.eu
SUMMARY:Reunión de equipo. Coordinación interna
DESCRIPTION:
URL:https://linagalvez.eu/agenda/reunion-de-equipo-coordinacion-interna-2-2-2-3-2/
CATEGORIES:Actualidad,Parlamento
ATTACH;FMTTYPE=image/jpeg:https://linagalvez.eu/wp-content/uploads/2020/07/Calendario.jpg
END:VEVENT
BEGIN:VEVENT
DTSTART;TZID=Europe/Madrid:20220325T120000
DTEND;TZID=Europe/Madrid:20220325T130000
DTSTAMP:20260424T064908
CREATED:20220324T084227Z
LAST-MODIFIED:20220324T084227Z
UID:5492-1648209600-1648213200@linagalvez.eu
SUMMARY:Participación en el Diálogo #TúEresEuropa sobre transformación digital
DESCRIPTION:La eurodiputada Lina Gálvez participará en el Diálogo #TúEresEuropa sobre transformación digital organizado por Euromedia.
URL:https://linagalvez.eu/agenda/participacion-en-el-dialogo-tuereseuropa-sobre-transformacion-digital/
CATEGORIES:Actualidad,ITRE,Parlamento,S&D
ATTACH;FMTTYPE=image/jpeg:https://linagalvez.eu/wp-content/uploads/2022/03/Servimedia-transformacion-digital.jpg
END:VEVENT
BEGIN:VEVENT
DTSTART;TZID=Europe/Madrid:20220328T134500
DTEND;TZID=Europe/Madrid:20220328T163000
DTSTAMP:20260424T064908
CREATED:20210830T165910Z
LAST-MODIFIED:20220328T080927Z
UID:5508-1648475100-1648485000@linagalvez.eu
SUMMARY:Comisión de Empleo y Asuntos Sociales
DESCRIPTION:Intercambio de opiniones con Margrethe Vestager\, Vicepresidenta de la Comisión Europea\, sobre los convenios colectivos de las personas trabajadoras autónomas y el ámbito de aplicación de las normas de competencia de la UE.
URL:https://linagalvez.eu/agenda/comision-de-empleo-y-asuntos-sociales-empl/
CATEGORIES:Actualidad,Destacado,EMPL,Parlamento
ATTACH;FMTTYPE=image/png:https://linagalvez.eu/wp-content/uploads/2022/03/LGM_ITRE.png
END:VEVENT
BEGIN:VEVENT
DTSTART;TZID=Europe/Madrid:20220329T100000
DTEND;TZID=Europe/Madrid:20220329T120000
DTSTAMP:20260424T064908
CREATED:20210412T080804Z
LAST-MODIFIED:20220328T081205Z
UID:5506-1648548000-1648555200@linagalvez.eu
SUMMARY:S&D ITRE Working Group meeting
DESCRIPTION:Grupo de trabajo S&D ITRE en el que se tratarán los temas que se debatirán en el siguiente Pleno y Comisiones y entre otros asuntos: \n\nDependencia energética\nSituación en Ucrania.
URL:https://linagalvez.eu/agenda/sd-itre-working-group-meeting-2-4-2-3-3-2-2-2/
CATEGORIES:Actualidad,Destacado,ITRE,S&D
ATTACH;FMTTYPE=image/jpeg:https://linagalvez.eu/wp-content/uploads/2020/11/SD-WG-ITRE.jpg
END:VEVENT
BEGIN:VEVENT
DTSTART;TZID=Europe/Madrid:20220329T130000
DTEND;TZID=Europe/Madrid:20220329T143000
DTSTAMP:20260424T064908
CREATED:20210301T093643Z
LAST-MODIFIED:20250210T090241Z
UID:5511-1648558800-1648564200@linagalvez.eu
SUMMARY:S&D Reunión de la Delegación Socialista Española
DESCRIPTION:Reunión interna de trabajo y de coordinación.
URL:https://linagalvez.eu/agenda/sd-reunion-de-la-delegacion-socialista-espanola-11-2-2-2-2-2-2-2-2-4-3/
CATEGORIES:Parlamento,S&D
ATTACH;FMTTYPE=image/png:https://linagalvez.eu/wp-content/uploads/2020/07/Delegacion-española.png
END:VEVENT
BEGIN:VEVENT
DTSTART;TZID=Europe/Madrid:20220329T160000
DTEND;TZID=Europe/Madrid:20220329T170000
DTSTAMP:20260424T064908
CREATED:20210927T104830Z
LAST-MODIFIED:20220328T082406Z
UID:5503-1648569600-1648573200@linagalvez.eu
SUMMARY:Committee on Women's Rights and Gender Equality. Mujeres refugiadas de Ucrania
DESCRIPTION:El martes 29 de marzo de 2022\, la Comisión FEMM intercambiará impresiones con la comisaria de Interior\, Ylva Johansson\, sobre la situación de las mujeres refugiadas de Ucrania. La reunión tendrá lugar entre las 16.00 y las 17.00 horas. \n\n\nSegún informes de ACNUR y la Comisión Europea\, más de 3\,5 millones de refugiados  han huido del país hasta el momento\, principalmente mujeres y niños. El número de refugiados aumenta cada día. Por tanto\, es de suma importancia debatir qué apoyo puede proporcionar la UE para gestionar la llegada de personas refugiadas con el fin de protegerlas del riesgo de violencia de género o explotación sexual\, pero también cómo garantizar el acceso a servicios públicos como salud o educación para los niños y niñas.
URL:https://linagalvez.eu/agenda/joint-meeting-committee-on-employment-and-social-affairs-committee-on-womens-rights-and-gender-equality-2-3-2-3-2-2-2-2-2/
CATEGORIES:Destacado,EMPL,FEMM,Parlamento
ATTACH;FMTTYPE=image/jpeg:https://linagalvez.eu/wp-content/uploads/2021/12/20211208_EP-123402A_PB7_077-1-scaled.jpg
END:VEVENT
END:VCALENDAR