BEGIN:VCALENDAR
VERSION:2.0
PRODID:-//Lina Gálvez - ECPv6.15.20//NONSGML v1.0//EN
CALSCALE:GREGORIAN
METHOD:PUBLISH
X-WR-CALNAME:Lina Gálvez
X-ORIGINAL-URL:https://linagalvez.eu
X-WR-CALDESC:Eventos para Lina Gálvez
REFRESH-INTERVAL;VALUE=DURATION:PT1H
X-Robots-Tag:noindex
X-PUBLISHED-TTL:PT1H
BEGIN:VTIMEZONE
TZID:Europe/Madrid
BEGIN:DAYLIGHT
TZOFFSETFROM:+0100
TZOFFSETTO:+0200
TZNAME:CEST
DTSTART:20210328T010000
END:DAYLIGHT
BEGIN:STANDARD
TZOFFSETFROM:+0200
TZOFFSETTO:+0100
TZNAME:CET
DTSTART:20211031T010000
END:STANDARD
BEGIN:DAYLIGHT
TZOFFSETFROM:+0100
TZOFFSETTO:+0200
TZNAME:CEST
DTSTART:20220327T010000
END:DAYLIGHT
BEGIN:STANDARD
TZOFFSETFROM:+0200
TZOFFSETTO:+0100
TZNAME:CET
DTSTART:20221030T010000
END:STANDARD
BEGIN:DAYLIGHT
TZOFFSETFROM:+0100
TZOFFSETTO:+0200
TZNAME:CEST
DTSTART:20230326T010000
END:DAYLIGHT
BEGIN:STANDARD
TZOFFSETFROM:+0200
TZOFFSETTO:+0100
TZNAME:CET
DTSTART:20231029T010000
END:STANDARD
END:VTIMEZONE
BEGIN:VEVENT
DTSTART;TZID=Europe/Madrid:20220422T170000
DTEND;TZID=Europe/Madrid:20220422T183000
DTSTAMP:20260424T095419
CREATED:20220418T114911Z
LAST-MODIFIED:20220421T175619Z
UID:5626-1650646800-1650652200@linagalvez.eu
SUMMARY:Transversalidad de Género\, New York University (NYU)
DESCRIPTION:La eurodiputada Lina Gálvez\, que forma parte de la Delegación USA del Parlamento Europeo\, impartirá una clase sobre «Las luchas contra la ideología de género o el retroceso de género en Europa» en un seminario sobre Género y Derecho Constitucional en la Universidad de Nueva York.
URL:https://linagalvez.eu/agenda/transversalidad-de-genero-new-york-university-nyu/
CATEGORIES:Actualidad,Destacado,FEMM,Parlamento,Universidad
ATTACH;FMTTYPE=image/jpeg:https://linagalvez.eu/wp-content/uploads/2022/04/NY-2.jpg
END:VEVENT
BEGIN:VEVENT
DTSTART;TZID=Europe/Madrid:20220425T134500
DTEND;TZID=Europe/Madrid:20220425T141500
DTSTAMP:20260424T095419
CREATED:20210927T104830Z
LAST-MODIFIED:20220425T083557Z
UID:5645-1650894300-1650896100@linagalvez.eu
SUMMARY:Committee on Women's Rights and Gender Equality.
DESCRIPTION:El Comité FEMM del 25 de abril tratará los siguientes asuntos: \n\nVotación . Resolución sobre el impacto de la guerra de Ucrania en las mujeres que se ocupa de temas como la acción contra la violencia\, la trata de seres humanos y el tráfico de mujeres inmigrantes.
URL:https://linagalvez.eu/agenda/joint-meeting-committee-on-employment-and-social-affairs-committee-on-womens-rights-and-gender-equality-2-3-2-3-2-2-2-2-3-2/
CATEGORIES:Destacado,EMPL,FEMM,Parlamento
ATTACH;FMTTYPE=image/jpeg:https://linagalvez.eu/wp-content/uploads/2021/12/20211208_EP-123402A_PB7_077-1-scaled.jpg
END:VEVENT
BEGIN:VEVENT
DTSTART;TZID=Europe/Madrid:20220426T120000
DTEND;TZID=Europe/Madrid:20220426T130000
DTSTAMP:20260424T095419
CREATED:20210611T142459Z
LAST-MODIFIED:20220425T085135Z
UID:5651-1650974400-1650978000@linagalvez.eu
SUMMARY:Grupo de trabajo de la Comisión (ITRE). Ucrania
DESCRIPTION:Grupo de trabajo de ITRE sobre Ucrania\nSe discutirá sobre el impacto de la guerra en las cadenas de suministro industrial en la UE y las implicaciones de la guerra rusa en el sistema energético y las políticas de la UE.
URL:https://linagalvez.eu/agenda/reunion-de-la-comision-de-industria-investigacion-y-energia-itre-17-2-2-2-2-2-2-2-2-2-2/
CATEGORIES:Destacado,ITRE
ATTACH;FMTTYPE=image/jpeg:https://linagalvez.eu/wp-content/uploads/2021/02/Ucrania-UE.jpg
END:VEVENT
BEGIN:VEVENT
DTSTART;TZID=Europe/Madrid:20220426T123000
DTEND;TZID=Europe/Madrid:20220426T140000
DTSTAMP:20260424T095419
CREATED:20210301T093643Z
LAST-MODIFIED:20250210T090039Z
UID:5649-1650976200-1650981600@linagalvez.eu
SUMMARY:S&D Reunión de la Delegación Socialista Española
DESCRIPTION:Reunión interna de trabajo y de coordinación.
URL:https://linagalvez.eu/agenda/sd-reunion-de-la-delegacion-socialista-espanola-11-2-2-2-2-2-2-2-2-4-3-2/
CATEGORIES:Parlamento,S&D
ATTACH;FMTTYPE=image/png:https://linagalvez.eu/wp-content/uploads/2020/07/Delegacion-española.png
END:VEVENT
BEGIN:VEVENT
DTSTART;TZID=Europe/Madrid:20220426T133000
DTEND;TZID=Europe/Madrid:20220426T150000
DTSTAMP:20260424T095419
CREATED:20210412T084247Z
LAST-MODIFIED:20220425T090017Z
UID:5652-1650979800-1650985200@linagalvez.eu
SUMMARY:S&D Grupo de trabajo horizontal de FEMM y EMPL sobre la Europa de los Cuidados
DESCRIPTION:Habrá un debate y cambio de impresiones sobre el futuro papel de los cuidados en Europa CARE DEAL. \nLa eurodiputada Lina Gálvez\, que lidera dentro de las comisiones EMPL/FEMM el Care Deal y es experta en la materia\, considera urgente una acción común europea en materia de cuidados.
URL:https://linagalvez.eu/agenda/sd-femm-working-group-5-2-3-3-2/
CATEGORIES:Destacado,EMPL,FEMM,S&D
END:VEVENT
BEGIN:VEVENT
DTSTART;TZID=Europe/Madrid:20220426T153000
DTEND;TZID=Europe/Madrid:20220426T163000
DTSTAMP:20260424T095419
CREATED:20211213T103647Z
LAST-MODIFIED:20220418T200929Z
UID:5301-1650987000-1650990600@linagalvez.eu
SUMMARY:Meeting Generation Equality. Finland
DESCRIPTION:Encuentro promovido por el Gobierno Finlandés  en relación a la campaña 5 años Generación Igualdad de ONU Mujeres que promueve los derechos de las mujeres y las niñas en todo el mundo. El objetivo es acelerar especialmente aquellos objetivos de igualdad de género que han sufrido un lento desarrollo global. Finlandia tiene un papel de liderazgo en la Coalición de Acción centrado en la tecnología y la innovación.
URL:https://linagalvez.eu/agenda/meeting-generation-equality-finland-2/
CATEGORIES:FEMM,ITRE,Parlamento,STOA
ATTACH;FMTTYPE=image/jpeg:https://linagalvez.eu/wp-content/uploads/2021/12/GenerationEquality-notag-En-CMYK-1.jpg
END:VEVENT
BEGIN:VEVENT
DTSTART;TZID=Europe/Madrid:20220426T180000
DTEND;TZID=Europe/Madrid:20220426T190000
DTSTAMP:20260424T095419
CREATED:20220425T094521Z
LAST-MODIFIED:20220425T094533Z
UID:5664-1650996000-1650999600@linagalvez.eu
SUMMARY:Primera reunión presencial del Consejo Foro K4I
DESCRIPTION:Primera reunión presencial del Consejo de Administración del Foro K4 sobre la iniciativa de construir un Espacio Europeo de Innovación. Esta iniciativa pretende\nestablecer un marco sólido en materia de política de innovación en la UE.\nMás información sobre la iniciativa: https://www.europeaninnovationarea.eu/
URL:https://linagalvez.eu/agenda/primera-reunion-presencial-del-consejo-foro-k4i/
CATEGORIES:Actualidad,ITRE,Parlamento
ATTACH;FMTTYPE=image/jpeg:https://linagalvez.eu/wp-content/uploads/2022/04/9th-European-Innovation-Summit-1536x1024-1.jpg
END:VEVENT
BEGIN:VEVENT
DTSTART;TZID=Europe/Madrid:20220427T090000
DTEND;TZID=Europe/Madrid:20220427T130000
DTSTAMP:20260424T095419
CREATED:20211108T110030Z
LAST-MODIFIED:20220425T092618Z
UID:5575-1651050000-1651064400@linagalvez.eu
SUMMARY:S&D Group Meeting
DESCRIPTION:Reunión interna del Grupo S&D para coordinar la actividad parlamentaria en relación al Pleno del Parlamento Europeo que se celebrará la próxima semana en Estrasburgo.
URL:https://linagalvez.eu/agenda/sd-group-meeting-23-3-2-2-4-2-3-3-5-2-2-2-2-2-2-2-3-3-2-3-2-4/
CATEGORIES:Actualidad,Parlamento,S&D
ATTACH;FMTTYPE=image/png:https://linagalvez.eu/wp-content/uploads/2020/01/1-S&D.svg.png
END:VEVENT
BEGIN:VEVENT
DTSTART;TZID=Europe/Madrid:20220427T093000
DTEND;TZID=Europe/Madrid:20220427T103000
DTSTAMP:20260424T095419
CREATED:20220425T095111Z
LAST-MODIFIED:20220425T095111Z
UID:5667-1651051800-1651055400@linagalvez.eu
SUMMARY:Jornada ECODES "Rehabilitando más\, pero sobre todo\, mejor: la Ola de Rehabilitaciones europea en el contexto español"
DESCRIPTION:La jornada tendrá lugar el miércoles 27 de abril a las 9:30 y contará con las siguientes participantes: \n\nLina Gálvez\, europarlamentaria por el Grupo de la Alianza Progresista de Socialistas y Demócratas\, vicepresidenta de la Comisión de Industria\, Investigación y Energía.\nAlfredo Garzón\, Jefe del Área de Edificios en la Subdirección General de Eficiencia Energética en Ministerio para la Transición Ecológica y el Reto Demográfico.\nAna Sanz\, investigadora en el Grupo de Investigación en Arquitectura\, Urbanismo y Sostenibilidad de la Escuela Técnica Superior de Arquitectura de Madrid (ETSAM).\nGonzalo Sánchez\, responsable de Políticas de Economía Circular y descarbonizacion del Sector de la Construcción en la European Environmental Bureau (EEB).\nJavier Tobías\, responsable de Políticas de Rehabilitación Energética en el área de Energía y Personas de ECODES.\n\nMás información AQUÍ
URL:https://linagalvez.eu/agenda/jornada-ecodes-rehabilitando-mas-pero-sobre-todo-mejor-la-ola-de-rehabilitaciones-europea-en-el-contexto-espanol/
CATEGORIES:Actualidad,ITRE,Parlamento,S&D
ATTACH;FMTTYPE=image/png:https://linagalvez.eu/wp-content/uploads/2022/04/Cartel_Jornada_Directivas_Europeas_en_la_rehabilitacion_espanola.png
END:VEVENT
BEGIN:VEVENT
DTSTART;TZID=Europe/Madrid:20220427T113000
DTEND;TZID=Europe/Madrid:20220427T123000
DTSTAMP:20260424T095419
CREATED:20220427T080630Z
LAST-MODIFIED:20220427T080630Z
UID:5681-1651059000-1651062600@linagalvez.eu
SUMMARY:Mesa de debate organizada por CAN Europe Assembly
DESCRIPTION:La Eurodiputada Lina Gálvez  participará en esta mesa redonda sobre el contexto de la actual guerra en Ucrania\, dependencia de los combustibles fósiles y dificultad para deshacerse de ellos a corto plazo.
URL:https://linagalvez.eu/agenda/mesa-de-debate-organizada-por-can-europe-assembly/
CATEGORIES:ITRE,Parlamento,Universidad
END:VEVENT
BEGIN:VEVENT
DTSTART;TZID=Europe/Madrid:20220427T131500
DTEND;TZID=Europe/Madrid:20220427T144500
DTSTAMP:20260424T095419
CREATED:20220427T065516Z
LAST-MODIFIED:20220427T065516Z
UID:5679-1651065300-1651070700@linagalvez.eu
SUMMARY:Lanzamiento de la red de integración de la perspectiva de género del S&D
DESCRIPTION:La eurodiputada Lina Gálvez es la coordinadora de esta red en el seno del Grupo Parlamentario S&D  que es el grupo político más importante de centro-izquierda del Parlamento Europeo (145 MEP) y el segundo en número de eurodiputad@s. \nA esta coordinación aportará su consolidada experiencia como experta en la materia\, y tendrá como punto de partida y referencia de mejora el informe sobre la integración de la perspectiva de género en el Parlamento Europeo\, documento del que ha sido relatora en la sombra . Este informe tiene como objetivo potenciar la relevancia de la perspectiva de género en las actividades parlamentarias\, incorporando la igualdad de género y la diversidad en todas las funciones del Parlamento\, incluyendo las legislativas.
URL:https://linagalvez.eu/agenda/lanzamiento-de-la-red-de-integracion-de-la-perspectiva-de-genero-del-sd/
CATEGORIES:Destacado,FEMM,Parlamento
ATTACH;FMTTYPE=image/png:https://linagalvez.eu/wp-content/uploads/2022/03/FEMM.png
END:VEVENT
BEGIN:VEVENT
DTSTART;TZID=Europe/Madrid:20220427T150000
DTEND;TZID=Europe/Madrid:20220427T160000
DTSTAMP:20260424T095419
CREATED:20210412T083611Z
LAST-MODIFIED:20220425T090721Z
UID:5568-1651071600-1651075200@linagalvez.eu
SUMMARY:S&D Grupo de trabajo de Empleo y Asuntos Sociales
DESCRIPTION:Grupo de trabajo interno del  S&D EMPL para coordinar las iniciativas legislativas relacionadas con la sesión plenaria. \nEntre otros asuntos se preparará la votación en la comisión del jueves 28 sobre el proyecto de opinión de la comisión EMPL sobre el informe del proyecto de opinión de ITRE «Camino a la Década Digital» del que la eurodiputada Lina Gálvez es relatora en la sombra.
URL:https://linagalvez.eu/agenda/sd-grupo-de-trabajo-de-empleo-y-asuntos-sociales-4-2-2-2-2-2-2-2-2-2-2-2-3-3-2-2-3/
CATEGORIES:Actualidad,EMPL,Parlamento,S&D
ATTACH;FMTTYPE=image/jpeg:https://linagalvez.eu/wp-content/uploads/2020/11/SD-WG-ITRE.jpg
END:VEVENT
BEGIN:VEVENT
DTSTART;TZID=Europe/Madrid:20220428T100000
DTEND;TZID=Europe/Madrid:20220428T110000
DTSTAMP:20260424T095419
CREATED:20210412T083611Z
LAST-MODIFIED:20220425T092128Z
UID:5659-1651140000-1651143600@linagalvez.eu
SUMMARY:S&D Grupo de trabajo de la Comisión Especial COVID
DESCRIPTION:Grupo de trabajo interno S&D \nDespués de la reunión constitutiva de la nueva «Comisión Especial sobre el COVID-19 y las lecciones aprendidas y recomendaciones de futuro»\, de la semana pasada\, se lleva a cabo la primera reunión del grupo de trabajo de S&D
URL:https://linagalvez.eu/agenda/sd-grupo-de-trabajo-comision-especial-covid19/
CATEGORIES:Actualidad,Parlamento,S&D
ATTACH;FMTTYPE=image/jpeg:https://linagalvez.eu/wp-content/uploads/2022/04/Comison-Especial_COVID19.jpg
END:VEVENT
BEGIN:VEVENT
DTSTART;TZID=Europe/Madrid:20220428T111500
DTEND;TZID=Europe/Madrid:20220428T120000
DTSTAMP:20260424T095419
CREATED:20210830T165910Z
LAST-MODIFIED:20220425T092303Z
UID:5650-1651144500-1651147200@linagalvez.eu
SUMMARY:Comisión de Empleo y Asuntos Sociales
DESCRIPTION:Votación final del proyecto de opinión de la comisión EMPL sobre el informe de ITRE «Camino a la Década Digital». La eurodiputada Lina Gálvez es relatora en la sombra de este proyecto de opinión.
URL:https://linagalvez.eu/agenda/comision-de-empleo-y-asuntos-sociales-empl-2/
CATEGORIES:Actualidad,Destacado,EMPL,Parlamento
ATTACH;FMTTYPE=image/png:https://linagalvez.eu/wp-content/uploads/2022/03/LGM_ITRE.png
END:VEVENT
BEGIN:VEVENT
DTSTART;TZID=Europe/Madrid:20220428T113000
DTEND;TZID=Europe/Madrid:20220428T123000
DTSTAMP:20260424T095419
CREATED:20200111T153812Z
LAST-MODIFIED:20220427T080858Z
UID:2822-1651145400-1651149000@linagalvez.eu
SUMMARY:Acto de presentación de la XX edición de los Cursos de Verano de la Universidad Pablo de Olavide. Sevilla
DESCRIPTION:La eurodiputada Lina Gálvez  participa en el acto que estará presidido por el Rector de la UPO\, D. Francisco Oliva Blázquez; el alcalde del Excmo. Ayuntamiento de Carmona\, D. Juan Ávila Gutiérrez\, el presidente de la Fundación Cajasol\, D. Antonio Pulido Gutiérrez y la Vicerrectora de Relaciones Institucionales y Fundaciones\, Laura López de la Cruz .
URL:https://linagalvez.eu/agenda/reunion-de-coordinacion-oficina-parlamentaria-lgm-3/
CATEGORIES:Actualidad,Andalucía,Parlamento
ATTACH;FMTTYPE=image/jpeg:https://linagalvez.eu/wp-content/uploads/2022/02/LGM_tecnologiaydigitalizacion.jpg
END:VEVENT
BEGIN:VEVENT
DTSTART;TZID=Europe/Madrid:20220428T130000
DTEND;TZID=Europe/Madrid:20220428T150000
DTSTAMP:20260424T095419
CREATED:20220427T081616Z
LAST-MODIFIED:20220427T142925Z
UID:5685-1651150800-1651158000@linagalvez.eu
SUMMARY:Foro Feminización de la Pobreza y la exclusión de las mujeres tras la pandemia. UC3m
DESCRIPTION:Dentro del Foro de Instituto de Derechos Humanos Gregorio Peces-Barba de la Universidad Carlos III de Madrid la eurodiputada  Lina Gálvez participará en un seminario en línea sobre la Feminización de la Pobreza y la exclusión de las mujeres tras la pandemia.\nAgenda del evento Aquí
URL:https://linagalvez.eu/agenda/foro-de-instituto-de-derechos-humanos-gregorio-peces-barba-feminizacion-de-la-pobreza-y-la-exclusion-de-las-mujeres-tras-la-pandemia/
CATEGORIES:Actualidad,FEMM,Parlamento,Universidad
ATTACH;FMTTYPE=image/png:https://linagalvez.eu/wp-content/uploads/2022/04/Debate-pobreza-Mujeres.png
END:VEVENT
BEGIN:VEVENT
DTSTART;TZID=Europe/Madrid:20220429T120000
DTEND;TZID=Europe/Madrid:20220429T124500
DTSTAMP:20260424T095419
CREATED:20220111T091808Z
LAST-MODIFIED:20220426T070301Z
UID:5672-1651233600-1651236300@linagalvez.eu
SUMMARY:Reunión con el Ministerio de Ciencia e Innovación
DESCRIPTION:Reunión de la Eurodiputada Lina Gálvez para planificar y coordinar con Ministerio de Ciencia e Innovación la agenda legislativa en marcha en relación a las competencias de la Comisión ITRE.
URL:https://linagalvez.eu/agenda/reunion-con-electronic-identification-2-2-3/
CATEGORIES:ITRE,Parlamento,S&D
ATTACH;FMTTYPE=image/jpeg:https://linagalvez.eu/wp-content/uploads/2022/01/Lina-Galvez-Streaming.jpg
END:VEVENT
BEGIN:VEVENT
DTSTART;TZID=Europe/Madrid:20220429T160000
DTEND;TZID=Europe/Madrid:20220429T200000
DTSTAMP:20260424T095419
CREATED:20220425T095551Z
LAST-MODIFIED:20220425T095551Z
UID:5670-1651248000-1651262400@linagalvez.eu
SUMMARY:Ejecutiva y Comité Director PSOE-A. Sevilla
DESCRIPTION:
URL:https://linagalvez.eu/agenda/ejecutiva-y-comite-director-psoe-a-sevilla/
CATEGORIES:Actualidad,Andalucía,S&D
ATTACH;FMTTYPE=image/png:https://linagalvez.eu/wp-content/uploads/2022/01/1200px-Logo_PSOE-A.svg.png
END:VEVENT
BEGIN:VEVENT
DTSTART;TZID=Europe/Madrid:20220502T160000
DTEND;TZID=Europe/Madrid:20220502T170000
DTSTAMP:20260424T095419
CREATED:20211108T110030Z
LAST-MODIFIED:20220502T091151Z
UID:5699-1651507200-1651510800@linagalvez.eu
SUMMARY:S&D Group Meeting
DESCRIPTION:Reunión en formato híbrido del Grupo S&D preparatoria para la semana parlamentaria europea.
URL:https://linagalvez.eu/agenda/sd-group-meeting-23-3-2-2-4-2-3-3-5-2-2-2-2-2-2-2-3-3-2-3-2-2-2/
CATEGORIES:Actualidad,Destacado,Parlamento,S&D
ATTACH;FMTTYPE=image/png:https://linagalvez.eu/wp-content/uploads/2020/01/1-S&D.svg.png
END:VEVENT
BEGIN:VEVENT
DTSTART;TZID=Europe/Madrid:20220502T173000
DTEND;TZID=Europe/Madrid:20220505T170000
DTSTAMP:20260424T095419
CREATED:20210211T164450Z
LAST-MODIFIED:20220502T090726Z
UID:5552-1651512600-1651770000@linagalvez.eu
SUMMARY:Pleno del Parlamento Europeo en Estrasburgo
DESCRIPTION:Destacados del pleno. Estrasburgo\, 2-5 de mayo 2022 \n\n\n\nEsta semana el Parlamento también abordará la inteligencia artificial\, las nuevas normas para las elecciones europeas y los productos químicos nocivos. \nGuerra en Ucrania \nEl Parlamento Europeo celebrará una serie de debates en torno a la guerra en Ucrania y su impacto. Según ACNUR\, el 90% de las personas que han huido de Ucrania desde la invasión rusa son mujeres y niños. El Parlamento aprobará el jueves una resolución sobre cómo protegerlos de la violencia y la explotación sexual. \n  \nLos eurodiputados estudiarán el miércoles el impacto social y económico de la guerra en la UE. También pedirán más sanciones contra Rusia. El martes\, examinarán la preparación de la UE contra los ciberataques y el impacto de la guerra en el transporte. En concreto\, exigirán al país que devuelva los aviones alquilados a empresas extranjeras que fueron reinscritos en el registro de aeronaves ruso\, en clara violación de las normas internacionales de aviación civil. \n  \nNuevas normas para las elecciones europeas \n  \nEl martes\, la Eurocámara votará un informe que propone normas comunes en las elecciones europeas\, listas transnacionales de candidatos y la fijación de un día para las elecciones en todos los países\, el 9 de mayo. \n  \nInteligencia artificial \nEl Parlamento Europeo aprobará el martes el informe final de su comisión especial sobre la Inteligencia Artificial en la Era Digital. En el texto hay medidas que podrían potenciar la IA en campos como la salud\, la agricultura\, la gobernanza pública y el cambio climático\, además de contribuir a la creación de empleo y al crecimiento sostenible. Según el informe\, la UE se ha quedado atrás en el desarrollo\, la investigación y la inversión en IA y debería tomar la iniciativa para establecer normas mundiales antes de que lo hagan actores no democráticos. \n  \nUn cargador común \nLa UE está un paso más cerca de tener un cargador común. Se espera que el Parlamento anuncie que está preparado para empezar las negociaciones con el Consejo sobre una nueva normativa que permita a los consumidores dejar de necesitar un nuevo cargador y un nuevo cable cada vez que adquieran un nuevo teléfono móvil\, tableta\, consola de videojuegos u otro dispositivo electrónico. \n  \nProductos químicos nocivos en los residuos \nLos contaminantes orgánicos persistentes (COP) son sustancias químicas con efectos tóxicos que se concentran cada vez más en los productos reciclados y permanecen en el medio ambiente durante mucho tiempo\, lo que supone un riesgo para la salud humana y el medio ambiente. Con el fin de crear una economía circular libre de tóxicos en la UE\, los eurodiputados están dispuestos a respaldar este martes una propuesta de la Comisión para reducir la cantidad de COP permitidos en los productos y eliminar los materiales con altos niveles de COP de la cadena de reciclaje. \n  \nFuturo de Europa: revisión de los tratados de la UE \n  \nPara llevar a cabo las recomendaciones de la Conferencia sobre el Futuro de Europa y hacer que la UE sea más democrática\, el Parlamento va a pedir a la UE el miércoles que inicie el procedimiento para cambiar los tratados de la UE. \nReforma de Europol \nEl miércoles\, los eurodiputados confirmarán el acuerdo para ampliar las competencias de la agencia policial de la UE\, que apoya las investigaciones policiales realizadas por los Estados miembros. La agencia podrá llevar a cabo proyectos de investigación e innovación\, ayudar a las autoridades nacionales a examinar la inversión extranjera directa en casos relacionados con la seguridad y recibir datos de empresas privadas en casos relacionados con material terrorista o abusos sexuales a menores. \n  \nSubsidios \nEl Parlamento Europeo adoptará el jueves su posición respecto a las nuevas herramientas para contrarrestar los subsidios extranjeros que se conceden a las empresas que operan en la UE y que ocasionan distorsiones en el mercado. \n  \nTambién en la agenda: \n  \n– El primer ministro italiano Draghi participará en un debate el martes \n– Ampliación del Certificado COVID Digital de la UE \n– Debate sobre las amenazas a las que se enfrentan los periodistas con motivo del Día de la Libertad de Prensa \n– Estado de Derecho en Polonia y Hungría \n– Aprobación de la gestión del presupuesto de 2020 \n\n\n\n\n\n\n\nMás información
URL:https://linagalvez.eu/agenda/pleno-del-parlamento-europeo-2-2-2-2-2-2-2-6-3-3/
CATEGORIES:Actualidad,Destacado,Parlamento
ATTACH;FMTTYPE=image/jpeg:https://linagalvez.eu/wp-content/uploads/2020/03/European_Parliament_Strasbourg_Hemicycle_-_Diliff-2-scaled.jpg
END:VEVENT
BEGIN:VEVENT
DTSTART;TZID=Europe/Madrid:20220502T180000
DTEND;TZID=Europe/Madrid:20220502T200000
DTSTAMP:20260424T095419
CREATED:20220502T132944Z
LAST-MODIFIED:20220502T132944Z
UID:5713-1651514400-1651521600@linagalvez.eu
SUMMARY:Reunión de los relatores y relatoras en la sombra sobre el Informe sobre la pobreza de las mujeres en Europa
DESCRIPTION:Reunión de los relatores y relatoras en la sombra sobre el Informe sobre la pobreza de las mujeres en Europa. Lina Gálvez es ponente de este informe de la Comisión de Derechos de las Mujeres e Igualdad de Género.
URL:https://linagalvez.eu/agenda/reunion-de-los-relatores-y-relatoras-en-la-sombra-sobre-el-informe-sobre-la-pobreza-de-las-mujeres-en-europa/
CATEGORIES:Actualidad,FEMM,Parlamento
ATTACH;FMTTYPE=image/jpeg:https://linagalvez.eu/wp-content/uploads/2022/03/20minutos.jpeg
END:VEVENT
BEGIN:VEVENT
DTSTART;TZID=Europe/Madrid:20220502T180000
DTEND;TZID=Europe/Madrid:20220502T203000
DTSTAMP:20260424T095419
CREATED:20220502T092018Z
LAST-MODIFIED:20220502T092752Z
UID:5702-1651514400-1651523400@linagalvez.eu
SUMMARY:Destacados del pleno. 2 de mayo 2022 
DESCRIPTION:Se presenta el informe de la Comisión FEMM sobre cómo alcanzar la independencia económica de las mujeres mediante el espíritu empresarial y el autoempleo.
URL:https://linagalvez.eu/agenda/participacion-en-plenario-en-el-debate-conjunto-sobre-investigacion-e-innovacion-2-2-2-2-2-2-2-3-2-2/
CATEGORIES:Actualidad,Destacado,FEMM,Parlamento
ATTACH;FMTTYPE=image/jpeg:https://linagalvez.eu/wp-content/uploads/2022/01/Captura_LGM.jpg
END:VEVENT
BEGIN:VEVENT
DTSTART;TZID=Europe/Madrid:20220503T090000
DTEND;TZID=Europe/Madrid:20220503T094500
DTSTAMP:20260424T095419
CREATED:20210412T084247Z
LAST-MODIFIED:20220502T164144Z
UID:5648-1651568400-1651571100@linagalvez.eu
SUMMARY:S&D FEMM Working Group
DESCRIPTION:Sesión interna de trabajo en el seno del S&D para coordinar y revisar las iniciativas que se tratarán en el Pleno y la Comisión FEMM.
URL:https://linagalvez.eu/agenda/sd-femm-working-group-6-2-2/
CATEGORIES:FEMM,Parlamento,S&D
END:VEVENT
BEGIN:VEVENT
DTSTART;TZID=Europe/Madrid:20220503T090000
DTEND;TZID=Europe/Madrid:20220503T153000
DTSTAMP:20260424T095419
CREATED:20220502T092018Z
LAST-MODIFIED:20220502T092340Z
UID:5704-1651568400-1651591800@linagalvez.eu
SUMMARY:Destacados del pleno. 3 de mayo 2022 
DESCRIPTION:La inteligencia artificial en la era digital \nSe debatirá sobre la inteligencia artificial en la era digital\, además de sobre las amenazas a la seguridad de los periodistas y a la libertad de los medios de comunicación\, con motivo del Día Mundial de la Libertad de Prensa. La eurodiputada Lina Gálvez presentó una opinión sobre las recomendaciones a la Comisión sobre un marco de aspectos éticos de la inteligencia artificial\, la robótica y tecnologías conexas (EMPL).
URL:https://linagalvez.eu/agenda/participacion-en-plenario-en-el-debate-conjunto-sobre-investigacion-e-innovacion-2-2-2-2-2-2-2-3-2-2-2/
CATEGORIES:Actualidad,Destacado,FEMM,Parlamento
ATTACH;FMTTYPE=image/jpeg:https://linagalvez.eu/wp-content/uploads/2021/12/20211208_EP-123402A_PB7_077-scaled.jpg
END:VEVENT
BEGIN:VEVENT
DTSTART;TZID=Europe/Madrid:20220503T110000
DTEND;TZID=Europe/Madrid:20220503T113000
DTSTAMP:20260424T095419
CREATED:20210412T080804Z
LAST-MODIFIED:20220509T214945Z
UID:5647-1651575600-1651577400@linagalvez.eu
SUMMARY:S&D ITRE Working Group meeting
DESCRIPTION:Grupo de trabajo S&D ITRE en el que se tratarán los temas que se debatirán en el siguiente Pleno y Comisiones.
URL:https://linagalvez.eu/agenda/sd-itre-working-group-meeting-3/
CATEGORIES:Actualidad,ITRE,S&D
ATTACH;FMTTYPE=image/jpeg:https://linagalvez.eu/wp-content/uploads/2020/11/SD-WG-ITRE.jpg
END:VEVENT
BEGIN:VEVENT
DTSTART;TZID=Europe/Madrid:20220503T120000
DTEND;TZID=Europe/Madrid:20220503T140000
DTSTAMP:20260424T095419
CREATED:20210301T093643Z
LAST-MODIFIED:20250210T090039Z
UID:5708-1651579200-1651586400@linagalvez.eu
SUMMARY:S&D Reunión de la Delegación Socialista Española
DESCRIPTION:Reunión interna de trabajo y de coordinación.
URL:https://linagalvez.eu/agenda/sd-reunion-de-la-delegacion-socialista-espanola-11-2-2-2-2-2-2-2-2-4-3-2-2/
CATEGORIES:Parlamento,S&D
ATTACH;FMTTYPE=image/png:https://linagalvez.eu/wp-content/uploads/2020/07/Delegacion-española.png
END:VEVENT
BEGIN:VEVENT
DTSTART;TZID=Europe/Madrid:20220503T160000
DTEND;TZID=Europe/Madrid:20220503T170000
DTSTAMP:20260424T095419
CREATED:20210412T083611Z
LAST-MODIFIED:20220502T164514Z
UID:5724-1651593600-1651597200@linagalvez.eu
SUMMARY:S&D Grupo de trabajo de Empleo y Asuntos Sociales
DESCRIPTION:Grupo de trabajo interno del  S&D EMPL para coordinar las iniciativas legislativas relacionadas con la sesión plenaria. \nEn este grupo de trabajo se discutirá sobre el Fondo Social para el Clima sobre el que Lina Gálvez redactó una opinión: «sobre la propuesta de Reglamento del Parlamento Europeo y del Consejo por el que se crea un Fondo Social para el Clima.»
URL:https://linagalvez.eu/agenda/sd-grupo-de-trabajo-de-empleo-y-asuntos-sociales-4-2-2-2-2-2-2-2-2-2-2-2-3-3-2-2-3-2/
CATEGORIES:Actualidad,EMPL,Parlamento,S&D
ATTACH;FMTTYPE=image/jpeg:https://linagalvez.eu/wp-content/uploads/2020/11/SD-WG-ITRE.jpg
END:VEVENT
BEGIN:VEVENT
DTSTART;TZID=Europe/Madrid:20220503T180000
DTEND;TZID=Europe/Madrid:20220503T203000
DTSTAMP:20260424T095419
CREATED:20211108T110030Z
LAST-MODIFIED:20220502T092705Z
UID:5698-1651600800-1651609800@linagalvez.eu
SUMMARY:S&D Group Meeting
DESCRIPTION:Reunión en formato híbrido del Grupo S&D para coordinar la actividad legislativa del Pleno del Parlamento Europeo.
URL:https://linagalvez.eu/agenda/sd-group-meeting-23-3-2-2-4-2-3-3-5-2-2-2-2-2-2-2-3-3-2-3-2-3-3/
CATEGORIES:Actualidad,Parlamento,S&D
ATTACH;FMTTYPE=image/png:https://linagalvez.eu/wp-content/uploads/2020/01/1-S&D.svg.png
END:VEVENT
BEGIN:VEVENT
DTSTART;TZID=Europe/Madrid:20220504T090000
DTEND;TZID=Europe/Madrid:20220504T153000
DTSTAMP:20260424T095419
CREATED:20220502T092018Z
LAST-MODIFIED:20220502T163410Z
UID:5711-1651654800-1651678200@linagalvez.eu
SUMMARY:Destacados del pleno. 4 de mayo 2022 
DESCRIPTION:Debate clave sobre las consecuencias sociales y económicas de la guerra de Ucrania para la UE. Se debatirá sobre las consecuencias sociales y económicas para la UE de la guerra rusa en Ucrania y la capacidad de reforzar la actuación de la UE.\n11:00 – 13:20 Debates conjuntos en el pleno sobre la aprobación de la gestión 2020 de las distintas instituciones y órganos europeos\n13:30 – 15:00 Votación en Pleno. Se votará sobre sobre la aprobación de la gestión 2020\n15:00 – 22:00 Debate en Pleno. Se debatirá\, entre otros temas\, sobre casos de violación de los derechos humanos\, la democracia y el Estado de Derecho en Turquía\, China y Camboya\, y la utilización del programa Pegasus.
URL:https://linagalvez.eu/agenda/debate-plenario/
CATEGORIES:Actualidad,Destacado,EMPL,FEMM,ITRE,Parlamento
ATTACH;FMTTYPE=image/jpeg:https://linagalvez.eu/wp-content/uploads/2022/04/LGM_libertad-academica.jpg
END:VEVENT
BEGIN:VEVENT
DTSTART;TZID=Europe/Madrid:20220504T180000
DTEND;TZID=Europe/Madrid:20220504T203000
DTSTAMP:20260424T095419
CREATED:20211108T110030Z
LAST-MODIFIED:20220502T162411Z
UID:5712-1651687200-1651696200@linagalvez.eu
SUMMARY:S&D Group Meeting
DESCRIPTION:Reunión en formato híbrido del Grupo S&D para coordinar la actividad legislativa del Pleno del Parlamento Europeo.
URL:https://linagalvez.eu/agenda/sd-group-meeting-23-3-2-2-4-2-3-3-5-2-2-2-2-2-2-2-3-3-2-3-2-3-3-2/
CATEGORIES:Actualidad,Parlamento,S&D
ATTACH;FMTTYPE=image/png:https://linagalvez.eu/wp-content/uploads/2020/01/1-S&D.svg.png
END:VEVENT
END:VCALENDAR