BEGIN:VCALENDAR
VERSION:2.0
PRODID:-//Lina Gálvez - ECPv6.15.20//NONSGML v1.0//EN
CALSCALE:GREGORIAN
METHOD:PUBLISH
X-WR-CALNAME:Lina Gálvez
X-ORIGINAL-URL:https://linagalvez.eu
X-WR-CALDESC:Eventos para Lina Gálvez
REFRESH-INTERVAL;VALUE=DURATION:PT1H
X-Robots-Tag:noindex
X-PUBLISHED-TTL:PT1H
BEGIN:VTIMEZONE
TZID:Europe/Madrid
BEGIN:DAYLIGHT
TZOFFSETFROM:+0100
TZOFFSETTO:+0200
TZNAME:CEST
DTSTART:20220327T010000
END:DAYLIGHT
BEGIN:STANDARD
TZOFFSETFROM:+0200
TZOFFSETTO:+0100
TZNAME:CET
DTSTART:20221030T010000
END:STANDARD
BEGIN:DAYLIGHT
TZOFFSETFROM:+0100
TZOFFSETTO:+0200
TZNAME:CEST
DTSTART:20230326T010000
END:DAYLIGHT
BEGIN:STANDARD
TZOFFSETFROM:+0200
TZOFFSETTO:+0100
TZNAME:CET
DTSTART:20231029T010000
END:STANDARD
BEGIN:DAYLIGHT
TZOFFSETFROM:+0100
TZOFFSETTO:+0200
TZNAME:CEST
DTSTART:20240331T010000
END:DAYLIGHT
BEGIN:STANDARD
TZOFFSETFROM:+0200
TZOFFSETTO:+0100
TZNAME:CET
DTSTART:20241027T010000
END:STANDARD
END:VTIMEZONE
BEGIN:VEVENT
DTSTART;TZID=Europe/Madrid:20230619T080000
DTEND;TZID=Europe/Madrid:20230623T170000
DTSTAMP:20260423T111930
CREATED:20210205T102540Z
LAST-MODIFIED:20230619T120534Z
UID:7410-1687161600-1687539600@linagalvez.eu
SUMMARY:External parliamentary activities. Week.
DESCRIPTION:Durante las semanas verdes\,  l@s eurodiputad@s desarrollan actividades fuera del Parlamento Europeo. Trabajan en sus circunscripciones para tener la oportunidad de estar en contacto con las personas electoras\, o en las delegaciones del Parlamento para mantener relaciones con los países ajenos a la UE.\nLa eurodiputada Lina Gálvez mantendrá durante la semana diversos encuentros informales con distintas autoridades\, asociaciones y profesionales.\n\nMás Información 
URL:https://linagalvez.eu/agenda/external-parliamentary-activities-week-2-6-2-2-2-2-2-2-2-2/
CATEGORIES:Actualidad,Destacado,Parlamento
ATTACH;FMTTYPE=image/jpeg:https://linagalvez.eu/wp-content/uploads/2020/07/Calendario2.jpg
END:VEVENT
BEGIN:VEVENT
DTSTART;TZID=Europe/Madrid:20230626T140000
DTEND;TZID=Europe/Madrid:20230626T150000
DTSTAMP:20260423T111930
CREATED:20210412T084247Z
LAST-MODIFIED:20230626T111105Z
UID:7589-1687788000-1687791600@linagalvez.eu
SUMMARY:S&D FEMM Working Group
DESCRIPTION:Sesión interna de trabajo en el seno del S&D para coordinar y revisar las iniciativas que se tratarán en el Pleno y la Comisión FEMM.
URL:https://linagalvez.eu/agenda/sd-femm-working-group-6-3-2-3-2/
CATEGORIES:FEMM,Parlamento,S&D
END:VEVENT
BEGIN:VEVENT
DTSTART;TZID=Europe/Madrid:20230626T153000
DTEND;TZID=Europe/Madrid:20230626T183000
DTSTAMP:20260423T111930
CREATED:20210927T104830Z
LAST-MODIFIED:20230626T100838Z
UID:7590-1687793400-1687804200@linagalvez.eu
SUMMARY:Reunión de la Comisión de Derechos de las Mujeres e Igualdad de Género FEMM
DESCRIPTION:Reunión de la Comisión de Derechos de las Mujeres e Igualdad de Género en la que se abordarán los siguientes temas: \nSeguimiento de la Misión a Copenhague de mayo de 2023\, la jurisdicción de paternidad o las enmiendas de la directiva 2011/36/EU sobre el tráfico de personas. \n\n\n\nSitio web de la Comisión de Derechos de la Mujer e Igualdad de Género 
URL:https://linagalvez.eu/agenda/joint-meeting-committee-on-employment-and-social-affairs-committee-on-womens-rights-and-gender-equality-2-3-2-3-2-2-2-2-4-2-2-2-2-2-2-2-2-2-3-2/
CATEGORIES:Destacado,FEMM,Parlamento
ATTACH;FMTTYPE=image/png:https://linagalvez.eu/wp-content/uploads/2022/03/LGM_ITRE.png
END:VEVENT
BEGIN:VEVENT
DTSTART;TZID=Europe/Madrid:20230626T160000
DTEND;TZID=Europe/Madrid:20230626T173000
DTSTAMP:20260423T111930
CREATED:20210927T094856Z
LAST-MODIFIED:20230626T111217Z
UID:7588-1687795200-1687800600@linagalvez.eu
SUMMARY:Grupo de trabajo S&D ITRE
DESCRIPTION:Reunión del grupo de trabajo S&D de la Comisión de Industria\, Investigación y Energía en la que se abordarán los asuntos legislativos en marcha.
URL:https://linagalvez.eu/agenda/encuentro-con-la-embajadora-espanola-en-malta-external-group-meeting-2-5-2-3-3-3-2-2-2-2-2-2-2/
CATEGORIES:ITRE,S&D
ATTACH;FMTTYPE=image/jpeg:https://linagalvez.eu/wp-content/uploads/2022/10/Lina-Galvez_TimeUseWeek2002.jpg
END:VEVENT
BEGIN:VEVENT
DTSTART;TZID=Europe/Madrid:20230627T090000
DTEND;TZID=Europe/Madrid:20230627T100000
DTSTAMP:20260423T111930
CREATED:20210927T104830Z
LAST-MODIFIED:20230627T080405Z
UID:7597-1687856400-1687860000@linagalvez.eu
SUMMARY:Reunión de la Comisión de Derechos de las Mujeres e Igualdad de Género FEMM
DESCRIPTION:Reunión de la Comisión de Derechos de las Mujeres e Igualdad de Género en la que se abordarán los siguientes temas: \nSe votarán informes claves de esta legislatura como la directiva de regulación de la prostitución\, la directiva de prevención del abuso sexual infantil y la directiva para la aseguración del transporte europeo para la mujer. \n\n\n\nSitio web de la Comisión de Derechos de la Mujer e Igualdad de Género 
URL:https://linagalvez.eu/agenda/joint-meeting-committee-on-employment-and-social-affairs-committee-on-womens-rights-and-gender-equality-2-3-2-3-2-2-2-2-4-2-2-2-2-2-2-2-2-2-3-2-2/
CATEGORIES:FEMM,Parlamento
ATTACH;FMTTYPE=image/png:https://linagalvez.eu/wp-content/uploads/2022/03/LGM_ITRE.png
END:VEVENT
BEGIN:VEVENT
DTSTART;TZID=Europe/Madrid:20230627T100000
DTEND;TZID=Europe/Madrid:20230627T110000
DTSTAMP:20260423T111930
CREATED:20230605T093302Z
LAST-MODIFIED:20230627T082057Z
UID:7605-1687860000-1687863600@linagalvez.eu
SUMMARY:Reunión de la Red de incorporación de la Perspectiva de Género
DESCRIPTION:Presentación del estudio “Desarrollo de indicadores de Red de incorporación de la Perspectiva de Género para medir el impacto de comisión FEMM en las decisiones finales del Parlamento Europeo”.
URL:https://linagalvez.eu/agenda/reunion-lobby-europeo-de-mujeres-2-2/
CATEGORIES:Actualidad,FEMM,S&D
ATTACH;FMTTYPE=image/jpeg:https://linagalvez.eu/wp-content/uploads/2020/07/Calendario2.jpg
END:VEVENT
BEGIN:VEVENT
DTSTART;TZID=Europe/Madrid:20230627T120000
DTEND;TZID=Europe/Madrid:20230627T123000
DTSTAMP:20260423T111930
CREATED:20230605T093302Z
LAST-MODIFIED:20230627T082613Z
UID:7608-1687867200-1687869000@linagalvez.eu
SUMMARY:Reunión con Trellix (Cyber Solidarity Act)
DESCRIPTION:La eurodiputada Lina Gálvez se reunirá con Trellix\, una empresa líder en ciberseguridad B2C (de empresa a consumidores) representado por Chris Hutchins\, Director General y Políticas públicas de Trellix. El tema a tratar será la ley europea de ciber solidaridad (Cyber Solidarity Act) del que Lina Gálvez  es Ponente del Parlamento Europeo.
URL:https://linagalvez.eu/agenda/reunion-lobby-europeo-de-mujeres-2-2-2/
CATEGORIES:Actualidad,ITRE,S&D
ATTACH;FMTTYPE=image/jpeg:https://linagalvez.eu/wp-content/uploads/2020/07/Calendario2.jpg
END:VEVENT
BEGIN:VEVENT
DTSTART;TZID=Europe/Madrid:20230627T133000
DTEND;TZID=Europe/Madrid:20230627T153000
DTSTAMP:20260423T111930
CREATED:20230627T082934Z
LAST-MODIFIED:20230627T082934Z
UID:7610-1687872600-1687879800@linagalvez.eu
SUMMARY:Evento S&D Hacia una garantía de empleabilidad
DESCRIPTION:Lina Gálves asistirá a este evento organización por S&amp;D sobre aproximaciones innovadores para luchar contra el desempleo y manejar las necesidades sociales y medioambientales en Europa.
URL:https://linagalvez.eu/agenda/evento-sd-hacia-una-garantia-de-empleabilidad/
CATEGORIES:EMPL,S&D
ATTACH;FMTTYPE=image/png:https://linagalvez.eu/wp-content/uploads/2020/01/1-S&D.svg.png
END:VEVENT
BEGIN:VEVENT
DTSTART;TZID=Europe/Madrid:20230627T150000
DTEND;TZID=Europe/Madrid:20230627T160000
DTSTAMP:20260423T111930
CREATED:20210412T083611Z
LAST-MODIFIED:20230627T083245Z
UID:7604-1687878000-1687881600@linagalvez.eu
SUMMARY:S&D Grupo de trabajo de Empleo y Asuntos Sociales
DESCRIPTION:Grupo de trabajo interno del  S&D EMPL para coordinar las iniciativas relacionadas con los trabajos legislativos en curso.
URL:https://linagalvez.eu/agenda/sd-grupo-de-trabajo-de-empleo-y-asuntos-sociales-4-2-2-2-2-2-2-2-2-2-2-2-3-3-2-2-3-2-2-2-2-2-2-2-2-3-2-2-3-2/
CATEGORIES:Actualidad,EMPL,Parlamento,S&D
ATTACH;FMTTYPE=image/jpeg:https://linagalvez.eu/wp-content/uploads/2020/11/SD-WG-ITRE.jpg
END:VEVENT
BEGIN:VEVENT
DTSTART;TZID=Europe/Madrid:20230627T160000
DTEND;TZID=Europe/Madrid:20230627T170000
DTSTAMP:20260423T111930
CREATED:20230605T093302Z
LAST-MODIFIED:20230627T083823Z
UID:7616-1687881600-1687885200@linagalvez.eu
SUMMARY:Reunión Oficina europea de Unión Alianza 4 universidades
DESCRIPTION:La eurodiputada Lina Gálvez se reunirá con la oficina europea de Unión Alianza 4 universidades parar hablar sobre los retos actuales a los que se enfrentan las universidades y las oportunidades que les blinda la UE.\nEnlace: https://alliance4universities.eu/
URL:https://linagalvez.eu/agenda/reunion-lobby-europeo-de-mujeres-2-2-2-2/
CATEGORIES:Actualidad,ITRE,S&D
ATTACH;FMTTYPE=image/jpeg:https://linagalvez.eu/wp-content/uploads/2020/07/Calendario2.jpg
END:VEVENT
BEGIN:VEVENT
DTSTART;TZID=Europe/Madrid:20230628T100000
DTEND;TZID=Europe/Madrid:20230628T120000
DTSTAMP:20260423T111930
CREATED:20210830T165910Z
LAST-MODIFIED:20230626T105452Z
UID:7315-1687946400-1687953600@linagalvez.eu
SUMMARY:Comisión de Empleo y Asuntos Sociales
DESCRIPTION:El Comité de Empleo y Asuntos Sociales (EMPL) del que forma parte la eurodiputada Lina Gálvez se reune con el siguiente orden del día: \n\nEstablecimiento de un marco de medidas para reforzar el ecosistema europeo de fabricación de productos de tecnología neta cero (Ley de la Industria de cero emisiones netas) de la que Lina Gálvez es ponente  en la sombra del grupo S&D. Está opinión esta centrada en el establecimiento de un marco de medidas para reforzar el ecosistema europeo de fabricación de productos de tecnología de cero emisiones netas (Establishing a framework of measures for strengthening Europe’s net-zero technology products manufacturing ecosystem – Net Zero Industry Act).
URL:https://linagalvez.eu/agenda/comision-de-empleo-y-asuntos-sociales-empl-3-2-2-2-2/
CATEGORIES:Actualidad,Destacado,EMPL,Parlamento
ATTACH;FMTTYPE=image/jpeg:https://linagalvez.eu/wp-content/uploads/2022/06/LGM_probreza.jpg
END:VEVENT
BEGIN:VEVENT
DTSTART;TZID=Europe/Madrid:20230628T160000
DTEND;TZID=Europe/Madrid:20230628T190000
DTSTAMP:20260423T111930
CREATED:20230605T093302Z
LAST-MODIFIED:20230627T084206Z
UID:7620-1687968000-1687978800@linagalvez.eu
SUMMARY:Reunión de alto nivel sobre los principios y valores subyacentes a la cooperación internacional de I+D
DESCRIPTION:Lina Gálvez intervendrá en esta reunión sobre el trabajo de la UE en materia de I+D.
URL:https://linagalvez.eu/agenda/reunion-lobby-europeo-de-mujeres-2-2-2-2-2/
CATEGORIES:Actualidad,ITRE,S&D
ATTACH;FMTTYPE=image/jpeg:https://linagalvez.eu/wp-content/uploads/2020/07/Calendario2.jpg
END:VEVENT
BEGIN:VEVENT
DTSTART;TZID=Europe/Madrid:20230629T090000
DTEND;TZID=Europe/Madrid:20230629T110000
DTSTAMP:20260423T111930
CREATED:20230627T091145Z
LAST-MODIFIED:20231115T154045Z
UID:7627-1688029200-1688036400@linagalvez.eu
SUMMARY:Curso de verano UPO “Oportunidades\, Retos y Riesgos de la transición Digital y Energética”
DESCRIPTION:La eurodiputada Lina Gálvez participará en este curso de verano de la Universidad Pablo de Olavide y organizado por CC.OO Andalucía. Lina Gálvez aportará un análisis de la “Estructura Económica y Desigualdades en España” desde la perspectiva de las transiciones justas. \nMás información:https://www.upo.es/formacionpermanente/cursos-de-verano/oportunidades-retos-y-riesgos-de-las-transiciones-digital-y-energetica/
URL:https://linagalvez.eu/agenda/curso-de-verano-upo-oportunidades-retos-y-riesgos-de-la-transicion-digital-y-energetica/
CATEGORIES:Actualidad,Andalucía,EMPL,FEMM,ITRE,S&D,Transiciones justas
ATTACH;FMTTYPE=image/jpeg:https://linagalvez.eu/wp-content/uploads/2020/01/UPO..jpg
END:VEVENT
BEGIN:VEVENT
DTSTART;TZID=Europe/Madrid:20230629T110000
DTEND;TZID=Europe/Madrid:20230629T120000
DTSTAMP:20260423T111930
CREATED:20210611T142459Z
LAST-MODIFIED:20230626T110103Z
UID:7591-1688036400-1688040000@linagalvez.eu
SUMMARY:Reunión extraordinaria de la Comisión de Industria\, Investigación y Energía (ITRE)
DESCRIPTION:La eurodiputada Lina Gálvez  y su equipo participaran en remoto en la reunión de la comisión de Industria y Energía. Entre otros temas se debatirá  la Regulación (UE) 2019/1242 sobre el fortalecimiento de los estándares de rendimiento de CO2 para nuevos vehículos resistentes. \n\n\n\n\nWeb de la Comisión de Industria\, Investigación y Energía
URL:https://linagalvez.eu/agenda/reunion-de-la-comision-de-industria-investigacion-y-energia-itre-19-2-2-2/
CATEGORIES:Actualidad,Destacado,ITRE,Parlamento,STOA
ATTACH;FMTTYPE=image/jpeg:https://linagalvez.eu/wp-content/uploads/2022/12/Comite_derechos-mujer.jpg
END:VEVENT
BEGIN:VEVENT
DTSTART;TZID=Europe/Madrid:20230630T110000
DTEND;TZID=Europe/Madrid:20230630T130000
DTSTAMP:20260423T111930
CREATED:20200705T094158Z
LAST-MODIFIED:20230627T103252Z
UID:7630-1688122800-1688130000@linagalvez.eu
SUMMARY:Reunión de equipo. Coordinación interna
DESCRIPTION:La eurodiputada Lina Gálvez se reunirá con su equipo del Parlamento Europeo para la coordinación de la reunión externa del Grupo Socialistas y Demócratas en Cracovia\, Polonia.
URL:https://linagalvez.eu/agenda/reunion-de-equipo-coordinacion-interna-2-2-2-3-3-2-3-2-2-2-2-2-2-2-2-2-2-2-2-2-2-2/
CATEGORIES:Actualidad,Parlamento
ATTACH;FMTTYPE=image/jpeg:https://linagalvez.eu/wp-content/uploads/2020/07/Calendario.jpg
END:VEVENT
BEGIN:VEVENT
DTSTART;TZID=Europe/Madrid:20230703T090000
DTEND;TZID=Europe/Madrid:20230703T110000
DTSTAMP:20260423T111930
CREATED:20230627T091145Z
LAST-MODIFIED:20230703T081150Z
UID:7723-1688374800-1688382000@linagalvez.eu
SUMMARY:Curso de verano UPO “Las encrucijadas del capitalismo global”
DESCRIPTION:La eurodiputada Lina Gálvez participará en este curso de verano de la Universidad Pablo de Olavide  donde impartirá la conferencia “Las encrucijadas del capitalismo global” . Gálvez es Catedrática de Historia Económica de la Universidad Pablo de Olavide y compartirá reflexiones junto con Ángel Martínez González-Tablas. Catedrático de Economía Internacional de la Universidad Complutense de Madrid y Dña. Marta Soler Montiel. Profesora Titular de Economía de la\nUniversidad de Sevilla.
URL:https://linagalvez.eu/agenda/curso-de-verano-upo-oportunidades-retos-y-riesgos-de-la-transicion-digital-y-energetica-2/
CATEGORIES:Actualidad,Andalucía,Destacado,EMPL,FEMM,ITRE,S&D
ATTACH;FMTTYPE=image/jpeg:https://linagalvez.eu/wp-content/uploads/2020/01/UPO..jpg
END:VEVENT
BEGIN:VEVENT
DTSTART;TZID=Europe/Madrid:20230703T090000
DTEND;TZID=Europe/Madrid:20230703T110000
DTSTAMP:20260423T111930
CREATED:20230627T091145Z
LAST-MODIFIED:20230703T085905Z
UID:7733-1688374800-1688382000@linagalvez.eu
SUMMARY:Curso de Verano "Ellas crean. Mujeres y arte\, mujeres y literatura\, mujeres y cine\, mujeres y pensamiento"
DESCRIPTION:La eurodiputada Lina Gálvez participará en este curso de verano de la Universidad Pablo de Olavide donde intervendrá y moderará esta sesión de este curso de verano  que tiene como eje central el análisis desde la perspectiva de género de las mujeres a la cultura del siglo XXI. \nLa cultura nos vincula\, nos ordena y jerarquiza cada una de las acciones de nuestra sociedad y de nuestras vidas. Desde las artes\, el pensamiento y la literatura se crean modelos y roles y al mismo tiempo se descomponen. Las mujeres han sido tercamente ignoradas durante siglos\, expulsadas de las Academias y los cánones\, pero algunas lograron levantar la cabeza en las letras o crear aún a costa de ceder su nombre y su autoría. Hoy hablar de mujeres en cultura resulta inevitable\, aunque igualmente necesario. Es un sector fuertemente demonizado tanto por parte de las autoras y creadoras como de los públicos: son las mujeres la que sostienen los libros\, el cine\, los espectáculos. Y destacan tanto en ámbitos donde se han movido con menos obstáculos como en el cine o la producción de espectáculos donde sus manos han trabajado mucho y firmado menos. \nEn este curso analizaremos el papel de las mujeres en la cultura de este siglo XXI\, saldaremos deudas con algunas creadoras del pasado\, oiremos a sus actuales protagonistas y debatiremos y reflexionaremos sobre los avances y las amenazas para la igualdad en un sector que trasciende su oficio y se convierte en el paradigma con el que vemos y nos construimos en sociedad. Contaremos con directoras de cine\, escritoras\, académicas\, sociólogas y artistas para\, por un lado\, conocer su experiencia\, y por otro chequear que aportan las mujeres a la cultura actual y cuáles son sus desafíos. \nPrograma: https://www.upo.es/formacionpermanente/cursos-de-verano/ellas-crean-mujeres-arte-
URL:https://linagalvez.eu/agenda/curso-de-verano-upo-oportunidades-retos-y-riesgos-de-la-transicion-digital-y-energetica-2-2/
CATEGORIES:Actualidad,Andalucía,Destacado,FEMM,S&D,Universidad
ATTACH;FMTTYPE=image/jpeg:https://linagalvez.eu/wp-content/uploads/2023/06/LGM-Olavide.jpeg
END:VEVENT
BEGIN:VEVENT
DTSTART;TZID=Europe/Madrid:20230704T103000
DTEND;TZID=Europe/Madrid:20230704T113000
DTSTAMP:20260423T111930
CREATED:20210927T094856Z
LAST-MODIFIED:20230703T084640Z
UID:7730-1688466600-1688470200@linagalvez.eu
SUMMARY:Grupo de trabajo S&D ITRE
DESCRIPTION:Reunión del grupo de trabajo S&D de la Comisión de Industria\, Investigación y Energía en la que se abordarán los asuntos legislativos en marcha.
URL:https://linagalvez.eu/agenda/encuentro-con-la-embajadora-espanola-en-malta-external-group-meeting-2-5-2-3-3-3-2-2-2-2-2-2-2-2-2/
CATEGORIES:Actualidad,ITRE,S&D
ATTACH;FMTTYPE=image/jpeg:https://linagalvez.eu/wp-content/uploads/2021/09/SD-WG-ITRE.jpg
END:VEVENT
BEGIN:VEVENT
DTSTART;TZID=Europe/Madrid:20230704T180000
DTEND;TZID=Europe/Madrid:20230704T190000
DTSTAMP:20260423T111930
CREATED:20230703T082917Z
LAST-MODIFIED:20230703T082917Z
UID:7725-1688493600-1688497200@linagalvez.eu
SUMMARY:Ceremonia de inauguración de la presidencia española del Consejo de la Unión Europea.Bruselas
DESCRIPTION:La eurodiputada Lina Gálvez asistirá a la ceremonia de inauguración de la Presidencia española del Consejo de la Unión Europea organizada por la Representación Permanente de España ante la Unión Europea.
URL:https://linagalvez.eu/agenda/ceremonia-de-inauguracion-de-la-presidencia-espanola-del-consejo-de-la-union-europea-bruselas/
CATEGORIES:Actualidad,Destacado,Parlamento
ATTACH;FMTTYPE=image/jpeg:https://linagalvez.eu/wp-content/uploads/2023/07/Presidencia-Espanola-UE.jpg
END:VEVENT
BEGIN:VEVENT
DTSTART;TZID=Europe/Madrid:20230705T090000
DTEND;TZID=Europe/Madrid:20230705T143000
DTSTAMP:20260423T111931
CREATED:20210301T093643Z
LAST-MODIFIED:20250210T090034Z
UID:6678-1688547600-1688567400@linagalvez.eu
SUMMARY:S&D Reunión de la Delegación Socialista Española
DESCRIPTION:Reunión interna de trabajo para coordinar la actividad legislativa del Pleno del Parlamento Europeo.
URL:https://linagalvez.eu/agenda/sd-reunion-de-la-delegacion-socialista-espanola-11-2-2-2-2-2-2-2-2-4-3-2-2-2-2-2-2-2-2-2-2-3/
CATEGORIES:Destacado,Parlamento,S&D
ATTACH;FMTTYPE=image/jpeg:https://linagalvez.eu/wp-content/uploads/2021/03/WhatsApp-Image-2022-07-11-at-12.02.33-PM.jpeg
END:VEVENT
BEGIN:VEVENT
DTSTART;TZID=Europe/Madrid:20230705T150000
DTEND;TZID=Europe/Madrid:20230705T160000
DTSTAMP:20260423T111931
CREATED:20210927T094856Z
LAST-MODIFIED:20230703T093306Z
UID:7728-1688569200-1688572800@linagalvez.eu
SUMMARY:Grupo de trabajo S&D ITRE
DESCRIPTION:Reunión del grupo de trabajo S&D de la Comisión de Industria\, Investigación y Energía en la que se abordarán los asuntos legislativos en marcha.
URL:https://linagalvez.eu/agenda/encuentro-con-la-embajadora-espanola-en-malta-external-group-meeting-2-5-2-3-3-3-2-2-2-2-2-2-2-2/
CATEGORIES:ITRE,S&D
ATTACH;FMTTYPE=image/jpeg:https://linagalvez.eu/wp-content/uploads/2023/02/Lina-Galves-Foro.jpg
END:VEVENT
BEGIN:VEVENT
DTSTART;TZID=Europe/Madrid:20230706T161500
DTEND;TZID=Europe/Madrid:20230706T170000
DTSTAMP:20260423T111931
CREATED:20230703T091822Z
LAST-MODIFIED:20230706T092924Z
UID:7736-1688660100-1688662800@linagalvez.eu
SUMMARY:COSCE debate pre electoral ‘Sin ciencia no hay programa’. Madrid
DESCRIPTION:La eurodiputada Lina Gálvez participará en este evento organizado por a Confederación de Sociedades Científicas de España (COSCE) y que se celebrará  en el Aulario de la Facultad de ciencia de la Información de la Universidad Complutense de Madrid.\nPara saber más :https://cosce.org/cosce-organiza-el-debate-pre-electoral-sin-ciencia-no-hay-programa/
URL:https://linagalvez.eu/agenda/cosce-debate-pre-electoral-sin-ciencia-no-hay-programa-madrid/
CATEGORIES:Actualidad,Destacado,ITRE,S&D
ATTACH;FMTTYPE=image/jpeg:https://linagalvez.eu/wp-content/uploads/2023/07/Finaldebate23-cab.jpg
END:VEVENT
BEGIN:VEVENT
DTSTART;TZID=Europe/Madrid:20230710T170000
DTEND;TZID=Europe/Madrid:20230713T183000
DTSTAMP:20260423T111931
CREATED:20210211T164450Z
LAST-MODIFIED:20230710T091208Z
UID:7407-1689008400-1689273000@linagalvez.eu
SUMMARY:Pleno del Parlamento Europeo en Estrasburgo
DESCRIPTION:Destacados del pleno. Estrasburgo \n\nLey de restauración de la naturaleza: debate y votación sobre si se rechaza o modifica la propuesta de la Comisión\nFit for 55: Debate y votación final sobre nuevas normas para reducir el consumo de energía en la UE\nApto para 55: más estaciones de carga para combustibles alternativos y combustibles marítimos más ecológicos: debate y votación final\nVotación final sobre la «Ley de chips» de la UE para fortalecer la autonomía estratégica y la seguridad de Europa\nProteger a periodistas y activistas de demandas abusivas: debate y votación sobre la posición del Parlamento\nDebate y votación sobre la necesidad de una actuación de la UE en materia de búsqueda y salvamento en el Mediterráneo\nDebate sobre el resultado de la cumbre de la UE de los días 29 y 20 de junio\, en particular los acontecimientos recientes en la guerra contra Ucrania y en Rusia\nProtección de las instituciones democráticas y la integridad del Parlamento: debate y votación del informe de la comisión especial\nDebate y votación del informe del comité especial sobre las lecciones aprendidas de la pandemia de COVID-19
URL:https://linagalvez.eu/agenda/pleno-del-parlamento-europeo-2-2-2-2-2-2-2-6-2-3-3-5-2/
CATEGORIES:Actualidad,Destacado,EMPL,ITRE,Parlamento,S&D
ATTACH;FMTTYPE=image/jpeg:https://linagalvez.eu/wp-content/uploads/2020/03/European_Parliament_Strasbourg_Hemicycle_-_Diliff-2-scaled.jpg
END:VEVENT
BEGIN:VEVENT
DTSTART;TZID=Europe/Madrid:20230710T190000
DTEND;TZID=Europe/Madrid:20230710T193000
DTSTAMP:20260423T111931
CREATED:20210611T142459Z
LAST-MODIFIED:20230710T093034Z
UID:7820-1689015600-1689017400@linagalvez.eu
SUMMARY:Reunión de la Comisión de Industria\, Investigación y Energía (ITRE)
DESCRIPTION:La eurodiputada Lina Gálvez participará en la reunión de la comisión de Industria y Energía con el el objetivo de coordinar los trabajos legislativos de la sesión plenaria de la semana. \n\n\n\n\nWeb de la Comisión de Industria\, Investigación y Energía
URL:https://linagalvez.eu/agenda/reunion-de-la-comision-de-industria-investigacion-y-energia-itre-19-2-2-2-2/
CATEGORIES:Actualidad,Destacado,ITRE,Parlamento,STOA
ATTACH;FMTTYPE=image/jpeg:https://linagalvez.eu/wp-content/uploads/2022/12/Comite_derechos-mujer.jpg
END:VEVENT
BEGIN:VEVENT
DTSTART;TZID=Europe/Madrid:20230711T163000
DTEND;TZID=Europe/Madrid:20230711T173000
DTSTAMP:20260423T111931
CREATED:20210412T083611Z
LAST-MODIFIED:20240212T104321Z
UID:8841-1689093000-1689096600@linagalvez.eu
SUMMARY:S&D Grupo de trabajo de Empleo y Asuntos Sociales
DESCRIPTION:Grupo de trabajo interno del  S&D de empleo  EMPL para coordinar las iniciativas relacionadas con los trabajos legislativos en curso.
URL:https://linagalvez.eu/agenda/sd-grupo-de-trabajo-de-empleo-y-asuntos-sociales-4-2-2-2-2-2-2-2-2-2-2-2-3-3-2-2-3-2-2-2-2-2-2-2-2-3-2-2-3-2-2-2/
CATEGORIES:Actualidad,EMPL,Parlamento,S&D
ATTACH;FMTTYPE=image/jpeg:https://linagalvez.eu/wp-content/uploads/2020/11/SD-WG-ITRE.jpg
END:VEVENT
BEGIN:VEVENT
DTSTART;TZID=Europe/Madrid:20230711T170000
DTEND;TZID=Europe/Madrid:20230711T174500
DTSTAMP:20260423T111931
CREATED:20210412T083611Z
LAST-MODIFIED:20230710T093855Z
UID:7826-1689094800-1689097500@linagalvez.eu
SUMMARY:S&D Grupo de trabajo de Empleo y Asuntos Sociales
DESCRIPTION:Grupo de trabajo interno del  S&D EMPL para coordinar las iniciativas relacionadas con los trabajos legislativos en curso.
URL:https://linagalvez.eu/agenda/sd-grupo-de-trabajo-de-empleo-y-asuntos-sociales-4-2-2-2-2-2-2-2-2-2-2-2-3-3-2-2-3-2-2-2-2-2-2-2-2-3-2-2-3-2-2/
CATEGORIES:Actualidad,EMPL,Parlamento,S&D
ATTACH;FMTTYPE=image/jpeg:https://linagalvez.eu/wp-content/uploads/2020/11/SD-WG-ITRE.jpg
END:VEVENT
BEGIN:VEVENT
DTSTART;TZID=Europe/Madrid:20230711T170000
DTEND;TZID=Europe/Madrid:20230711T174500
DTSTAMP:20260423T111931
CREATED:20210412T083611Z
LAST-MODIFIED:20240311T100812Z
UID:8960-1689094800-1689097500@linagalvez.eu
SUMMARY:S&D Grupo de trabajo de Empleo y Asuntos Sociales
DESCRIPTION:Grupo de trabajo interno del  S&D EMPL para coordinar las iniciativas relacionadas con los trabajos legislativos en curso.
URL:https://linagalvez.eu/agenda/sd-grupo-de-trabajo-de-empleo-y-asuntos-sociales-4-2-2-2-2-2-2-2-2-2-2-2-3-3-2-2-3-2-2-2-2-2-2-2-2-3-2-2-3-2-2-3/
CATEGORIES:Actualidad,EMPL,Parlamento,S&D
ATTACH;FMTTYPE=image/jpeg:https://linagalvez.eu/wp-content/uploads/2020/11/SD-WG-ITRE.jpg
END:VEVENT
BEGIN:VEVENT
DTSTART;TZID=Europe/Madrid:20230711T173000
DTEND;TZID=Europe/Madrid:20230711T223000
DTSTAMP:20260423T111931
CREATED:20220502T092018Z
LAST-MODIFIED:20230710T094337Z
UID:7425-1689096600-1689114600@linagalvez.eu
SUMMARY:Destacados del pleno. 11 de julio 2023
DESCRIPTION:Asuntos destacados del pleno del Parlamento Europeo que se celebra hoy en  Estrasburgo: \n\n9:00 – 10:00 Debate en el pleno de Estrasburgo sobre la Ley de Restauración Natural que se\nengloba dentro del Pacto Verde Europeo.\n10:00 – 11:00 Debate Ley Europea de Chips\nLa eurocámara debatirá la Ley Europea de Chips. LGM fue la ponente socialista del texto que\nmodifica el reglamento Empresa Común de Chips en enero de este año.\n13:00 – 14:00 Debate informe de la Comisión del Covid (COVI)
URL:https://linagalvez.eu/agenda/participacion-en-plenario-en-el-debate-conjunto-sobre-investigacion-e-innovacion-2-2-2-2-2-2-2-3-2-2-4-3-2-5/
CATEGORIES:Actualidad,Destacado,Parlamento,S&D
ATTACH;FMTTYPE=image/jpeg:https://linagalvez.eu/wp-content/uploads/2022/01/Captura_LGM.jpg
END:VEVENT
BEGIN:VEVENT
DTSTART;TZID=Europe/Madrid:20230712T090000
DTEND;TZID=Europe/Madrid:20230712T094500
DTSTAMP:20260423T111931
CREATED:20210412T084247Z
LAST-MODIFIED:20230710T093701Z
UID:7822-1689152400-1689155100@linagalvez.eu
SUMMARY:S&D FEMM Working Group
DESCRIPTION:Sesión interna de trabajo en el seno del S&D para coordinar y revisar las iniciativas que se tratarán en el Pleno y la Comisión FEMM.
URL:https://linagalvez.eu/agenda/sd-femm-working-group-6-3-2-3-2-2/
CATEGORIES:Destacado,FEMM,Parlamento,S&D
END:VEVENT
BEGIN:VEVENT
DTSTART;TZID=Europe/Madrid:20230712T094500
DTEND;TZID=Europe/Madrid:20230712T103000
DTSTAMP:20260423T111931
CREATED:20210927T094856Z
LAST-MODIFIED:20230710T093628Z
UID:7824-1689155100-1689157800@linagalvez.eu
SUMMARY:Grupo de trabajo S&D ITRE
DESCRIPTION:Reunión del grupo de trabajo S&D de la Comisión de Industria\, Investigación y Energía en la que se abordarán los asuntos legislativos en marcha.
URL:https://linagalvez.eu/agenda/encuentro-con-la-embajadora-espanola-en-malta-external-group-meeting-2-5-2-3-3-3-2-2-2-2-2-2-2-2-3/
CATEGORIES:ITRE,S&D
ATTACH;FMTTYPE=image/jpeg:https://linagalvez.eu/wp-content/uploads/2023/02/Lina-Galves-Foro.jpg
END:VEVENT
END:VCALENDAR