BEGIN:VCALENDAR
VERSION:2.0
PRODID:-//Lina Gálvez - ECPv6.15.20//NONSGML v1.0//EN
CALSCALE:GREGORIAN
METHOD:PUBLISH
X-ORIGINAL-URL:https://linagalvez.eu
X-WR-CALDESC:Eventos para Lina Gálvez
REFRESH-INTERVAL;VALUE=DURATION:PT1H
X-Robots-Tag:noindex
X-PUBLISHED-TTL:PT1H
BEGIN:VTIMEZONE
TZID:Europe/Madrid
BEGIN:DAYLIGHT
TZOFFSETFROM:+0100
TZOFFSETTO:+0200
TZNAME:CEST
DTSTART:20200329T010000
END:DAYLIGHT
BEGIN:STANDARD
TZOFFSETFROM:+0200
TZOFFSETTO:+0100
TZNAME:CET
DTSTART:20201025T010000
END:STANDARD
BEGIN:DAYLIGHT
TZOFFSETFROM:+0100
TZOFFSETTO:+0200
TZNAME:CEST
DTSTART:20210328T010000
END:DAYLIGHT
BEGIN:STANDARD
TZOFFSETFROM:+0200
TZOFFSETTO:+0100
TZNAME:CET
DTSTART:20211031T010000
END:STANDARD
BEGIN:DAYLIGHT
TZOFFSETFROM:+0100
TZOFFSETTO:+0200
TZNAME:CEST
DTSTART:20220327T010000
END:DAYLIGHT
BEGIN:STANDARD
TZOFFSETFROM:+0200
TZOFFSETTO:+0100
TZNAME:CET
DTSTART:20221030T010000
END:STANDARD
END:VTIMEZONE
BEGIN:VEVENT
DTSTART;TZID=Europe/Madrid:20210511T093000
DTEND;TZID=Europe/Madrid:20210511T110000
DTSTAMP:20260420T224921
CREATED:20210507T140846Z
LAST-MODIFIED:20210511T085050Z
UID:3622-1620725400-1620730800@linagalvez.eu
SUMMARY:Jornada ‘Avanzando en el emprendimiento verde de las mujeres’
DESCRIPTION:
URL:https://linagalvez.eu/agenda/jornada-avanzando-en-el-emprendimiento-verde-de-las-mujeres/
CATEGORIES:Actualidad,Destacado,FEMM,ITRE
ATTACH;FMTTYPE=image/jpeg:https://linagalvez.eu/wp-content/uploads/2021/04/20210426_EP-113880D_VDV_EVD_123-1-scaled.jpg
END:VEVENT
BEGIN:VEVENT
DTSTART;TZID=Europe/Madrid:20210511T113000
DTEND;TZID=Europe/Madrid:20210511T123000
DTSTAMP:20260420T224921
CREATED:20200921T070440Z
LAST-MODIFIED:20210511T094103Z
UID:3589-1620732600-1620736200@linagalvez.eu
SUMMARY:Committee on Women’s Rights and Gender Equality FEMM
DESCRIPTION:La sesión podrá ser seguida en el siguiente enlace AQUI
URL:https://linagalvez.eu/agenda/committee-on-womens-rights-and-gender-equality-femm-7-2-2/
CATEGORIES:FEMM,Parlamento
ATTACH;FMTTYPE=image/jpeg:https://linagalvez.eu/wp-content/uploads/2020/09/FEMM-mayo.jpg
END:VEVENT
BEGIN:VEVENT
DTSTART;TZID=Europe/Madrid:20210511T140000
DTEND;TZID=Europe/Madrid:20210511T163000
DTSTAMP:20260420T224921
CREATED:20210507T141420Z
LAST-MODIFIED:20210507T141420Z
UID:3624-1620741600-1620750600@linagalvez.eu
SUMMARY:STOA. Health and economic benefits of microbiomes (online event)
DESCRIPTION:El taller STOA está organizado en dos sesiones: la primera discutirá las implicaciones clínicas de los microbiomas\, mientras que la segunda analizará los aspectos económicos y regulatorios de los microbiomas. \nEn los últimos años\, una gran cantidad de conocimiento científico se ha abierto camino hacia el público en general\, lo que ha generado interés en los microbiomas humanos\, que se entienden principalmente como el universo de las bacterias intestinales que determinan nuestro estado de salud y bienestar\, así como nuestro sistema inmunológico y hormonal. sistemas. Los microbiomas son actores clave para muchos procesos naturales en la agricultura\, los sistemas de alimentación y bebida\, la degradación de desechos\, el reciclaje y la creación de nuevos materiales. Además de la producción de alimentos más saludables\, naturales y sostenibles\, las innovaciones que involucran microbiomas ya se pueden ver en la agricultura y la producción de cultivos\, por ejemplo\, en la protección de plantas a través de bioplaguicidas o en sistemas de degradación de desechos amigables con el clima que reutilizan y reciclan materiales y energía. \nMás Información
URL:https://linagalvez.eu/agenda/stoa-health-and-economic-benefits-of-microbiomes-online-event/
CATEGORIES:Actualidad,ITRE,Parlamento,STOA
ATTACH;FMTTYPE=image/jpeg:https://linagalvez.eu/wp-content/uploads/2021/05/STOAjpg.jpg
END:VEVENT
BEGIN:VEVENT
DTSTART;TZID=Europe/Madrid:20210511T181500
DTEND;TZID=Europe/Madrid:20210511T193000
DTSTAMP:20260420T224921
CREATED:20210208T092530Z
LAST-MODIFIED:20210507T141807Z
UID:3628-1620756900-1620761400@linagalvez.eu
SUMMARY:S&D Group Meeting
DESCRIPTION:Reunión del Grupo S&D preparatoria de la siguiente sesión plenaria.
URL:https://linagalvez.eu/agenda/sd-group-meeting-23-3-2-2/
CATEGORIES:Actualidad,ITRE,Parlamento,S&D
ATTACH;FMTTYPE=image/png:https://linagalvez.eu/wp-content/uploads/2020/01/1-S&D.svg.png
END:VEVENT
BEGIN:VEVENT
DTSTART;TZID=Europe/Madrid:20210512T090000
DTEND;TZID=Europe/Madrid:20210512T130000
DTSTAMP:20260420T224921
CREATED:20210208T092530Z
LAST-MODIFIED:20210507T142019Z
UID:3630-1620810000-1620824400@linagalvez.eu
SUMMARY:S&D Group Meeting
DESCRIPTION:Reunión del Grupo S&D preparatoria de la siguiente sesión plenaria.
URL:https://linagalvez.eu/agenda/sd-group-meeting-23-3-2-2-2/
CATEGORIES:Actualidad,ITRE,Parlamento,S&D
ATTACH;FMTTYPE=image/png:https://linagalvez.eu/wp-content/uploads/2020/01/1-S&D.svg.png
END:VEVENT
BEGIN:VEVENT
DTSTART;TZID=Europe/Madrid:20210512T130000
DTEND;TZID=Europe/Madrid:20210512T140000
DTSTAMP:20260420T224921
CREATED:20210503T075248Z
LAST-MODIFIED:20210506T070255Z
UID:3567-1620824400-1620828000@linagalvez.eu
SUMMARY:Reunión con Amazon
DESCRIPTION:Reunión con Amazon Europe para discutir la propuesta de Ley de Servicios Digitales\, del que la eurodiputada es ponente en la sombra en ITRE.
URL:https://linagalvez.eu/agenda/reunion-con-amazon/
CATEGORIES:Actualidad,ITRE,S&D
ATTACH;FMTTYPE=image/jpeg:https://linagalvez.eu/wp-content/uploads/2021/01/Amazon-lgm.jpg
END:VEVENT
BEGIN:VEVENT
DTSTART;TZID=Europe/Madrid:20210512T160000
DTEND;TZID=Europe/Madrid:20210512T170000
DTSTAMP:20260420T224921
CREATED:20200111T151627Z
LAST-MODIFIED:20250221T124940Z
UID:3635-1620835200-1620838800@linagalvez.eu
SUMMARY:Reunión de la Delegación USA
DESCRIPTION:
URL:https://linagalvez.eu/agenda/reunion-de-la-delegacion-usa-2/
CATEGORIES:Actualidad,D-US,Destacado
ATTACH;FMTTYPE=image/jpeg:https://linagalvez.eu/wp-content/uploads/banderas-eu-es-horiz_img_77743_pca-freepik.jpg
END:VEVENT
BEGIN:VEVENT
DTSTART;TZID=Europe/Madrid:20210512T180000
DTEND;TZID=Europe/Madrid:20210512T190000
DTSTAMP:20260420T224921
CREATED:20210507T142838Z
LAST-MODIFIED:20210511T134644Z
UID:3632-1620842400-1620846000@linagalvez.eu
SUMMARY:Coloquio Socialismo feminista en Andalucía 2030
DESCRIPTION:Participación de la eurodiputada Lina gálvez en el coloquio feminista  «Socialismo feminista en Andalucía 2030¨organizado por la Plataforma Feminismo Socialista. \nInscripciones AQUÍ \n\n\n\n\n\n\n\n\n\n \n\n\n\n\n\n\n\n\n\n\n\n\n\n\nSeguir\n\n\n\n\n\n\n\n\n\nPlataforma Feminismo Socialista
URL:https://linagalvez.eu/agenda/coloquio-socialismo-feminista-en-andalucia-2030/
CATEGORIES:Andalucía,Destacado,S&D
ATTACH;FMTTYPE=image/jpeg:https://linagalvez.eu/wp-content/uploads/2021/05/Feminismo-Socialista-2030jpg.jpg
END:VEVENT
BEGIN:VEVENT
DTSTART;VALUE=DATE:20210513
DTEND;VALUE=DATE:20210515
DTSTAMP:20260420T224921
CREATED:20210503T092558Z
LAST-MODIFIED:20210503T095342Z
UID:3592-1620864000-1621036799@linagalvez.eu
SUMMARY:Sin actividad parlamentaria. Festivo en Bélgica
DESCRIPTION:
URL:https://linagalvez.eu/agenda/sin-actividad-parlamentaria-festivo-en-belgica-2/
CATEGORIES:Actualidad,Parlamento
ATTACH;FMTTYPE=image/jpeg:https://linagalvez.eu/wp-content/uploads/2021/02/Semana-verde.jpg
END:VEVENT
BEGIN:VEVENT
DTSTART;TZID=Europe/Madrid:20210513T163000
DTEND;TZID=Europe/Madrid:20210513T203000
DTSTAMP:20260420T224921
CREATED:20210507T135920Z
LAST-MODIFIED:20210507T140347Z
UID:3619-1620923400-1620937800@linagalvez.eu
SUMMARY:Artificial Intelligence: Intensive Online Policy Lab
DESCRIPTION:El laboratorio organizado por la Escuela de Gobernanza Transnacional de la EUI y el Instituto de Inteligencia Artificial de la Universidad de Stanford con el objetivo de formar a responsables políticos de ambos lados del Atlántico con nuevas habilidades y conocimientos sobre inteligencia artificial.
URL:https://linagalvez.eu/agenda/artificial-intelligence-intensive-online-policy-lab-2/
CATEGORIES:Actualidad,ITRE,Parlamento,STOA
ATTACH;FMTTYPE=image/jpeg:https://linagalvez.eu/wp-content/uploads/2021/05/Artificial-Intelligence-Intensive-Policy-Lab.jpg
END:VEVENT
BEGIN:VEVENT
DTSTART;TZID=Europe/Madrid:20210514T163000
DTEND;TZID=Europe/Madrid:20210514T203000
DTSTAMP:20260420T224921
CREATED:20210506T135920Z
LAST-MODIFIED:20210512T162216Z
UID:3618-1621009800-1621024200@linagalvez.eu
SUMMARY:Artificial Intelligence: Intensive Online Policy Lab
DESCRIPTION:El laboratorio organizado por la Escuela de Gobernanza Transnacional de la EUI y el Instituto de Inteligencia Artificial de la Universidad de Stanford con el objetivo de formar a responsables políticos de ambos lados del Atlántico con nuevas habilidades y conocimientos sobre inteligencia artificial.
URL:https://linagalvez.eu/agenda/artificial-intelligence-intensive-online-policy-lab-3/
CATEGORIES:Actualidad,Destacado,ITRE,Parlamento,STOA
ATTACH;FMTTYPE=image/jpeg:https://linagalvez.eu/wp-content/uploads/2021/05/Artificial-Intelligence-Intensive-Policy-Lab.jpg
END:VEVENT
BEGIN:VEVENT
DTSTART;TZID=Europe/Madrid:20210517T143000
DTEND;TZID=Europe/Madrid:20210517T153000
DTSTAMP:20260420T224921
CREATED:20210301T093020Z
LAST-MODIFIED:20210517T072347Z
UID:3648-1621261800-1621265400@linagalvez.eu
SUMMARY:Reunión la coalición legislativa Tracking-free Ads
DESCRIPTION:Reunión de coordinación Tracking-Free Ads Coalition\, una plataforma legislativa que trabaja por una publicidad digital sin seguimiento\, poniendo fin a la industria de la publicidad de seguimiento generalizada que domina Internet en la actualidad. \nNuestro objetivo es lograr cambios a través de la legislación de la UE y acciones concretas en apoyo y para complementar los marcos legales existentes como el GDPR. \nLa publicidad en línea basada en el seguimiento permite a la industria publicitaria manipular el debate público a través de mensajes micro-dirigidos que siguen a las personas a través de Internet. La mayor parte de este ecosistema alimentado por datos está controlado por firmas de big data que absorben los ingresos publicitarios que deberían utilizarse para financiar la creación de contenido\, como editores\, periodismo de calidad y otras industrias creativas. \nMás información AQUÍ
URL:https://linagalvez.eu/agenda/reunion-sobre-la-coalicion-tracking-free-ads-2/
CATEGORIES:Destacado,ITRE,S&D,STOA
ATTACH;FMTTYPE=image/jpeg:https://linagalvez.eu/wp-content/uploads/2021/03/Tracking-Free-Ads.jpg
END:VEVENT
BEGIN:VEVENT
DTSTART;TZID=Europe/Madrid:20210517T173000
DTEND;TZID=Europe/Madrid:20210520T190000
DTSTAMP:20260420T224921
CREATED:20210211T164450Z
LAST-MODIFIED:20210517T090501Z
UID:3083-1621272600-1621537200@linagalvez.eu
SUMMARY:Pleno del Parlamento Europeo
DESCRIPTION:
URL:https://linagalvez.eu/agenda/pleno-del-parlamento-europeo-2-2-2-2-2/
CATEGORIES:Actualidad,Destacado,Parlamento
ATTACH;FMTTYPE=image/jpeg:https://linagalvez.eu/wp-content/uploads/2020/03/European_Parliament_Strasbourg_Hemicycle_-_Diliff-2-scaled.jpg
END:VEVENT
BEGIN:VEVENT
DTSTART;TZID=Europe/Madrid:20210518T090000
DTEND;TZID=Europe/Madrid:20210518T100000
DTSTAMP:20260420T224921
CREATED:20210412T084247Z
LAST-MODIFIED:20210512T165546Z
UID:3656-1621328400-1621332000@linagalvez.eu
SUMMARY:S&D FEMM Working Group
DESCRIPTION:Habrá un debate y cambio de impresiones sobre dos informes que lidera la eurodiputada Lina Gálvez como relator\, por un lado\, el informe de iniciativa sobre la Pobreza de las Mujeres en Europa\, y\, por otro\, la Opinión sobre Salarios Mínimos.
URL:https://linagalvez.eu/agenda/sd-femm-working-group-5-2-3/
CATEGORIES:FEMM,S&D
END:VEVENT
BEGIN:VEVENT
DTSTART;TZID=Europe/Madrid:20210518T093000
DTEND;TZID=Europe/Madrid:20210518T110000
DTSTAMP:20260420T224921
CREATED:20210208T092530Z
LAST-MODIFIED:20210512T170036Z
UID:3658-1621330200-1621335600@linagalvez.eu
SUMMARY:Grupo de trabajo horizontal S&D sobre el DSA / DMA
DESCRIPTION:Grupo de trabajo horizontal para debatir la DSA (Ley de Servicios Digitales) y la DMA (Ley de Mercados Digitales)
URL:https://linagalvez.eu/agenda/sd-group-meeting-23-3-2-2-3-2/
CATEGORIES:Actualidad,Parlamento,S&D
ATTACH;FMTTYPE=image/png:https://linagalvez.eu/wp-content/uploads/2020/01/1-S&D.svg.png
END:VEVENT
BEGIN:VEVENT
DTSTART;TZID=Europe/Madrid:20210518T100000
DTEND;TZID=Europe/Madrid:20210518T110000
DTSTAMP:20260420T224921
CREATED:20210423T144018Z
LAST-MODIFIED:20210518T075659Z
UID:3660-1621332000-1621335600@linagalvez.eu
SUMMARY:Participación en plenario en el debate sobre la estrategia industrial europea
DESCRIPTION:La Europiputada Lina Gálvéz paraticipara en el plenario dentro del debate sobre la Estratégia Industrial Europea. \nSe podrá seguir el debate en este enlace.
URL:https://linagalvez.eu/agenda/participacion-en-plenario-en-el-debate-conjunto-sobre-investigacion-e-innovacion-2-2/
CATEGORIES:Destacado,ITRE,STOA
ATTACH;FMTTYPE=image/jpeg:https://linagalvez.eu/wp-content/uploads/2021/04/20210426_EP-113880D_VDV_EVD_123-1-scaled.jpg
END:VEVENT
BEGIN:VEVENT
DTSTART;TZID=Europe/Madrid:20210518T160000
DTEND;TZID=Europe/Madrid:20210518T170000
DTSTAMP:20260420T224921
CREATED:20210208T092530Z
LAST-MODIFIED:20210512T165008Z
UID:3651-1621353600-1621357200@linagalvez.eu
SUMMARY:S&D Group Meeting
DESCRIPTION:Reunión del Grupo S&D preparatoria de la siguiente sesión plenaria.
URL:https://linagalvez.eu/agenda/sd-group-meeting-23-3-2-2-3/
CATEGORIES:Actualidad,Parlamento,S&D
ATTACH;FMTTYPE=image/png:https://linagalvez.eu/wp-content/uploads/2020/01/1-S&D.svg.png
END:VEVENT
BEGIN:VEVENT
DTSTART;TZID=Europe/Madrid:20210518T180000
DTEND;TZID=Europe/Madrid:20210518T210000
DTSTAMP:20260420T224921
CREATED:20210208T092530Z
LAST-MODIFIED:20210512T170902Z
UID:3652-1621360800-1621371600@linagalvez.eu
SUMMARY:S&D Group Meeting
DESCRIPTION:Reunión del Grupo S&D preparatoria de la siguiente sesión plenaria.
URL:https://linagalvez.eu/agenda/sd-group-meeting-23-3-2-2-4/
CATEGORIES:Actualidad,Parlamento,S&D
ATTACH;FMTTYPE=image/png:https://linagalvez.eu/wp-content/uploads/2020/01/1-S&D.svg.png
END:VEVENT
BEGIN:VEVENT
DTSTART;TZID=Europe/Madrid:20210518T181500
DTEND;TZID=Europe/Madrid:20210518T210000
DTSTAMP:20260420T224921
CREATED:20210208T092530Z
LAST-MODIFIED:20210512T171659Z
UID:3664-1621361700-1621371600@linagalvez.eu
SUMMARY:S&D Group Meeting
DESCRIPTION:Reunión del Grupo S&D preparatoria de la siguiente sesión plenaria.
URL:https://linagalvez.eu/agenda/sd-group-meeting-23-3-2-2-4-2/
CATEGORIES:Actualidad,Parlamento,S&D
ATTACH;FMTTYPE=image/png:https://linagalvez.eu/wp-content/uploads/2020/01/1-S&D.svg.png
END:VEVENT
BEGIN:VEVENT
DTSTART;TZID=Europe/Madrid:20210519T200000
DTEND;TZID=Europe/Madrid:20210519T210000
DTSTAMP:20260420T224921
CREATED:20210423T144018Z
LAST-MODIFIED:20210517T073913Z
UID:3670-1621454400-1621458000@linagalvez.eu
SUMMARY:Intervención. Debate en pleno sobre el Centro Europeo de Competencia en Ciberseguridad
DESCRIPTION:La Europiputada Lina Gálvéz paraticipara en el plenario dentro del debate sobre el Centro Europeo de Competencia en Ciberseguridad \nSe podrá seguir el debate en este enlace.
URL:https://linagalvez.eu/agenda/participacion-en-plenario-en-el-debate-conjunto-sobre-investigacion-e-innovacion-2-2-2/
CATEGORIES:Destacado,ITRE,STOA
ATTACH;FMTTYPE=image/jpeg:https://linagalvez.eu/wp-content/uploads/2021/04/LGM_intervencion_290421.jpg
END:VEVENT
BEGIN:VEVENT
DTSTART;TZID=Europe/Madrid:20210521T090000
DTEND;TZID=Europe/Madrid:20210521T110000
DTSTAMP:20260420T224921
CREATED:20210222T111219Z
LAST-MODIFIED:20210520T103030Z
UID:3672-1621587600-1621594800@linagalvez.eu
SUMMARY:Reunión del Intergrupo Urban
DESCRIPTION:Reunión sobre la dimensión local de las políticas regionales para el periodo 2021-2027. \nhttp://urban-intergroup.eu/about-us/
URL:https://linagalvez.eu/agenda/reunion-del-intergrupo-urban-2-3/
CATEGORIES:Actualidad,Destacado,Parlamento,S&D
ATTACH;FMTTYPE=image/png:https://linagalvez.eu/wp-content/uploads/2021/02/Urban-Intergrupo-logo.png
END:VEVENT
BEGIN:VEVENT
DTSTART;VALUE=DATE:20210524
DTEND;VALUE=DATE:20210525
DTSTAMP:20260420T224921
CREATED:20210503T092558Z
LAST-MODIFIED:20210503T093457Z
UID:3584-1621814400-1621900799@linagalvez.eu
SUMMARY:Sin actividad parlamentaria. Festivo en Bélgica
DESCRIPTION:
URL:https://linagalvez.eu/agenda/sin-actividad-parlamentaria-festivo-en-belgica/
CATEGORIES:Actualidad,Parlamento
ATTACH;FMTTYPE=image/jpeg:https://linagalvez.eu/wp-content/uploads/2021/02/Semana-verde.jpg
END:VEVENT
BEGIN:VEVENT
DTSTART;TZID=Europe/Madrid:20210525T090000
DTEND;TZID=Europe/Madrid:20210525T120000
DTSTAMP:20260420T224921
CREATED:20210525T064413Z
LAST-MODIFIED:20210525T080114Z
UID:3698-1621933200-1621944000@linagalvez.eu
SUMMARY:Comité Especial sobre Inteligencia Artificial
DESCRIPTION:Reunión conjunta de los Grupos de Trabajo de EMPL y AIDA para debatir sobre la incidencia de la Inteligencia Artificial y el Mercado Laboral. \nhttps://www.europarl.europa.eu/committees/en/aida-empl-public-hearing-on-ai-and-the-l/product-details/20210510CAN60889
URL:https://linagalvez.eu/agenda/comite-especial-sobe-inteligencia-artificial/
CATEGORIES:Destacado,EMPL,Parlamento
ATTACH;FMTTYPE=image/jpeg:https://linagalvez.eu/wp-content/uploads/2021/05/AIDA-EMPLl.jpg
END:VEVENT
BEGIN:VEVENT
DTSTART;TZID=Europe/Madrid:20210525T090500
DTEND;TZID=Europe/Madrid:20210525T100500
DTSTAMP:20260420T224921
CREATED:20210525T064413Z
LAST-MODIFIED:20210525T072218Z
UID:3706-1621933500-1621937100@linagalvez.eu
SUMMARY:“Tres años después del #Metoo\, ¿qué hay que hacer? Reformas para evitar el acoso sexual en las instituciones de la UE
DESCRIPTION:El Departamento de Políticas C\, a petición del Comité FEMM\, organizará un Taller titulado: “Tres años después del #Metoo\, ¿qué hay que hacer? Un llamamiento para hacer reformas que evitar el acoso sexual en las instituciones de la UE ”. \n\n\nEl acoso sexual es una forma de violencia contra mujeres y niñas y una discriminación basada en el sexo. El movimiento #MeToo impulsó a las instituciones a adaptar sus normas y procedimientos internos para identificar\, contrarrestar y sancionar mejor el acoso. \nAhora\, tres años después del inicio de #MeToo\, es hora de explorar qué más se necesita hacer para prevenir y combatir el acoso sexual en las instituciones. Oradores con experiencia práctica de diferentes instituciones de la UE debatirán sobre las reformas que podrían introducirse para evitar el acoso sexual en las instituciones. \nPonentes: Ellen Robson (Directora\, PE)\, Angela Marcos Figueruelo (Encargada de investigaciones\, Defensora del Pueblo de la UE)\, Dominique Enjolras (Jefa de Unidad\, Comisión) y Kristian Knudsen (Directora General\, PE).
URL:https://linagalvez.eu/agenda/comite-especial-sobe-inteligencia-artificial-2-2/
CATEGORIES:Destacado,FEMM,Parlamento
ATTACH;FMTTYPE=image/jpeg:https://linagalvez.eu/wp-content/uploads/2021/05/METOO.jpg
END:VEVENT
BEGIN:VEVENT
DTSTART;TZID=Europe/Madrid:20210525T103000
DTEND;TZID=Europe/Madrid:20210525T120000
DTSTAMP:20260420T224921
CREATED:20210525T064413Z
LAST-MODIFIED:20210525T065159Z
UID:3702-1621938600-1621944000@linagalvez.eu
SUMMARY:Comité conjunto de las Comisiones FEMM y LIBE
DESCRIPTION:Reunión conjunta de las Comisiones FEMM y LIBE considerarán un proyecto de informe legislativo de propia iniciativa que pide a la Comisión que presente una Directiva sobre la lucha contra la ciberviolencia de género. \n\n\nEl proyecto de texto identifica los «delitos informáticos» como base jurídica de la Directiva de conformidad con el artículo 83\, apartado 1\, del TFUE). Se centra en la lucha contra la ciberviolencia como expresión de la violencia de género con especial atención a la violencia contra las mujeres y aborda aspectos como las medidas encaminadas a la prevención del delito\, a la mejora de la seguridad en línea y a afrontar eficazmente este fenómeno. \nMás Info
URL:https://linagalvez.eu/agenda/comite-especial-sobe-inteligencia-artificial-2/
CATEGORIES:Destacado,FEMM,Parlamento
ATTACH;FMTTYPE=image/jpeg:https://linagalvez.eu/wp-content/uploads/2021/05/Ciberacoso.jpg
END:VEVENT
BEGIN:VEVENT
DTSTART;TZID=Europe/Madrid:20210525T130000
DTEND;TZID=Europe/Madrid:20210525T140000
DTSTAMP:20260420T224921
CREATED:20210412T083611Z
LAST-MODIFIED:20210525T072352Z
UID:3545-1621947600-1621951200@linagalvez.eu
SUMMARY:S&D Grupo de trabajo de Empleo y Asuntos Sociales
DESCRIPTION:Grupo de trabajo S&D EMPL en el que se tratarán los temas que se debatirán en la Comisión EMPL siguiente.
URL:https://linagalvez.eu/agenda/sd-grupo-de-trabajo-de-empleo-y-asuntos-sociales-4-2-2-2/
CATEGORIES:Actualidad,EMPL,Parlamento
ATTACH;FMTTYPE=image/jpeg:https://linagalvez.eu/wp-content/uploads/2020/11/SD-WG-ITRE.jpg
END:VEVENT
BEGIN:VEVENT
DTSTART;TZID=Europe/Madrid:20210525T134500
DTEND;TZID=Europe/Madrid:20210525T161500
DTSTAMP:20260420T224921
CREATED:20210525T064413Z
LAST-MODIFIED:20210525T134821Z
UID:3710-1621950300-1621959300@linagalvez.eu
SUMMARY:Incorporación de la violencia de género como nuevo 'eurocrimen' FEMM y LIBE
DESCRIPTION:Las Comisiones FEMM y LIBE considerarán el proyecto de informe con recomendaciones a la Comisión sobre la identificación de la violencia de género como una nueva área de delincuencia enumerada en el artículo 83 (1) del TFUE. Esta iniciativa legislativa solicita a la Comisión que proponga una decisión del Consejo para considerar la violencia de género como un ámbito delictivo que cumple los criterios establecidos en el artículo 83\, apartado 1\, del TFUE. \n\n\nDurante esta reunión\, las comisiones LIBE y FEMM también mantendrán un intercambio de puntos de vista con varias personas expertas en el campo de la violencia de género y el Derecho de la UE. El evento se incorporará a la iniciativa legislativa antes mencionada.
URL:https://linagalvez.eu/agenda/comite-especial-sobe-inteligencia-artificial-2-3/
CATEGORIES:Destacado,FEMM,Parlamento
ATTACH;FMTTYPE=image/jpeg:https://linagalvez.eu/wp-content/uploads/2021/05/VG-EuroCrimen-.jpg
END:VEVENT
BEGIN:VEVENT
DTSTART;TZID=Europe/Madrid:20210525T140000
DTEND;TZID=Europe/Madrid:20210525T161500
DTSTAMP:20260420T224921
CREATED:20210525T064413Z
LAST-MODIFIED:20210525T074629Z
UID:3712-1621951200-1621959300@linagalvez.eu
SUMMARY:Comité conjunto FEMM y LIBE. Décimo aniversario del Convenio de Estambul
DESCRIPTION:Las Comisiones FEMM y LIBE mantendrán un intercambio de puntos de vista titulado ‘El Convenio de Estambul: décimo aniversario\, incluido el impacto de la retirada de Turquía’. El intercambio de puntos de vista de FEMM-LIBE examinará los logros y desafíos diez años después\, incluida la reciente decisión de Turquía de retirarse del Convenio de Estambul.
URL:https://linagalvez.eu/agenda/comite-especial-sobe-inteligencia-artificial-2-3-2/
CATEGORIES:FEMM,Parlamento
ATTACH;FMTTYPE=image/jpeg:https://linagalvez.eu/wp-content/uploads/2021/05/10Estambul.jpg
END:VEVENT
BEGIN:VEVENT
DTSTART;TZID=Europe/Madrid:20210525T143000
DTEND;TZID=Europe/Madrid:20210525T163000
DTSTAMP:20260420T224921
CREATED:20210525T075557Z
LAST-MODIFIED:20210525T133952Z
UID:3715-1621953000-1621960200@linagalvez.eu
SUMMARY:Seminario online S&D: Amazon ataca los derechos y libertades fundamentales de los trabajadores
DESCRIPTION:Seminario online S&D: Amazon ataca los derechos y libertades fundamentales de los trabajadores \nSe puede seguir a través de https://socialistsanddemocrats.eu/events/sd-online-webinar-amazon-attacks-fundamental-workers-rights-and-freedoms
URL:https://linagalvez.eu/agenda/seminario-online-sd-amazon-ataca-los-derechos-y-libertades-fundamentales-de-los-trabajadores/
CATEGORIES:Actualidad,Destacado,EMPL,S&D
ATTACH;FMTTYPE=image/jpeg:https://linagalvez.eu/wp-content/uploads/2021/05/SDAmazom.jpg
END:VEVENT
BEGIN:VEVENT
DTSTART;TZID=Europe/Madrid:20210525T174500
DTEND;TZID=Europe/Madrid:20210525T190000
DTSTAMP:20260420T224921
CREATED:20210412T084247Z
LAST-MODIFIED:20210525T091338Z
UID:3732-1621964700-1621969200@linagalvez.eu
SUMMARY:S&D FEMM Working Group
DESCRIPTION:Sesion monografica sobre la Situacion Socioeconomica de las Mujeres
URL:https://linagalvez.eu/agenda/sd-femm-working-group-5-2-3-2/
CATEGORIES:FEMM,S&D
END:VEVENT
END:VCALENDAR