BEGIN:VCALENDAR
VERSION:2.0
PRODID:-//Lina Gálvez - ECPv6.15.20//NONSGML v1.0//EN
CALSCALE:GREGORIAN
METHOD:PUBLISH
X-ORIGINAL-URL:https://linagalvez.eu
X-WR-CALDESC:Eventos para Lina Gálvez
REFRESH-INTERVAL;VALUE=DURATION:PT1H
X-Robots-Tag:noindex
X-PUBLISHED-TTL:PT1H
BEGIN:VTIMEZONE
TZID:Europe/Madrid
BEGIN:DAYLIGHT
TZOFFSETFROM:+0100
TZOFFSETTO:+0200
TZNAME:CEST
DTSTART:20200329T010000
END:DAYLIGHT
BEGIN:STANDARD
TZOFFSETFROM:+0200
TZOFFSETTO:+0100
TZNAME:CET
DTSTART:20201025T010000
END:STANDARD
BEGIN:DAYLIGHT
TZOFFSETFROM:+0100
TZOFFSETTO:+0200
TZNAME:CEST
DTSTART:20210328T010000
END:DAYLIGHT
BEGIN:STANDARD
TZOFFSETFROM:+0200
TZOFFSETTO:+0100
TZNAME:CET
DTSTART:20211031T010000
END:STANDARD
BEGIN:DAYLIGHT
TZOFFSETFROM:+0100
TZOFFSETTO:+0200
TZNAME:CEST
DTSTART:20220327T010000
END:DAYLIGHT
BEGIN:STANDARD
TZOFFSETFROM:+0200
TZOFFSETTO:+0100
TZNAME:CET
DTSTART:20221030T010000
END:STANDARD
END:VTIMEZONE
BEGIN:VEVENT
DTSTART;TZID=Europe/Madrid:20210628T090000
DTEND;TZID=Europe/Madrid:20210628T100000
DTSTAMP:20260421T023445
CREATED:20210412T083611Z
LAST-MODIFIED:20210625T140547Z
UID:3935-1624870800-1624874400@linagalvez.eu
SUMMARY:S&D Grupo de trabajo de Empleo y Asuntos Sociales
DESCRIPTION:Grupo de trabajo S&D EMPL en el que se tratarán los temas que se debatirán en la Comisión EMPL siguiente.
URL:https://linagalvez.eu/agenda/sd-grupo-de-trabajo-de-empleo-y-asuntos-sociales-4-2-2-2-2/
CATEGORIES:Actualidad,EMPL,Parlamento
ATTACH;FMTTYPE=image/jpeg:https://linagalvez.eu/wp-content/uploads/2020/11/SD-WG-ITRE.jpg
END:VEVENT
BEGIN:VEVENT
DTSTART;TZID=Europe/Madrid:20210628T144500
DTEND;TZID=Europe/Madrid:20210628T164500
DTSTAMP:20260421T023445
CREATED:20210525T064413Z
LAST-MODIFIED:20210625T140518Z
UID:3944-1624891500-1624898700@linagalvez.eu
SUMMARY:Comités conjuntos de BUDG\, CONT y FEMM Integración de la perspectiva de género en el presupuesto de la UE: situación en la UE
DESCRIPTION:El 28 de junio\, los miembros de los Comités BUDG\, CONT y FEMM celebrarán una reunión conjunta para debatir el Informe especial del Tribunal de Cuentas Europeo sobre Presupuestos con perspectiva de género\, junto con el Comisario de Presupuesto y Administración Hahn\, el Director General Koopman y un representante de la Unión Europea. Instituto para la Igualdad de Género. \n\n\nLa Sra. Lindström del Tribunal de Cuentas Europeo presentará el informe «Integración de la perspectiva de género en el presupuesto de la UE: es hora de convertir las palabras en acciones». \nDurante las negociaciones sobre el presupuesto a largo plazo de la UE\, el Parlamento Europeo\, la Comisión Europea y el Consejo acordaron en el Acuerdo Interinstitucional (AII) de 16 de diciembre de 2020:\n– Desarrollar una metodología de presupuestación con perspectiva de género para medir el gasto relevante a nivel de programa.\n– A más tardar el 1 de enero de 2023\, la Comisión aplicará esa metodología para determinados programas gestionados de forma centralizada. \nLa reunión tendrá lugar a las 14: 45-16: 45.
URL:https://linagalvez.eu/agenda/comite-especial-sobe-inteligencia-artificial-2-4-2/
CATEGORIES:Destacado,FEMM,Parlamento
ATTACH;FMTTYPE=image/jpeg:https://linagalvez.eu/wp-content/uploads/2021/05/Integracion-de-la-perspectiva-de-genero-en-el-presupuesto-de-la-UE.jpg
END:VEVENT
BEGIN:VEVENT
DTSTART;TZID=Europe/Madrid:20210628T164500
DTEND;TZID=Europe/Madrid:20210628T184500
DTSTAMP:20260421T023445
CREATED:20201207T083309Z
LAST-MODIFIED:20210625T141148Z
UID:3943-1624898700-1624905900@linagalvez.eu
SUMMARY:Comisión conjunta de Asuntos Económicos y Monetarios y de Empleo y Asuntos
DESCRIPTION:El lunes 28 de junio de 2021\, las Comisiones de Asuntos Económicos y Monetarios y de Empleo y Asuntos Sociales celebrarán el Diálogo Económico sobre el Paquete de Primavera del Semestre Europeo 2021 con Valdis Dombrovskis\, Vicepresidente Ejecutivo de Una Economía que Funciona para las Personas\, Paolo Gentiloni Comisario de Economía y Nicolas Schmit\, comisario de Empleo y Derechos Sociales. \n\nEste diálogo económico forma parte de la responsabilidad del marco de gobernanza económica de la UE. El Semestre de este año se ha adaptado y vinculado a la nueva Facilidad de Recuperación y Resiliencia. El paquete de primavera se centra en proporcionar orientación fiscal a medio plazo a los Estados miembros a medida que reabren gradualmente sus economías.
URL:https://linagalvez.eu/agenda/comision-conjunta-econ-empl-2/
CATEGORIES:Actualidad,EMPL,Parlamento
ATTACH;FMTTYPE=image/jpeg:https://linagalvez.eu/wp-content/uploads/2020/12/Semestre-europeo-.jpg
END:VEVENT
BEGIN:VEVENT
DTSTART;TZID=Europe/Madrid:20210629T090000
DTEND;TZID=Europe/Madrid:20210629T100000
DTSTAMP:20260421T023445
CREATED:20210301T093020Z
LAST-MODIFIED:20210625T141614Z
UID:3949-1624957200-1624960800@linagalvez.eu
SUMMARY:Reunión sobre la coalición Tracking-free Ads
DESCRIPTION:
URL:https://linagalvez.eu/agenda/reunion-sobre-la-coalicion-tracking-free-ads-3/
CATEGORIES:ITRE,S&D,STOA
END:VEVENT
BEGIN:VEVENT
DTSTART;TZID=Europe/Madrid:20210629T090000
DTEND;TZID=Europe/Madrid:20210629T133000
DTSTAMP:20260421T023445
CREATED:20200201T111739Z
LAST-MODIFIED:20210625T142350Z
UID:3955-1624957200-1624973400@linagalvez.eu
SUMMARY:S&D Group Meeting
DESCRIPTION:
URL:https://linagalvez.eu/agenda/sd-group-meeting-21-2/
CATEGORIES:Actualidad,Parlamento,S&D
ATTACH;FMTTYPE=image/png:https://linagalvez.eu/wp-content/uploads/2020/01/1-S&D.svg.png
END:VEVENT
BEGIN:VEVENT
DTSTART;TZID=Europe/Madrid:20210629T100000
DTEND;TZID=Europe/Madrid:20210629T110000
DTSTAMP:20260421T023445
CREATED:20210412T080804Z
LAST-MODIFIED:20210625T141254Z
UID:3936-1624960800-1624964400@linagalvez.eu
SUMMARY:S&D ITRE Working Group meeting
DESCRIPTION:Grupo de trabajo S&D ITRE en el que se tratarán los temas que se debatirán en el siguiente Pleno.
URL:https://linagalvez.eu/agenda/sd-itre-working-group-meeting-2-4-2-3/
CATEGORIES:Actualidad,ITRE,S&D
ATTACH;FMTTYPE=image/png:https://linagalvez.eu/wp-content/uploads/2020/01/1-S&D.svg.png
END:VEVENT
BEGIN:VEVENT
DTSTART;TZID=Europe/Madrid:20210629T111500
DTEND;TZID=Europe/Madrid:20210629T121500
DTSTAMP:20260421T023445
CREATED:20210628T075502Z
LAST-MODIFIED:20211007T091935Z
UID:3967-1624965300-1624968900@linagalvez.eu
SUMMARY:VI Encuentro EUFEM  Plataforma Universitaria de Estudios Feministas y de Género. UPO
DESCRIPTION:La eurodiputada Lina Gálvez participará en la Universidad Pablo de Olavide en el VI Encuentro EUFEM\, Plataforma Universitaria de Estudios Feministas y de Género. Su intervención tendrá lugar en el marco de la mesa de debate que lleva por título;Los Estudios de Género en la carrera académica e investigadora en España y la UE\, avances y retos. \nMás Información AQUÍ
URL:https://linagalvez.eu/agenda/vi-encuentro-eufem-plataforma-universitaria-de-estudios-feministas-y-de-genero-upo/
CATEGORIES:Actualidad,Andalucía,Destacado,FEMM,ITRE,S&D
ATTACH;FMTTYPE=image/jpeg:https://linagalvez.eu/wp-content/uploads/2021/03/G1A3592-scaled.jpg
END:VEVENT
BEGIN:VEVENT
DTSTART;TZID=Europe/Madrid:20210629T123000
DTEND;TZID=Europe/Madrid:20210629T143000
DTSTAMP:20260421T023445
CREATED:20210301T093643Z
LAST-MODIFIED:20250210T090242Z
UID:3941-1624969800-1624977000@linagalvez.eu
SUMMARY:S&D Reunión de la Delegación Socialista Española
DESCRIPTION:Reunión interna de trabajo y de coordinación.
URL:https://linagalvez.eu/agenda/sd-reunion-de-la-delegacion-socialista-espanola-11-2-2-2-2-2/
CATEGORIES:Parlamento,S&D
ATTACH;FMTTYPE=image/png:https://linagalvez.eu/wp-content/uploads/2020/07/Delegacion-española.png
END:VEVENT
BEGIN:VEVENT
DTSTART;TZID=Europe/Madrid:20210629T141500
DTEND;TZID=Europe/Madrid:20210629T144500
DTSTAMP:20260421T023445
CREATED:20210301T094153Z
LAST-MODIFIED:20210625T141851Z
UID:3952-1624976100-1624977900@linagalvez.eu
SUMMARY:Grupo de Trabajo de Europa Digital
DESCRIPTION:Reunión del grupo de trabajo digital del Grupo de Socialistas y Demócratas Se debatirán expedientes legislativos en el ámbito digital\, prioridad para el Grupo S&D.
URL:https://linagalvez.eu/agenda/grupo-de-trabajo-de-europa-digital-3-2/
CATEGORIES:ITRE,Parlamento,S&D,STOA
ATTACH;FMTTYPE=image/png:https://linagalvez.eu/wp-content/uploads/2020/05/digital-europe.png
END:VEVENT
BEGIN:VEVENT
DTSTART;TZID=Europe/Madrid:20210629T181500
DTEND;TZID=Europe/Madrid:20210629T191500
DTSTAMP:20260421T023445
CREATED:20200201T111739Z
LAST-MODIFIED:20210625T142213Z
UID:3940-1624990500-1624994100@linagalvez.eu
SUMMARY:S&D Group Meeting
DESCRIPTION:
URL:https://linagalvez.eu/agenda/sd-group-meeting-21-2-2/
CATEGORIES:Actualidad,Parlamento,S&D
ATTACH;FMTTYPE=image/png:https://linagalvez.eu/wp-content/uploads/2020/01/1-S&D.svg.png
END:VEVENT
BEGIN:VEVENT
DTSTART;TZID=Europe/Madrid:20210630T150000
DTEND;TZID=Europe/Madrid:20210630T163000
DTSTAMP:20260421T023445
CREATED:20210419T093724Z
LAST-MODIFIED:20210625T144715Z
UID:3962-1625065200-1625070600@linagalvez.eu
SUMMARY:Evento New European Bauhaus
DESCRIPTION:
URL:https://linagalvez.eu/agenda/reunion-del-grupo-parlamentario-de-amistad-sobre-el-new-european-bauhaus-3/
CATEGORIES:Actualidad,Parlamento,S&D
ATTACH;FMTTYPE=image/jpeg:https://linagalvez.eu/wp-content/uploads/2021/04/E4uRwW8WQAUYpeL-scaled.jpg
END:VEVENT
BEGIN:VEVENT
DTSTART;TZID=Europe/Madrid:20210701T090000
DTEND;TZID=Europe/Madrid:20210701T100000
DTSTAMP:20260421T023445
CREATED:20200921T070440Z
LAST-MODIFIED:20210630T071929Z
UID:3938-1625130000-1625133600@linagalvez.eu
SUMMARY:Committee on Women’s Rights and Gender Equality FEMM
DESCRIPTION:El jueves 1 de julio\, la Comisión FEMM considerará el proyecto de dictamen sobre la propuesta de reglamento sobre un “Mercado Único de Servicios Digitales (Ley de Servicios Digitales o“ DSA ”) y que modifica la Directiva 2000/31 / CE”. \n\n\nLa ponente considera que la propuesta no tiene en cuenta algunas vulnerabilidades particulares de las mujeres. Las grandes plataformas en línea no solo deberían estar obligadas a divulgar sus algoritmos a los usuarios\, sino también a minimizar periódicamente sus efectos negativos en los usuarios\, incluidos aquellos con problemas de salud preexistentes como depresión o adicciones. Los Estados miembros también deberían reforzar la supervisión teniendo en cuenta su contexto sociocultural y sus respectivas leyes nacionales. Finalmente\, la Relatora plantea preocupaciones sobre la libertad de expresión y propone ligeros cambios para preservarla y regular el espacio digital.
URL:https://linagalvez.eu/agenda/committee-on-womens-rights-and-gender-equality-femm-7-2-2-3-2/
CATEGORIES:Destacado,FEMM,Parlamento
ATTACH;FMTTYPE=image/jpeg:https://linagalvez.eu/wp-content/uploads/2021/04/EMPL_220421.jpg
END:VEVENT
BEGIN:VEVENT
DTSTART;TZID=Europe/Madrid:20210701T110000
DTEND;TZID=Europe/Madrid:20210701T120000
DTSTAMP:20260421T023445
CREATED:20210611T142459Z
LAST-MODIFIED:20210701T070433Z
UID:3937-1625137200-1625140800@linagalvez.eu
SUMMARY:Reunión de la Comisión de Industria\, Investigación y Energía (ITRE)
DESCRIPTION:
URL:https://linagalvez.eu/agenda/reunion-de-la-comision-de-industria-investigacion-y-energia-itre-17-2-2/
CATEGORIES:ITRE
ATTACH;FMTTYPE=image/jpeg:https://linagalvez.eu/wp-content/uploads/2021/05/DiadeEuropa_LinaGalvezMunoz.jpg
END:VEVENT
BEGIN:VEVENT
DTSTART;TZID=Europe/Madrid:20210701T134500
DTEND;TZID=Europe/Madrid:20210701T154500
DTSTAMP:20260421T023445
CREATED:20210312T175910Z
LAST-MODIFIED:20210701T073258Z
UID:3939-1625147100-1625154300@linagalvez.eu
SUMMARY:Comisión de Empleo y Asuntos Sociales
DESCRIPTION:Debates previstos \n\nDemocracy at work: A European framework for employees’ participation rights and the revision of the European Works Council Directive  (INI) – Consideration of draft report – Rapporteur: Gabriele BISCHOFF(S&D\, DE)\nEmployment and social policies of the euro area 2021 (INI) – Consideration of draft report – Rapporteur: Lina GALVEZ MUÑOZ (S&D\, ES)
URL:https://linagalvez.eu/agenda/comision-de-empleo-y-asuntos-sociales-2-2-2/
CATEGORIES:Actualidad,Destacado,EMPL,Parlamento
ATTACH;FMTTYPE=image/jpeg:https://linagalvez.eu/wp-content/uploads/2021/01/eldiario_linagalvez.jpeg
END:VEVENT
BEGIN:VEVENT
DTSTART;TZID=Europe/Madrid:20210702T120000
DTEND;TZID=Europe/Madrid:20210702T130000
DTSTAMP:20260421T023445
CREATED:20210329T101130Z
LAST-MODIFIED:20210625T143508Z
UID:3959-1625227200-1625230800@linagalvez.eu
SUMMARY:Workshop STOA sobre Transición energética y la estrategia de hidrógeno de la UE
DESCRIPTION:Las Estrategias Europeas para la Integración de Sistemas Energéticos y para el Hidrógeno han estado bajo la luz de la luz del debate durante los últimos meses y el Plenario del Parlamento adoptó un informe relacionado en mayo. Además\, la Comisión Europea propone ahora un paquete legislativo «apto para 55» (previsto para el 14 de julio) para revisar fundamentalmente la arquitectura de la política climática de la UE y encaminarla hacia el logro de su objetivo de reducción de emisiones netas del 55% para 2030. \nEl debate adicional esperado puede incluso conducir a una decisión fundamental del Consejo Europeo sobre las características clave de un marco de política climática de la UE que cumpla con los objetivos climáticos de la UE. La CE ha establecido una nueva visión para un sistema de energía digitalizado\, integrado y circular\, impulsado por la electrificación\, impulsado por energías renovables y confiando primero en la eficiencia energética y en la reducción del desperdicio de energía. \nEste taller de STOA servirá para discutir el dictamen científico ‘Un enfoque sistémico para la transición energética en Europa’ publicado recientemente por los Chief Scientific Advisors de la Comisión Europea (CSA)\, Scientific Advice Mechanism (SAM)\, asistidos por el Consortium of European Science Academias (SAPEA). También proporcionará una primera idea del paquete legislativo «Adecuado para 55» en preparación de su inminente presentación por parte de las CE. STOA continúa trabajando en el tema a través de la elaboración (junto con KIT e ISI) del estudio ‘El potencial del hidrógeno para descarbonizar la industria de la UE’ que se publicará en septiembre.
URL:https://linagalvez.eu/agenda/stoa-workshop-online-governing-online-platforms-policy-options-for-shaping-a-principled-digital-future-2/
CATEGORIES:Actualidad,Destacado,ITRE,Parlamento
ATTACH;FMTTYPE=image/jpeg:https://linagalvez.eu/wp-content/uploads/2021/03/20210622PHT06707-ml.jpeg
END:VEVENT
BEGIN:VEVENT
DTSTART;TZID=Europe/Madrid:20210705T080000
DTEND;TZID=Europe/Madrid:20210711T170000
DTSTAMP:20260421T023445
CREATED:20210211T164450Z
LAST-MODIFIED:20210702T100019Z
UID:3087-1625472000-1626022800@linagalvez.eu
SUMMARY:Pleno del Parlamento Europeo en Estrasburgo
DESCRIPTION:Destacados del pleno. Estrasburgo\, 5-11 de julio 2021 \n\nDerechos de los ciudadanos LGBTIQ en Hungría. El plenario discutirá las posibles violaciones de la legislación de la UE y de los derechos de la ciudadanía LGBTIQ en Hungría\, y se preguntará qué medidas están previstas para proteger los derechos de los niñxs y de las personas LGBTIQ. También interrogarán al Consejo y a la Comisión sobre las dos audiencias celebradas por el Consejo sobre el Estado de Derecho en Hungría y Polonia el 22 de junio. (debates el miércoles\, resolución sobre Hungría votada el jueves)\nDebate con Janez Janša. El martes por la mañana\, lxs eurodiputadxs debatirán con el primer ministro Janez Janša las prioridades de la Presidencia eslovena del Consejo para el segundo semestre de 2021. Se espera que Eslovenia se centre en la aplicación oportuna del paquete de estímulo de la UE de próxima generación\, en facilitar la adopción de planes nacionales de recuperación\, en la Conferencia sobre el Futuro de Europa y en la promoción del Estado de Derecho.\nCumbre de la UE. Lxs eurodiputadxs evaluarán los resultados del Consejo Europeo de los días 24 y 25 de junio\, en un debate que tendrá lugar el miércoles por la mañana con el Presidente del Consejo Europeo\, Charles Michel\, y la Presidenta de la Comisión\, Ursula von der Leyen.\nPrevención de la explotación sexual de los niños y niñas en Internet. Lxs eurodiputadxs debatirán y votarán un reglamento temporal que permite a los proveedores de servicios de correo electrónico\, chats y mensajería en Internet detectar\, eliminar y denunciar voluntariamente los abusos sexuales a menores en línea\, así como utilizar tecnologías de escaneo para detectar la ciberprostitución. (debate el lunes\, votación y resultado el martes).\nAgencia Europea de Medicamentos. El Parlamento debatirá y adoptará su posición para las conversaciones con el Consejo sobre un papel más fuerte para la Agencia Europea de Medicamentos y la ampliación de su mandato para prepararse para las crisis y gestionar los medicamentos y productos sanitarios\, tras las lecciones aprendidas de la pandemia de COVID-19. (debateMiércoles\, votación y resultado Jueves)\nEstado de derecho. Lxs eurodiputadxs comentarán las directrices que está elaborando la Comisión sobre cómo aplicar el Mecanismo de Condicionalidad del Estado de Derecho de la UE\, diseñado para proteger los fondos de la UE contra el mal uso por parte de los gobiernos de la UE. (debate el martes\, votación el miércoles\, resultado el jueves).\nProyectos de infraestructuras que conectan las regiones de la UE. El Parlamento se dispone a aprobar el programa mejorado del Mecanismo «Conectar Europa»\, dotado con 30.000 millones de euros entre 2021 y 2027\, que financiará proyectos de transporte\, energía y digitales y garantizará que los proyectos transeuropeos esenciales estén terminados en el plazo previsto para 2030. (debate y votación el martes\, resultado el miércoles)
URL:https://linagalvez.eu/agenda/pleno-del-parlamento-europeo-2-2-2-2-2-2-2/
CATEGORIES:Actualidad,Destacado,Parlamento
ATTACH;FMTTYPE=image/jpeg:https://linagalvez.eu/wp-content/uploads/2020/03/European_Parliament_Strasbourg_Hemicycle_-_Diliff-2-scaled.jpg
END:VEVENT
BEGIN:VEVENT
DTSTART;TZID=Europe/Madrid:20210705T160000
DTEND;TZID=Europe/Madrid:20210705T180000
DTSTAMP:20260421T023445
CREATED:20200201T111739Z
LAST-MODIFIED:20210702T113831Z
UID:3992-1625500800-1625508000@linagalvez.eu
SUMMARY:S&D Group Meeting
DESCRIPTION:
URL:https://linagalvez.eu/agenda/sd-group-meeting-21-2-2-2/
CATEGORIES:Actualidad,Parlamento,S&D
ATTACH;FMTTYPE=image/png:https://linagalvez.eu/wp-content/uploads/2020/01/1-S&D.svg.png
END:VEVENT
BEGIN:VEVENT
DTSTART;TZID=Europe/Madrid:20210706T090000
DTEND;TZID=Europe/Madrid:20210706T100000
DTSTAMP:20260421T023445
CREATED:20210412T084247Z
LAST-MODIFIED:20210702T114150Z
UID:3994-1625562000-1625565600@linagalvez.eu
SUMMARY:S&D FEMM Working Group
DESCRIPTION:Reunión del  del Grupo de Trabajo de Igualdad (FEMM) del S&D donde para debatir las propuestas que se discutirán en el próximo plenario.
URL:https://linagalvez.eu/agenda/sd-femm-working-group-5-2-3-2-2-3/
CATEGORIES:FEMM,S&D
END:VEVENT
BEGIN:VEVENT
DTSTART;TZID=Europe/Madrid:20210706T100000
DTEND;TZID=Europe/Madrid:20210706T113000
DTSTAMP:20260421T023445
CREATED:20210412T080804Z
LAST-MODIFIED:20210705T081146Z
UID:3995-1625565600-1625571000@linagalvez.eu
SUMMARY:S&D ITRE Working Group meeting
DESCRIPTION:Grupo de trabajo S&D ITRE en el que se tratarán los temas que se debatirán en el siguiente Pleno.
URL:https://linagalvez.eu/agenda/sd-itre-working-group-meeting-2-4-2-3-2/
CATEGORIES:Actualidad,Destacado,ITRE,S&D
ATTACH;FMTTYPE=image/png:https://linagalvez.eu/wp-content/uploads/2020/01/1-S&D.svg.png
END:VEVENT
BEGIN:VEVENT
DTSTART;TZID=Europe/Madrid:20210706T110000
DTEND;TZID=Europe/Madrid:20210706T120000
DTSTAMP:20260421T023445
CREATED:20210701T133517Z
LAST-MODIFIED:20210701T133517Z
UID:3979-1625569200-1625572800@linagalvez.eu
SUMMARY:Webinar "El futuro de la socialdemocracia"
DESCRIPTION:
URL:https://linagalvez.eu/agenda/webinar-el-futuro-de-la-socialdemocracia/
CATEGORIES:Destacado,S&D
ATTACH;FMTTYPE=image/jpeg:https://linagalvez.eu/wp-content/uploads/2021/07/FuturoSocaildemocracia.jpg
END:VEVENT
BEGIN:VEVENT
DTSTART;TZID=Europe/Madrid:20210706T180000
DTEND;TZID=Europe/Madrid:20210706T203000
DTSTAMP:20260421T023445
CREATED:20200201T111739Z
LAST-MODIFIED:20210702T113925Z
UID:3998-1625594400-1625603400@linagalvez.eu
SUMMARY:S&D Group Meeting
DESCRIPTION:
URL:https://linagalvez.eu/agenda/sd-group-meeting-21-2-2-3/
CATEGORIES:Actualidad,Parlamento,S&D
ATTACH;FMTTYPE=image/png:https://linagalvez.eu/wp-content/uploads/2020/01/1-S&D.svg.png
END:VEVENT
BEGIN:VEVENT
DTSTART;TZID=Europe/Madrid:20210707T181500
DTEND;TZID=Europe/Madrid:20210707T203500
DTSTAMP:20260421T023445
CREATED:20200201T111739Z
LAST-MODIFIED:20210702T114030Z
UID:4001-1625681700-1625690100@linagalvez.eu
SUMMARY:S&D Group Meeting
DESCRIPTION:
URL:https://linagalvez.eu/agenda/sd-group-meeting-21-2-2-3-2/
CATEGORIES:Actualidad,Parlamento,S&D
ATTACH;FMTTYPE=image/png:https://linagalvez.eu/wp-content/uploads/2020/01/1-S&D.svg.png
END:VEVENT
BEGIN:VEVENT
DTSTART;TZID=Europe/Madrid:20210707T183000
DTEND;TZID=Europe/Madrid:20210707T190000
DTSTAMP:20260421T023445
CREATED:20210423T144018Z
LAST-MODIFIED:20210707T171727Z
UID:4007-1625682600-1625684400@linagalvez.eu
SUMMARY:Participación en plenario en el debate sobre el "A new ERA for Research and Innovation"
DESCRIPTION:La Europiputada Lina Gálvéz participara en el plenario dentro del debate sobre el nuevo Espacio Europeo de Investigación e Innovación (A new ERA for Research and Innovation). \nSe podrá seguir el debate en este enlace.
URL:https://linagalvez.eu/agenda/participacion-en-plenario-en-el-debate-conjunto-sobre-investigacion-e-innovacion-2-2-3/
CATEGORIES:Destacado,ITRE,STOA
ATTACH;FMTTYPE=image/jpeg:https://linagalvez.eu/wp-content/uploads/2021/05/Estrategia-Industrial.jpg
END:VEVENT
BEGIN:VEVENT
DTSTART;TZID=Europe/Madrid:20210707T190000
DTEND;TZID=Europe/Madrid:20210707T193000
DTSTAMP:20260421T023445
CREATED:20210611T094412Z
LAST-MODIFIED:20210707T175718Z
UID:4014-1625684400-1625686200@linagalvez.eu
SUMMARY:Acto en Madrid. Ponencia 40 Congreso PSOE
DESCRIPTION:Lina Gálvez participará en un acto en Granada en el marco de la ‘Ponencia 40 Congreso’ del PSOE «Igualdad como horizonte. Feminismo como camino»\nPodrá seguirse en el siguiente enlace.\nhttps://youtu.be/Emk9TDATA8o
URL:https://linagalvez.eu/agenda/acto-en-barcelona-sobre-inclusion-social-y-politicas-de-bienestar-ponencia-40-congreso-del-psoe-3-2/
CATEGORIES:Actualidad,Destacado,S&D
ATTACH;FMTTYPE=image/jpeg:https://linagalvez.eu/wp-content/uploads/2021/06/PSOE-Municipalismo.jpg
END:VEVENT
BEGIN:VEVENT
DTSTART;TZID=Europe/Madrid:20210707T223000
DTEND;TZID=Europe/Madrid:20210707T230000
DTSTAMP:20260421T023445
CREATED:20210305T132009Z
LAST-MODIFIED:20210707T122746Z
UID:4010-1625697000-1625698800@linagalvez.eu
SUMMARY:Intervención en el plenario. Debate sobre revisión de la política macroeconómica.
DESCRIPTION:Intervención en el Plenario de la eurodiputada Lina Gálvez el debate sobre revisión del marco legislativo macroeconómico para un mayor impacto en la economía real europea y una mayor transparencia en la toma de decisiones y la rendición de cuentas democráticas.
URL:https://linagalvez.eu/agenda/intervencion-en-el-plenario-european-semester-2/
CATEGORIES:Actualidad,Destacado,EMPL,Parlamento,S&D
ATTACH;FMTTYPE=image/jpeg:https://linagalvez.eu/wp-content/uploads/2021/01/eldiario_linagalvez.jpeg
END:VEVENT
BEGIN:VEVENT
DTSTART;TZID=Europe/Madrid:20210709T093000
DTEND;TZID=Europe/Madrid:20210709T120000
DTSTAMP:20260421T023445
CREATED:20200122T145648Z
LAST-MODIFIED:20210702T113427Z
UID:3993-1625823000-1625832000@linagalvez.eu
SUMMARY:Reunión de coordinación Oficina Parlamentaria LGM
DESCRIPTION:
URL:https://linagalvez.eu/agenda/reunion-de-coordinacion-oficina-parlamentaria-lgm-5-2-2-2-2-3/
CATEGORIES:Actualidad,Parlamento
ATTACH;FMTTYPE=image/jpeg:https://linagalvez.eu/wp-content/uploads/2020/07/Calendario.jpg
END:VEVENT
BEGIN:VEVENT
DTSTART;TZID=Europe/Madrid:20210712T100000
DTEND;TZID=Europe/Madrid:20210712T110000
DTSTAMP:20260421T023445
CREATED:20210701T080221Z
LAST-MODIFIED:20210712T092838Z
UID:4042-1626084000-1626087600@linagalvez.eu
SUMMARY:Trade Union Intergroup
DESCRIPTION:Reunión del  Intergrupo Sindicatos. Se debatirá entorno a las propuestas del la Conferencia sobre el futuro de Europa.
URL:https://linagalvez.eu/agenda/reunion-intergrupo-sindicatos-2/
CATEGORIES:EMPL,Parlamento,S&D
ATTACH;FMTTYPE=image/jpeg:https://linagalvez.eu/wp-content/uploads/2021/02/ETUC-febreo-2020.jpg
END:VEVENT
BEGIN:VEVENT
DTSTART;TZID=Europe/Madrid:20210712T134500
DTEND;TZID=Europe/Madrid:20210712T154500
DTSTAMP:20260421T023445
CREATED:20200921T070440Z
LAST-MODIFIED:20210709T101720Z
UID:4032-1626097500-1626104700@linagalvez.eu
SUMMARY:Committee on Women’s Rights and Gender Equality FEMM
DESCRIPTION:Results from the Generation Equality Forum – exchange of views with the European Commission (TBC)
URL:https://linagalvez.eu/agenda/committee-on-womens-rights-and-gender-equality-femm-7-2-2-3-2-2/
CATEGORIES:Destacado,FEMM,Parlamento
ATTACH;FMTTYPE=image/jpeg:https://linagalvez.eu/wp-content/uploads/2021/04/EMPL_220421.jpg
END:VEVENT
BEGIN:VEVENT
DTSTART;TZID=Europe/Madrid:20210713T091500
DTEND;TZID=Europe/Madrid:20210713T093000
DTSTAMP:20260421T023445
CREATED:20210412T080804Z
LAST-MODIFIED:20210712T093722Z
UID:4044-1626167700-1626168600@linagalvez.eu
SUMMARY:S&D ITRE Working Group meeting
DESCRIPTION:Grupo de trabajo S&D ITRE en el que se tratarán los temas de actualidad ITRE.
URL:https://linagalvez.eu/agenda/sd-itre-working-group-meeting-2-4-2-3-2-2/
CATEGORIES:Actualidad,ITRE,S&D
ATTACH;FMTTYPE=image/png:https://linagalvez.eu/wp-content/uploads/2020/01/1-S&D.svg.png
END:VEVENT
BEGIN:VEVENT
DTSTART;TZID=Europe/Madrid:20210713T100000
DTEND;TZID=Europe/Madrid:20210713T110000
DTSTAMP:20260421T023445
CREATED:20210412T084247Z
LAST-MODIFIED:20210712T094359Z
UID:4046-1626170400-1626174000@linagalvez.eu
SUMMARY:Comisión conjunta de las Comisiones ITRE y CONT (Control presupuestario)
DESCRIPTION:Presentación del Informe Especial del Tribunal de Cuentas 07/2021 sobre los programas espaciales de la UE Galileo y Copernicus.
URL:https://linagalvez.eu/agenda/sd-femm-working-group-5-2-3-2-2-2-2-2/
CATEGORIES:Destacado,ITRE,Parlamento
ATTACH;FMTTYPE=image/jpeg:https://linagalvez.eu/wp-content/uploads/2021/06/ITRE_170621.jpg
END:VEVENT
END:VCALENDAR