BEGIN:VCALENDAR
VERSION:2.0
PRODID:-//Lina Gálvez - ECPv6.15.20//NONSGML v1.0//EN
CALSCALE:GREGORIAN
METHOD:PUBLISH
X-ORIGINAL-URL:https://linagalvez.eu
X-WR-CALDESC:Eventos para Lina Gálvez
REFRESH-INTERVAL;VALUE=DURATION:PT1H
X-Robots-Tag:noindex
X-PUBLISHED-TTL:PT1H
BEGIN:VTIMEZONE
TZID:Europe/Madrid
BEGIN:DAYLIGHT
TZOFFSETFROM:+0100
TZOFFSETTO:+0200
TZNAME:CEST
DTSTART:20200329T010000
END:DAYLIGHT
BEGIN:STANDARD
TZOFFSETFROM:+0200
TZOFFSETTO:+0100
TZNAME:CET
DTSTART:20201025T010000
END:STANDARD
BEGIN:DAYLIGHT
TZOFFSETFROM:+0100
TZOFFSETTO:+0200
TZNAME:CEST
DTSTART:20210328T010000
END:DAYLIGHT
BEGIN:STANDARD
TZOFFSETFROM:+0200
TZOFFSETTO:+0100
TZNAME:CET
DTSTART:20211031T010000
END:STANDARD
BEGIN:DAYLIGHT
TZOFFSETFROM:+0100
TZOFFSETTO:+0200
TZNAME:CEST
DTSTART:20220327T010000
END:DAYLIGHT
BEGIN:STANDARD
TZOFFSETFROM:+0200
TZOFFSETTO:+0100
TZNAME:CET
DTSTART:20221030T010000
END:STANDARD
END:VTIMEZONE
BEGIN:VEVENT
DTSTART;TZID=Europe/Madrid:20211129T113000
DTEND;TZID=Europe/Madrid:20211129T130000
DTSTAMP:20260424T003106
CREATED:20211129T111646Z
LAST-MODIFIED:20211129T112409Z
UID:4748-1638185400-1638190800@linagalvez.eu
SUMMARY:Despedida a Almudena Grandes
DESCRIPTION:La eurodiputada Lina Gálvez Asiste al funeral de Almudena Grandes\, en el Cementerio Civil de Madrid. \n«Admiración\, amor y mucho vacío…no me sale mucho más que saber que te echaremos de menos\, te echaré de menos» han sido las palabras de Gálvez para intentar describir el vacío que deja Almudena Grandes entre sus amig@s.
URL:https://linagalvez.eu/agenda/despedida-a-almudena-grandes/
CATEGORIES:Actualidad,Destacado
ATTACH;FMTTYPE=image/jpeg:https://linagalvez.eu/wp-content/uploads/2021/11/Almudena-Grandes.jpg
END:VEVENT
BEGIN:VEVENT
DTSTART;TZID=Europe/Madrid:20211129T124500
DTEND;TZID=Europe/Madrid:20211129T133000
DTSTAMP:20260424T003106
CREATED:20211129T074259Z
LAST-MODIFIED:20211129T074259Z
UID:4722-1638189900-1638192600@linagalvez.eu
SUMMARY:Participación\, acto sobre la Agenda 2030 en el Semestre Europeo.
DESCRIPTION:La eurodiputada LGM presentará la ponencia principal en el Panel;La Agenda 2030 y la integración de los ODS en el Semestre Europeo\, donde participará en un debate con el resto de ponentes. \nEste debate esta organizado por SDG Watch Europe. \nMás información Aquí
URL:https://linagalvez.eu/agenda/participacion-acto-sobre-la-agenda-2030-en-el-semestre-europeo/
CATEGORIES:Actualidad,Destacado,EMPL,Parlamento
ATTACH;FMTTYPE=image/jpeg:https://linagalvez.eu/wp-content/uploads/2021/10/Lina-Galvez-Munoz_Igualdad-Europea.jpg
END:VEVENT
BEGIN:VEVENT
DTSTART;TZID=Europe/Madrid:20211129T133000
DTEND;TZID=Europe/Madrid:20211129T154500
DTSTAMP:20260424T003106
CREATED:20211129T073442Z
LAST-MODIFIED:20211129T075058Z
UID:4719-1638192600-1638200700@linagalvez.eu
SUMMARY:Comisión de Derechos de la Mujer e Igualdad de Género.Integración de la perspectiva de género en el PE. Debates
DESCRIPTION:La Comisión de Derechos de la Mujer e Igualdad de Género examinará las enmiendas al proyecto de informe sobre «Integración de la perspectiva de género en el Parlamento Europeo – Informe anual 2020»\, el 29 de noviembre. \nPodrá seguirse online AQUÏ
URL:https://linagalvez.eu/agenda/comision-de-derechos-de-la-mujer-e-igualdad-de-genero-integracion-de-la-perspectiva-de-genero-en-el-pe-debates/
CATEGORIES:Actualidad,Destacado,FEMM,Parlamento
ATTACH;FMTTYPE=image/jpeg:https://linagalvez.eu/wp-content/uploads/2021/03/Red-T-PEjpg.jpg
END:VEVENT
BEGIN:VEVENT
DTSTART;TZID=Europe/Madrid:20211129T164500
DTEND;TZID=Europe/Madrid:20211129T174500
DTSTAMP:20260424T003106
CREATED:20200921T070440Z
LAST-MODIFIED:20211129T075502Z
UID:4718-1638204300-1638207900@linagalvez.eu
SUMMARY:Committee on Women’s Rights and Gender Equality FEMM
DESCRIPTION:Reunión de la Red de Integración de la Perspectiva de Género del Parlamento Europeo donde se hablará\, entre otras cosas\, sobre los efectos de la digitalización y la inteligencia artificial en la igualdad de género\, con un enfoque en los efectos de la COVID-19. \nMás información
URL:https://linagalvez.eu/agenda/committee-on-womens-rights-and-gender-equality-femm-7-2-2-3-2-4-3-2-2-4/
CATEGORIES:Destacado,FEMM,Parlamento
ATTACH;FMTTYPE=image/jpeg:https://linagalvez.eu/wp-content/uploads/2021/04/EMPL_220421.jpg
END:VEVENT
BEGIN:VEVENT
DTSTART;TZID=Europe/Madrid:20211130T090000
DTEND;TZID=Europe/Madrid:20211130T174500
DTSTAMP:20260424T003106
CREATED:20200921T070440Z
LAST-MODIFIED:20211129T075841Z
UID:4728-1638262800-1638294300@linagalvez.eu
SUMMARY:Committee on Women’s Rights and Gender Equality FEMM
DESCRIPTION:La Comisión FEMM está organizando una reunión de la comisión interparlamentaria sobre “Eliminación de la violencia contra la mujer” el 30 de noviembre de 2021 de 09:00 a 18:45. \n\n\nDesde hace varios años\, el Parlamento Europeo celebra el Día Internacional para la Eliminación de la Violencia contra la Mujer\, el 25 de noviembre\, con un evento especial que reúne a miembros del PE y miembros de los Parlamentos nacionales de toda la Unión Europea\, con el fin de plantear conciencia de este importante tema. \nLa reunión de este año sobre «Eliminación de la violencia contra la mujer» constará de cuatro sesiones que explorarán el estado actual de la política y la práctica en áreas específicas de violencia de género. El primer panel se organizará en conjunto con el Subcomité de Derechos Humanos y abordará la violencia sexual como arma de guerra. El segundo panel se ocupará de prevenir y combatir la violencia contra las mujeres y niñas con discapacidad. Los paneles tercero y cuarto se organizarán conjuntamente con la Comisión de Libertades Civiles\, Justicia y Asuntos de Interior y tratarán la ciberviolencia y el Convenio de Estambul\, respectivamente.
URL:https://linagalvez.eu/agenda/committee-on-womens-rights-and-gender-equality-femm-7-2-2-3-2-4-3-2-2-4-2/
CATEGORIES:FEMM,Parlamento
ATTACH;FMTTYPE=image/jpeg:https://linagalvez.eu/wp-content/uploads/2020/09/Inter-parliamentary-committee-meeting.jpg
END:VEVENT
BEGIN:VEVENT
DTSTART;TZID=Europe/Madrid:20211130T100000
DTEND;TZID=Europe/Madrid:20211130T120000
DTSTAMP:20260424T003106
CREATED:20210611T142459Z
LAST-MODIFIED:20211129T083845Z
UID:4717-1638266400-1638273600@linagalvez.eu
SUMMARY:Reunión de la Comisión de Industria\, Investigación y Energía (ITRE)
DESCRIPTION:Votación. \n\nA European strategy for offshore renewable energy (INI) – Adoption of draft report .
URL:https://linagalvez.eu/agenda/reunion-de-la-comision-de-industria-investigacion-y-energia-itre-17-2-2-2-2-2-2-3-2-2/
CATEGORIES:ITRE
ATTACH;FMTTYPE=image/jpeg:https://linagalvez.eu/wp-content/uploads/2021/06/Itre-votacion.jpg
END:VEVENT
BEGIN:VEVENT
DTSTART;TZID=Europe/Madrid:20211130T103000
DTEND;TZID=Europe/Madrid:20211130T130000
DTSTAMP:20260424T003106
CREATED:20211129T082344Z
LAST-MODIFIED:20231115T120757Z
UID:4731-1638268200-1638277200@linagalvez.eu
SUMMARY:Meeting "Misión Andalucía\, Horizonte Europa" Bruselas
DESCRIPTION:Reunión con las y los vicerrectores andaluces de investigación y con l@s directores de las Oficinas de Transferencia de los Resultados de Investigación (OTRI) en Bruselas. \nLa Oficina de la eurodiputada Lina Gálvez\, vicepresidenta de ITRE del Grupo S&D ha organizado una visita de los y las vicerrectoras de investigación y lxs Directores de las Oficinas de Transferencia de los Resultados de Investigación (OTRI) de las universidades públicas andaluzas a Bruselas con el objetivo de profundizar en el conocimiento y los recursos que nuevo Programa Marco de Investigación e Innovación europeo\, en aras de una mayor financiación de las Universidades andaluzas.
URL:https://linagalvez.eu/agenda/meeting-mision-andalucia-horizonte-europa-bruselas/
CATEGORIES:Andalucía,Andalucía eje central,Destacado,ITRE,Universidad
ATTACH;FMTTYPE=image/png:https://linagalvez.eu/wp-content/uploads/2021/06/Horizon-Europe.png
END:VEVENT
BEGIN:VEVENT
DTSTART;TZID=Europe/Madrid:20211130T133000
DTEND;TZID=Europe/Madrid:20211130T143000
DTSTAMP:20260424T003106
CREATED:20211129T082344Z
LAST-MODIFIED:20211129T083451Z
UID:4733-1638279000-1638282600@linagalvez.eu
SUMMARY:Misión Andalucía\, Horizonte Europa" .Reunión con Jean-Eric Paquet\, Director General de Investigación e Innovación de la Comisión Europea. "
DESCRIPTION:El Director General General de Investigación e Innovación de la Comisión Europea mantendrá un encuentro de trabajo con las personas que participan en el Encuentro «Misión Andalucía\, Horizonte Europa»  representantes de las universidades andaluzas; vicerrectores/as andaluces de investigación y directores de las Oficinas de Transferencia de los Resultados de Investigación (OTRI)  con el objetivo de profundizar en el conocimiento y los recursos que nuevo Programa Marco de Investigación e Innovación europeo. Este encuentro ha sido propuesto por la Oficina de eurodiputada Lina Gálvez.
URL:https://linagalvez.eu/agenda/meeting-mision-andalucia-horizonte-europa-bruselas-2/
CATEGORIES:Andalucía,ITRE,Universidad
ATTACH;FMTTYPE=image/png:https://linagalvez.eu/wp-content/uploads/2021/06/Horizon-Europe.png
END:VEVENT
BEGIN:VEVENT
DTSTART;TZID=Europe/Madrid:20211130T170000
DTEND;TZID=Europe/Madrid:20211130T180000
DTSTAMP:20260424T003106
CREATED:20210611T142459Z
LAST-MODIFIED:20211129T091215Z
UID:4736-1638291600-1638295200@linagalvez.eu
SUMMARY:Reunión de la Comisión de Industria\, Investigación y Energía (ITRE)
DESCRIPTION:Intercambio de opiniones con Mr. Josef Aschbacher\, Director General de la Agencia Espacial Europea.
URL:https://linagalvez.eu/agenda/reunion-de-la-comision-de-industria-investigacion-y-energia-itre-17-2-2-2-2-2-2-3-2-2-2/
CATEGORIES:ITRE
ATTACH;FMTTYPE=image/jpeg:https://linagalvez.eu/wp-content/uploads/2021/06/ITRE_170621.jpg
END:VEVENT
BEGIN:VEVENT
DTSTART;TZID=Europe/Madrid:20211201T100000
DTEND;TZID=Europe/Madrid:20211201T100000
DTSTAMP:20260424T003106
CREATED:20211129T084739Z
LAST-MODIFIED:20211129T085958Z
UID:4738-1638352800-1638352800@linagalvez.eu
SUMMARY:Visita de las representantes de la Summer School for Female Leadership in the Digital Age de Huawei.
DESCRIPTION:
URL:https://linagalvez.eu/agenda/visita-de-las-representantes-de-la-summer-school-for-female-leadership-in-the-digital-age-de-huawei/
CATEGORIES:FEMM,ITRE,Parlamento
ATTACH;FMTTYPE=image/jpeg:https://linagalvez.eu/wp-content/uploads/2021/06/STEM_100621.jpg
END:VEVENT
BEGIN:VEVENT
DTSTART;TZID=Europe/Madrid:20211202T091500
DTEND;TZID=Europe/Madrid:20211202T113000
DTSTAMP:20260424T003106
CREATED:20210312T175910Z
LAST-MODIFIED:20211130T184230Z
UID:4394-1638436500-1638444600@linagalvez.eu
SUMMARY:Comisión de Empleo y Asuntos Sociales
DESCRIPTION:Debates previstos \nEl orden del día prevé tratar el expediente sobre «La pobreza de las mujeres en Europa\, del que Lina Gálvez es ponente. un informe sobre la delegación de EMPL a Eslovaquia\, que tuvo lugar del 3 al 5 de noviembre. Además\, el Comité debatirá las enmiendas presentadas al proyecto de informe INI sobre « Un nuevo marco estratégico en materia de salud y seguridad en el trabajo después de 2020 »\, considerará varios proyectos de dictamen y votará sobre el proyecto de dictamen « Un estatuto de las asociaciones transfronterizas europeas y organizaciones sin ánimo de lucro ». Finalmente\, habrá una presentación sobre el Reglamento Delegado de la Comisión que complementa el Reglamento (UE) 2019/1700. \nDurante su próxima reunión los días 1 y 2 de diciembre de 2021\, la Comisión EMPL  también se celebrarán audiencias sobre las Directivas de Empleo e Igualdad Racial y sobre los derechos de los trabajadores y el futuro del trabajo post-COVID 19. Habrá un taller sobre salud mental y bienestar en lugar de trabajo digital post-COVID y un intercambio de puntos de vista con EU-OSHA sobre los trastornos musculoesqueléticos y sobre el nuevo marco estratégico sobre seguridad y salud en el trabajo.
URL:https://linagalvez.eu/agenda/comision-de-empleo-y-asuntos-sociales-2-2-2-2-5/
CATEGORIES:Actualidad,Destacado,EMPL,Parlamento
ATTACH;FMTTYPE=image/jpeg:https://linagalvez.eu/wp-content/uploads/2021/10/Lina-Galvez-PE_empleo.jpg
END:VEVENT
BEGIN:VEVENT
DTSTART;TZID=Europe/Madrid:20211202T101500
DTEND;TZID=Europe/Madrid:20211202T111500
DTSTAMP:20260424T003106
CREATED:20211129T085331Z
LAST-MODIFIED:20211130T184138Z
UID:4740-1638440100-1638443700@linagalvez.eu
SUMMARY:Evento organizado por la Federación Andaluza de Municipios y Provincias ‘Europa: una oportunidad para la transición verde\, digital y social desde lo local’.
DESCRIPTION:Lina Galvez participará en el panel “Visión global de a dónde va Europa y con qué recursos. Qué hacer desde lo local para avanzar en la dirección correcta. Pacto Verde en los municipios”. Este evento organizado por la Federación Andaluza de Municipios y Provincias  dentro del encuentro ‘Europa: una oportunidad para la transición verde\, digital y social desde lo local’. \n\nModalidad: Híbrida (On-Line o Presencial)\n\n\nMás información AQUÏ
URL:https://linagalvez.eu/agenda/evento-organizado-por-la-federacion-andaluza-de-municipios-y-provincias-europa-una-oportunidad-para-la-transicion-verde-digital-y-social-desde-lo-local/
CATEGORIES:Actualidad,Andalucía,Destacado,EMPL,FEMM,ITRE,Parlamento
ATTACH;FMTTYPE=image/jpeg:https://linagalvez.eu/wp-content/uploads/2021/10/EMPL_linagalvez.jpg
END:VEVENT
BEGIN:VEVENT
DTSTART;TZID=Europe/Madrid:20211202T160000
DTEND;TZID=Europe/Madrid:20211202T170000
DTSTAMP:20260424T003106
CREATED:20211129T085820Z
LAST-MODIFIED:20211129T085820Z
UID:4742-1638460800-1638464400@linagalvez.eu
SUMMARY:Reunión del grupo de expertos sobre tecnologías para el informe INTEC 2022.
DESCRIPTION:
URL:https://linagalvez.eu/agenda/reunion-del-grupo-de-expertos-sobre-tecnologias-para-el-informe-intec-2022/
CATEGORIES:Actualidad,ITRE,Parlamento
END:VEVENT
BEGIN:VEVENT
DTSTART;TZID=Europe/Madrid:20211203T080000
DTEND;TZID=Europe/Madrid:20211203T233000
DTSTAMP:20260424T003106
CREATED:20211203T073902Z
LAST-MODIFIED:20211203T073920Z
UID:4760-1638518400-1638574200@linagalvez.eu
SUMMARY:visita a La Palma para conocer de primera mano la situación de las personas afectadas personas afectadas tras la erupción del volcán de Cumbre Vieja
DESCRIPTION:La eurodiputada Lina Gálvez en calidad de Vicepresidenta de la Comisión de Industria\, Innovación e Energía\, y el europarlamentario canario Juan Fernando López Aguilar\,  visitarán La Palma este viernes junto con otros miembros del Parlamento Europeo\, para conocer de primera mano la situación de las personas afectadas tras la erupción del volcán de Cumbre Vieja y el trabajo de los profesionales\, técnicos\, voluntarios y también de los cargos públicos -tanto del Cabildo como de los municipios afectados\, que llevan más de dos meses al frente de la situación. \nEl objetivo de este encuentro es valorar\, junto con miembros del Cabildo de La Palma y alcaldes de varios municipios de la isla\, el reparto de fondos europeos para la reparación de infraestructuras atendiendo a los daños ocasionados por el volcán. Los europarlamentarios visitarán la zona de exclusión\, las desaladoras de agua y podrán comprobar de primera mano el estado de carreteras y las nuevas obras. Durante la visita\, se reunirán con tres plataformas de vecinos afectados y la asociación de vecinos de Todoque y La Laguna. \nMás información AQUí
URL:https://linagalvez.eu/agenda/visita-a-la-palma-para-conocer-de-primera-mano-la-situacion-de-las-personas-afectadas-personas-afectadas-tras-la-erupcion-del-volcan-de-cumbre-vieja/
CATEGORIES:Actualidad,Destacado,ITRE,Parlamento,S&D
ATTACH;FMTTYPE=image/jpeg:https://linagalvez.eu/wp-content/uploads/2021/12/Captura.jpg
END:VEVENT
BEGIN:VEVENT
DTSTART;TZID=Europe/Madrid:20211203T100000
DTEND;TZID=Europe/Madrid:20211203T113000
DTSTAMP:20260424T003106
CREATED:20200705T094158Z
LAST-MODIFIED:20211129T090111Z
UID:4744-1638525600-1638531000@linagalvez.eu
SUMMARY:Reunión de coordinación Oficina Parlamentaria LGM
DESCRIPTION:
URL:https://linagalvez.eu/agenda/reunion-de-equipo-coordinacion-interna-2-2-2-2-2-2-3-2-2-2/
CATEGORIES:Actualidad,Parlamento
ATTACH;FMTTYPE=image/jpeg:https://linagalvez.eu/wp-content/uploads/2020/07/Calendario2.jpg
END:VEVENT
BEGIN:VEVENT
DTSTART;TZID=Europe/Madrid:20211206T100000
DTEND;TZID=Europe/Madrid:20211206T101500
DTSTAMP:20260424T003106
CREATED:20211206T072116Z
LAST-MODIFIED:20211206T072116Z
UID:4764-1638784800-1638785700@linagalvez.eu
SUMMARY:Reunión del Trade Union Intergroup
DESCRIPTION:Reunión del Trade Union Intergroup donde se presentará el informe Benchmarking Working Europe Report 2021 del European Trade Union Institute\n(ETUI/ETUC) \nMás información aquí
URL:https://linagalvez.eu/agenda/reunion-del-trade-union-intergroup/
CATEGORIES:Actualidad,EMPL,Parlamento
ATTACH;FMTTYPE=image/jpeg:https://linagalvez.eu/wp-content/uploads/2021/02/ETUC-febreo-2020.jpg
END:VEVENT
BEGIN:VEVENT
DTSTART;TZID=Europe/Madrid:20211206T120000
DTEND;TZID=Europe/Madrid:20211206T130000
DTSTAMP:20260424T003106
CREATED:20211206T073620Z
LAST-MODIFIED:20211206T095942Z
UID:4766-1638792000-1638795600@linagalvez.eu
SUMMARY:Acto de conmemoración del Día de la Constitución Española en el Congreso de los Diputados. Madrid
DESCRIPTION:La eurodiputada Lina Gálvez asistirá al Acto institucional en conmemoración  del Día de la Constitución que tendrá lugar en el Congreso de los Diputados.\nLas Cortes Generales conmemoran\, el  6 de diciembre\, el Día de la Constitución con un acto institucional que tendrá lugar a las 12:00 horas y que en este 43\naniversario se celebrará en la Carrera de San Jerónimo.\nLa presidenta del Congreso\, Meritxell Batet\, pronunciará un discurso en la escalinata de la Puerta de los Leones\, acompañada por el presidente del Gobierno\, Pedro Sánchez\, y los presidentes del Tribunal Constitucional\, Pedro José González-Trevijano\, y del Consejo General del Poder Judicial\, Carlos Lesmes.\nEn la escalinata y a ambos lados de los leones se situarán también los miembros de las Mesas del Congreso y el Senado y los portavoces de los grupos parlamentarios de ambas Cámaras y los ministros.\nEstán invitados al acto representantes de otras instituciones\, como el Defensor del Pueblo\, el Tribunal de Cuentas\, la Fiscalía General del Estado y el Consejo de Estado\, los presidentes de las comunidades y ciudades autónomas y el alcalde de Madrid; el presidente del partido mayoritario de la oposición\, diputados y senadores\, expresidentes del Gobierno y de las Cámaras\, Eurodiputadas/as ponentes constitucionales y una representación de los agentes sociales y de la sociedad civil.\nEl acto institucional\, que concluirá una vez pronunciado el discurso por parte de la presidenta del Congreso\, podrá seguirse en directo a través de la página web del Congreso\,canal Parlamento\, YouTube y los perfiles institucionales en medios sociales.
URL:https://linagalvez.eu/agenda/acto-de-conmemoracion-del-dia-de-la-constitucion-espanola-en-el-congreso-de-los-diputados-madrid/
CATEGORIES:Actualidad,Parlamento
ATTACH;FMTTYPE=image/png:https://linagalvez.eu/wp-content/uploads/2021/12/3137_1607257974121.png
END:VEVENT
BEGIN:VEVENT
DTSTART;TZID=Europe/Madrid:20211206T134500
DTEND;TZID=Europe/Madrid:20211206T154500
DTSTAMP:20260424T003106
CREATED:20210927T104830Z
LAST-MODIFIED:20211206T075748Z
UID:4771-1638798300-1638805500@linagalvez.eu
SUMMARY:Committee on Women's Rights and Gender Equality.
DESCRIPTION:La Comisión de Derechos de la Mujer e Igualdad de Género votará el 6 de diciembre el proyecto de resolución «MeToo y el acoso – las consecuencias para las instituciones de la UE». La comisión también celebrará una audiencia sobre «La regulación de la prostitución en Europa: sus implicaciones transfronterizas y su impacto en la igualdad de género y los derechos de las mujeres». Varios expertos presentarán sus ideas y diferentes enfoques para gestionar el fenómeno de la prostitución y compararán los distintos modelos legislativos en Europa.
URL:https://linagalvez.eu/agenda/joint-meeting-committee-on-employment-and-social-affairs-committee-on-womens-rights-and-gender-equality-2-2/
CATEGORIES:Destacado,FEMM,Parlamento
ATTACH;FMTTYPE=image/jpeg:https://linagalvez.eu/wp-content/uploads/2021/03/Sesion-Comite-FEMM.jpg
END:VEVENT
BEGIN:VEVENT
DTSTART;TZID=Europe/Madrid:20211206T134500
DTEND;TZID=Europe/Madrid:20211206T154500
DTSTAMP:20260424T003106
CREATED:20211109T095033Z
LAST-MODIFIED:20211206T075033Z
UID:4773-1638798300-1638805500@linagalvez.eu
SUMMARY:Audiencia pública ITRE: Una nueva era para la investigación y la innovación.
DESCRIPTION:La audiencia pública sobre «Nuevo EEI para la investigación y la innovación» cubrirá temas como la priorización de inversiones y reformas en investigación e innovación hacia la transición verde y digital para apoyar la recuperación de Europa; fortalecer la movilidad de los investigadores y la libre circulación de conocimientos y tecnología mediante una mayor cooperación entre los Estados miembros; impulsar la aceptación por el mercado de los resultados de la investigación y la innovación y mejorar el acceso a la excelencia para los investigadores en toda la UE.
URL:https://linagalvez.eu/agenda/audiencia-publica-itre-los-aspectos-energeticos-del-paquete-fit-for-55-https-2/
CATEGORIES:Actualidad,Destacado,ITRE,Parlamento
ATTACH;FMTTYPE=image/jpeg:https://linagalvez.eu/wp-content/uploads/2021/11/Nuevo-EEI-para-la-investigacion-y-la-innovacion.jpeg
END:VEVENT
BEGIN:VEVENT
DTSTART;TZID=Europe/Madrid:20211206T134500
DTEND;TZID=Europe/Madrid:20211206T164500
DTSTAMP:20260424T003106
CREATED:20210611T142459Z
LAST-MODIFIED:20211206T081645Z
UID:4782-1638798300-1638809100@linagalvez.eu
SUMMARY:Reunión de la Comisión de Industria\, Investigación y Energía (ITRE)
DESCRIPTION:En el contexto de la pandemia de COVID-19\, el Presidente del Parlamento Europeo ha establecido una serie de medidas para contener la propagación del virus y salvaguardar las actividades fundamentales del Parlamento. Las actuales medidas de precaución no afectan al trabajo sobre las prioridades legislativas. Las actividades básicas se mantienen para garantizar el buen funcionamiento de las funciones legislativas\, presupuestarias y de control de la institución. \nLa próxima reunión de la Comisión ITRE tendrá lugar el lunes 6 de diciembre de 2021\, de 13.45 a 16.45 a distancia y en la sala Spaak 3C50 de Bruselas.
URL:https://linagalvez.eu/agenda/reunion-de-la-comision-de-industria-investigacion-y-energia-itre-17-2-2-2-2-2-2-3-2-2-2-2/
CATEGORIES:ITRE
ATTACH;FMTTYPE=image/jpeg:https://linagalvez.eu/wp-content/uploads/2021/06/ITRE_170621.jpg
END:VEVENT
BEGIN:VEVENT
DTSTART;TZID=Europe/Madrid:20211207T091500
DTEND;TZID=Europe/Madrid:20211207T103000
DTSTAMP:20260424T003106
CREATED:20211206T083017Z
LAST-MODIFIED:20211206T095906Z
UID:4784-1638868500-1638873000@linagalvez.eu
SUMMARY:Reunión con el Puerto de Algeciras
DESCRIPTION:Las Eurodiputadas Lina Gálvez y Isabel García del S&D mantendrán una reunión informativa  con el Puerto de Algeciras sobre la revisión del Sistema europeo de comercio de derechos de emisión (ETS) con la MEP  Muñoz. \nLas Eurodiputadas se hacen eco de la preocupación existente en el sector portuario por el proyecto de normativa comunitaria sobre  tasas a las emisiones en el transporte marítimo. Esto podría afectar\, según los sindicatos y autoridades portuarias a la competitividad al Puerto de la Bahía de Algeciras frente a Tánger-Med\, con una pérdida de hasta el 60% del transbordo. 
URL:https://linagalvez.eu/agenda/reunion-con-el-puerto-de-algeciras/
CATEGORIES:Actualidad,Andalucía,Destacado,EMPL,Parlamento
ATTACH;FMTTYPE=image/jpeg:https://linagalvez.eu/wp-content/uploads/2020/06/Negociacion-semestre-2.jpg
END:VEVENT
BEGIN:VEVENT
DTSTART;TZID=Europe/Madrid:20211207T100000
DTEND;TZID=Europe/Madrid:20211207T110000
DTSTAMP:20260424T003106
CREATED:20210412T080804Z
LAST-MODIFIED:20211206T083351Z
UID:4681-1638871200-1638874800@linagalvez.eu
SUMMARY:S&D ITRE Working Group meeting
DESCRIPTION:Grupo de trabajo S&D ITRE en el que se tratarán los temas que se debatirán en el siguiente Pleno y de los asuntos relacionados con la futura Ley de Gobernanza de Datos después del último trílogo.
URL:https://linagalvez.eu/agenda/sd-itre-working-group-meeting-2-4-2-3-4/
CATEGORIES:Actualidad,ITRE,S&D
ATTACH;FMTTYPE=image/png:https://linagalvez.eu/wp-content/uploads/2020/01/1-S&D.svg.png
END:VEVENT
BEGIN:VEVENT
DTSTART;TZID=Europe/Madrid:20211207T110000
DTEND;TZID=Europe/Madrid:20211207T114500
DTSTAMP:20260424T003106
CREATED:20211206T083807Z
LAST-MODIFIED:20250113T094907Z
UID:4787-1638874800-1638877500@linagalvez.eu
SUMMARY:Reunión con la parlamentaria y Secretaria de igualdad y diversidad del PSN\, Nuria Medina Santos.
DESCRIPTION:
URL:https://linagalvez.eu/agenda/reunion-con-la-parlamentaria-y-secretaria-de-igualdad-y-diversidad-del-psn-nuria-medina-santos/
ATTACH;FMTTYPE=image/jpeg:https://linagalvez.eu/wp-content/uploads/2021/07/ERA-linagalvez.jpg
END:VEVENT
BEGIN:VEVENT
DTSTART;TZID=Europe/Madrid:20211207T111500
DTEND;TZID=Europe/Madrid:20211207T121500
DTSTAMP:20260424T003107
CREATED:20210927T094856Z
LAST-MODIFIED:20211206T084017Z
UID:4774-1638875700-1638879300@linagalvez.eu
SUMMARY:Grupo de trabajo S&D ITRE para tratar el paquete Fit for 55.
DESCRIPTION:
URL:https://linagalvez.eu/agenda/encuentro-con-la-embajadora-espanola-en-malta-external-group-meeting-2-5/
CATEGORIES:ITRE,S&D
ATTACH;FMTTYPE=image/jpeg:https://linagalvez.eu/wp-content/uploads/2021/11/fit-for-55.jpg
END:VEVENT
BEGIN:VEVENT
DTSTART;TZID=Europe/Madrid:20211207T123000
DTEND;TZID=Europe/Madrid:20211207T133000
DTSTAMP:20260424T003107
CREATED:20210301T093643Z
LAST-MODIFIED:20250210T090242Z
UID:4776-1638880200-1638883800@linagalvez.eu
SUMMARY:S&D Reunión de la Delegación Socialista Española
DESCRIPTION:Reunión interna de trabajo y de coordinación.
URL:https://linagalvez.eu/agenda/sd-reunion-de-la-delegacion-socialista-espanola-11-2-2-2-2-2-2-2-2-2/
CATEGORIES:Parlamento,S&D
ATTACH;FMTTYPE=image/png:https://linagalvez.eu/wp-content/uploads/2020/07/Delegacion-española.png
END:VEVENT
BEGIN:VEVENT
DTSTART;TZID=Europe/Madrid:20211207T160000
DTEND;TZID=Europe/Madrid:20211207T164500
DTSTAMP:20260424T003107
CREATED:20211206T084620Z
LAST-MODIFIED:20211206T084647Z
UID:4791-1638892800-1638895500@linagalvez.eu
SUMMARY:Reunión con el Director Ejecutivo de Eurofund\, Ivailo Kalfin.
DESCRIPTION:
URL:https://linagalvez.eu/agenda/reunion-con-el-director-ejecutivo-de-eurofund-ivailo-kalfin/
CATEGORIES:Actualidad,Parlamento,S&D
END:VEVENT
BEGIN:VEVENT
DTSTART;TZID=Europe/Madrid:20211207T181500
DTEND;TZID=Europe/Madrid:20211207T194500
DTSTAMP:20260424T003107
CREATED:20210208T092530Z
LAST-MODIFIED:20211206T084809Z
UID:4684-1638900900-1638906300@linagalvez.eu
SUMMARY:S&D Group Meeting
DESCRIPTION:Reunión del Grupo S&D preparatoria de la sesión plenaria.
URL:https://linagalvez.eu/agenda/sd-group-meeting-23-3-2-2-4-2-3-3-5-2-2-2-2-2-2-5/
CATEGORIES:Actualidad,Parlamento,S&D
ATTACH;FMTTYPE=image/png:https://linagalvez.eu/wp-content/uploads/2020/01/1-S&D.svg.png
END:VEVENT
BEGIN:VEVENT
DTSTART;TZID=Europe/Madrid:20211208T090000
DTEND;TZID=Europe/Madrid:20211208T110000
DTSTAMP:20260424T003107
CREATED:20210208T092530Z
LAST-MODIFIED:20211206T085006Z
UID:4685-1638954000-1638961200@linagalvez.eu
SUMMARY:S&D Group Meeting
DESCRIPTION:Reunión del Grupo S&D preparatoria de la sesión plenaria.
URL:https://linagalvez.eu/agenda/sd-group-meeting-23-3-2-2-4-2-3-3-5-2-2-2-2-2-2-6/
CATEGORIES:Actualidad,Parlamento,S&D
ATTACH;FMTTYPE=image/png:https://linagalvez.eu/wp-content/uploads/2020/01/1-S&D.svg.png
END:VEVENT
BEGIN:VEVENT
DTSTART;TZID=Europe/Madrid:20211208T120000
DTEND;TZID=Europe/Madrid:20211208T123000
DTSTAMP:20260424T003107
CREATED:20211208T092357Z
LAST-MODIFIED:20211208T092532Z
UID:4804-1638964800-1638966600@linagalvez.eu
SUMMARY:Reunión de trabajo con la Representación Permanente de España ante la UE. Asuntos de empleo y asuntos sociales
DESCRIPTION:La eurodiputada Lina Gálvez mantendrá una reunión de trabajo con la Representación Permanente de España ante la UE (REPER). con el objetivo de poder coordinar la agenda en relación a  las iniciativas legislativas en marcha en el Parlamento Europeo enmarcada dentro de las competencias de empleo y asuntos sociales. #Coordinación
URL:https://linagalvez.eu/agenda/reunion-de-trabajo-con-la-representacion-permanente-de-espana-ante-la-ue-asuntos-de-empleo-y-asuntos-sociales/
CATEGORIES:Actualidad,EMPL,Parlamento
ATTACH;FMTTYPE=image/jpeg:https://linagalvez.eu/wp-content/uploads/2020/06/Negociacion-semestre-2.jpg
END:VEVENT
BEGIN:VEVENT
DTSTART;TZID=Europe/Madrid:20211208T190000
DTEND;TZID=Europe/Madrid:20211208T230000
DTSTAMP:20260424T003107
CREATED:20211209T092229Z
LAST-MODIFIED:20211209T092524Z
UID:4806-1638990000-1639004400@linagalvez.eu
SUMMARY:Trílogo ITRE. Reglas de roaming móvil en la UE
DESCRIPTION:La eurodiputada Lina Gálvez presidirá la reunión de hoy del @EP_Industry  donde se seguirán con las negociaciones del diálogo tripartito sobre el reglamento #Roaming . El objetivo es lograr más mejoras para los ciudadanos y ciudadanas de la UE\, así como conseguir mayor equidad en el mercado de las telecomunicaciones.  \n#Roaming regulation – Trilogue agreement
URL:https://linagalvez.eu/agenda/trilogo-itre-reglas-de-roaming-movil-en-la-ue/
CATEGORIES:Actualidad,Destacado,ITRE,Parlamento
ATTACH;FMTTYPE=image/jpeg:https://linagalvez.eu/wp-content/uploads/2021/12/Trilogo-ITRE.jpg
END:VEVENT
END:VCALENDAR