BEGIN:VCALENDAR
VERSION:2.0
PRODID:-//Lina Gálvez - ECPv6.15.20//NONSGML v1.0//EN
CALSCALE:GREGORIAN
METHOD:PUBLISH
X-ORIGINAL-URL:https://linagalvez.eu
X-WR-CALDESC:Eventos para Lina Gálvez
REFRESH-INTERVAL;VALUE=DURATION:PT1H
X-Robots-Tag:noindex
X-PUBLISHED-TTL:PT1H
BEGIN:VTIMEZONE
TZID:Europe/Madrid
BEGIN:DAYLIGHT
TZOFFSETFROM:+0100
TZOFFSETTO:+0200
TZNAME:CEST
DTSTART:20210328T010000
END:DAYLIGHT
BEGIN:STANDARD
TZOFFSETFROM:+0200
TZOFFSETTO:+0100
TZNAME:CET
DTSTART:20211031T010000
END:STANDARD
BEGIN:DAYLIGHT
TZOFFSETFROM:+0100
TZOFFSETTO:+0200
TZNAME:CEST
DTSTART:20220327T010000
END:DAYLIGHT
BEGIN:STANDARD
TZOFFSETFROM:+0200
TZOFFSETTO:+0100
TZNAME:CET
DTSTART:20221030T010000
END:STANDARD
BEGIN:DAYLIGHT
TZOFFSETFROM:+0100
TZOFFSETTO:+0200
TZNAME:CEST
DTSTART:20230326T010000
END:DAYLIGHT
BEGIN:STANDARD
TZOFFSETFROM:+0200
TZOFFSETTO:+0100
TZNAME:CET
DTSTART:20231029T010000
END:STANDARD
END:VTIMEZONE
BEGIN:VEVENT
DTSTART;TZID=Europe/Madrid:20220125T083000
DTEND;TZID=Europe/Madrid:20220125T093000
DTSTAMP:20260424T050938
CREATED:20211206T083807Z
LAST-MODIFIED:20220124T132953Z
UID:5025-1643099400-1643103000@linagalvez.eu
SUMMARY:Reunión con la Interparlamentaria Igualdad. PSOE
DESCRIPTION:
URL:https://linagalvez.eu/agenda/reunion-con-la-parlamentaria-y-secretaria-de-igualdad-y-diversidad-del-psn-nuria-medina-santos-2/
CATEGORIES:Actualidad,Parlamento,S&D
ATTACH;FMTTYPE=image/jpeg:https://linagalvez.eu/wp-content/uploads/2021/07/ERA-linagalvez.jpg
END:VEVENT
BEGIN:VEVENT
DTSTART;TZID=Europe/Madrid:20220125T090000
DTEND;TZID=Europe/Madrid:20220125T120000
DTSTAMP:20260424T050938
CREATED:20210927T104830Z
LAST-MODIFIED:20220124T135815Z
UID:5019-1643101200-1643112000@linagalvez.eu
SUMMARY:Committee on Women's Rights and Gender Equality.
DESCRIPTION:Las eurodiputad@s elegirán a la nueva presidenta/e y vicepresidentas/es de la Comisión FEMM \nSe aprobarán gestiones relativas al EIGE y a presupuestos generales de la UE y se hablará de la integración de la perspectiva de género en el Parlamento Europeo (informe anual 2020) y de posibles orientaciones para el presupuesto de 2023.  También se tratará el informe sobre: ‘La pobreza de las mujeres en Europa’ del que es ponente la eurodiputada Lina Gálvez . \nOtros asuntos a tratar: ‘Garantizar que el transporte europeo funcione para las mujeres’ o ‘Alcanzar la independencia económica de las mujeres a través del emprendimiento y el autoempleo’
URL:https://linagalvez.eu/agenda/joint-meeting-committee-on-employment-and-social-affairs-committee-on-womens-rights-and-gender-equality-2-3-2-2/
CATEGORIES:Destacado,FEMM,Parlamento
ATTACH;FMTTYPE=image/jpeg:https://linagalvez.eu/wp-content/uploads/2021/03/Sesion-Comite-FEMM.jpg
END:VEVENT
BEGIN:VEVENT
DTSTART;TZID=Europe/Madrid:20220125T123000
DTEND;TZID=Europe/Madrid:20220125T133000
DTSTAMP:20260424T050938
CREATED:20210412T084247Z
LAST-MODIFIED:20220124T134028Z
UID:5035-1643113800-1643117400@linagalvez.eu
SUMMARY:S&D FEMM Working Group
DESCRIPTION:Sesión interna de trabajo en el seno del S&D para coordinar y revisar las iniciativas que se tratarán en el Pleno y la Comisión FEMM
URL:https://linagalvez.eu/agenda/sd-femm-working-group-5-2-3-2-3-2-2-2-4-2-2/
CATEGORIES:Destacado,FEMM,S&D
END:VEVENT
BEGIN:VEVENT
DTSTART;TZID=Europe/Madrid:20220125T140000
DTEND;TZID=Europe/Madrid:20220125T150000
DTSTAMP:20260424T050938
CREATED:20211114T095026Z
LAST-MODIFIED:20220124T134812Z
UID:4965-1643119200-1643122800@linagalvez.eu
SUMMARY:Reunión del Grupo Operativo de Trabajo Fit for 55
DESCRIPTION:Fit for 55\, es el paquete de medidas de la UE para reducir a mayor velocidad las emisiones de GEI. Europa sigue dando pasos firmemente para avanzar hacia una transición energética\, climáticamente neutra y cumplir sus compromisos con arreglo al Acuerdo de París. El  Fitfor 55\, contiene las propuestas legislativas para adaptar las políticas de la Unión Europea sobre clima\, energía\, uso del suelo\, transporte y fiscalidad cuyo objetivo es reducir las emisiones netas de gases de efecto invernadero (GEI) en al menos un 55 % desde ahora hasta al año 2030\, en comparación con los niveles de 1990. Esto significa que el objetivo a conseguir se ha ampliado de un original 40% al 55% de reducción de emisiones. \nEn esta reunión se abordará la financiación del NG EU\, del paquete Fit for 55 y del Fondo Social para el Clima\, así como su implicación presupuestaria.
URL:https://linagalvez.eu/agenda/primera-reunion-del-grupo-de-trabajo-fit-for-55-con-la-participacion-de-la-vicepresidenta-tercera-para-la-transicion-ecologica-teresa-ribera-2-2-2/
CATEGORIES:Actualidad,ITRE,Parlamento,S&D
ATTACH;FMTTYPE=image/jpeg:https://linagalvez.eu/wp-content/uploads/2021/11/fit-for-55.jpg
END:VEVENT
BEGIN:VEVENT
DTSTART;TZID=Europe/Madrid:20220125T150000
DTEND;TZID=Europe/Madrid:20220125T160000
DTSTAMP:20260424T050938
CREATED:20210528T185833Z
LAST-MODIFIED:20220124T135333Z
UID:5028-1643122800-1643126400@linagalvez.eu
SUMMARY:Evento STOA. Afrontar la pandemia: Consecuencias psicosociales de la crisis de la COVID.
DESCRIPTION: Este evento STOA: Afrontar la pandemia: Consecuencias psicosociales de la crisis de la COVID. \nSe van a debatir opciones políticas para reforzar la respuesta común de la UE al brote de coronavirus y se responderán preguntas como: ¿qué aspectos psicosociales y de salud mental nos afectan durante la pandemia?; ¿qué factores de estrés contribuyen al desarrollo de problemas de salud mental?; ¿qué factores de protección pueden reforzar la resiliencia y la salud mental? \nMás información AQUÍ
URL:https://linagalvez.eu/agenda/panel-stoa-presentacion-de-los-estudios-impacto-en-la-salud-del-5g-e-impacto-medioambiental-del-5g-2/
CATEGORIES:Actualidad,ITRE,STOA
ATTACH;FMTTYPE=image/jpeg:https://linagalvez.eu/wp-content/uploads/2021/05/Health-impact-of-5G-.jpeg
END:VEVENT
BEGIN:VEVENT
DTSTART;TZID=Europe/Madrid:20220125T154500
DTEND;TZID=Europe/Madrid:20220125T163000
DTSTAMP:20260424T050938
CREATED:20210927T104830Z
LAST-MODIFIED:20220124T145252Z
UID:4999-1643125500-1643128200@linagalvez.eu
SUMMARY:Committee on Women's Rights and Gender Equality.
DESCRIPTION:Continuación FEMM. Informe sobre: ‘La pobreza de las mujeres en Europa’ del que es ponente la eurodiputada Lina Gálvez .
URL:https://linagalvez.eu/agenda/joint-meeting-committee-on-employment-and-social-affairs-committee-on-womens-rights-and-gender-equality-2-3-2/
CATEGORIES:FEMM,Parlamento
ATTACH;FMTTYPE=image/jpeg:https://linagalvez.eu/wp-content/uploads/2021/12/20211208_EP-123402A_PB7_077-1-scaled.jpg
END:VEVENT
BEGIN:VEVENT
DTSTART;TZID=Europe/Madrid:20220125T163000
DTEND;TZID=Europe/Madrid:20220125T170000
DTSTAMP:20260424T050938
CREATED:20210927T104830Z
LAST-MODIFIED:20220125T164632Z
UID:5022-1643128200-1643130000@linagalvez.eu
SUMMARY:Committee on Women's Rights and Gender Equality.
DESCRIPTION:Votaciones
URL:https://linagalvez.eu/agenda/joint-meeting-committee-on-employment-and-social-affairs-committee-on-womens-rights-and-gender-equality-2-3-3/
CATEGORIES:Destacado,EMPL,FEMM,Parlamento
ATTACH;FMTTYPE=image/jpeg:https://linagalvez.eu/wp-content/uploads/2021/03/Sesion-Comite-FEMM.jpg
END:VEVENT
BEGIN:VEVENT
DTSTART;TZID=Europe/Madrid:20220126T090000
DTEND;TZID=Europe/Madrid:20220126T113000
DTSTAMP:20260424T050938
CREATED:20210611T142459Z
LAST-MODIFIED:20220125T164815Z
UID:5027-1643187600-1643196600@linagalvez.eu
SUMMARY:Reunión de la Comisión de Industria\, Investigación y Energía (ITRE)
DESCRIPTION:Reunión constitutiva: elección de Presidenta/e y de Vicepresidentas/es.
URL:https://linagalvez.eu/agenda/reunion-de-la-comision-de-industria-investigacion-y-energia-itre-17-2-2-2-2-2-2-3-2-2-2-2-2/
CATEGORIES:Destacado,ITRE
ATTACH;FMTTYPE=image/jpeg:https://linagalvez.eu/wp-content/uploads/2021/12/Trilogo-ITRE.jpg
END:VEVENT
BEGIN:VEVENT
DTSTART;TZID=Europe/Madrid:20220126T103000
DTEND;TZID=Europe/Madrid:20220126T113000
DTSTAMP:20260424T050938
CREATED:20210412T084247Z
LAST-MODIFIED:20220125T164624Z
UID:5061-1643193000-1643196600@linagalvez.eu
SUMMARY:Comisión conjunta de las Comisiones FEMM y DEVE (Cooperación)
DESCRIPTION:El miércoles 26 de enero\, las comisiones de Cooperación al desarrollo y de Derechos de la Mujer e Igualdad de Género votarán el informe sobre el «Plan de Acción de Género de la UE (GAP) III». \nEn su informe\, la ponente Chrysoula Zacharopoulou propondrá un compromiso más efectivo de la UE y examina las acciones y objetivos propuestos en el GAP III en relación con la eliminación de la violencia de género\, la garantía del acceso de las mujeres a la asistencia sanitaria\, la promoción de la igualdad económica y social\, el fomento de la participación y el liderazgo de las mujeres\, la participación de las mujeres en la construcción de la paz y la seguridad\, y la construcción de una sociedad verde y digital. \nSe presentaron 540 enmiendas y se prepararon 59 enmiendas de compromiso. \nMás información AQUÍ
URL:https://linagalvez.eu/agenda/sd-femm-working-group-5-2-3-2-2-2-2-2-2-2/
CATEGORIES:Destacado,ITRE,Parlamento
ATTACH;FMTTYPE=image/jpeg:https://linagalvez.eu/wp-content/uploads/2021/01/Lina-galvez-FEMM_260121.jpg
END:VEVENT
BEGIN:VEVENT
DTSTART;TZID=Europe/Madrid:20220126T113000
DTEND;TZID=Europe/Madrid:20220126T120000
DTSTAMP:20260424T050938
CREATED:20210611T142459Z
LAST-MODIFIED:20220125T164843Z
UID:5044-1643196600-1643198400@linagalvez.eu
SUMMARY:Reunión de la Comisión de Industria\, Investigación y Energía (ITRE)
DESCRIPTION:Comité de ITRE donde se considerarán los informes de los trílogos y diálogos sobre la regulación de la itinerancia y el Reglamento de las TEN-E. También se votará el acuerdo provisional resultante de las negociaciones sobre: La itinerancia en las redes públicas de comunicación móviles en la UE\, y las Directrices para las infraestructuras energéticas transeuropeas.
URL:https://linagalvez.eu/agenda/reunion-de-la-comision-de-industria-investigacion-y-energia-itre-17-2-2-2-2-2-2-3-2-2-2-2-2-2/
CATEGORIES:ITRE
ATTACH;FMTTYPE=image/jpeg:https://linagalvez.eu/wp-content/uploads/2021/06/ITRE_170621.jpg
END:VEVENT
BEGIN:VEVENT
DTSTART;TZID=Europe/Madrid:20220126T123000
DTEND;TZID=Europe/Madrid:20220126T130000
DTSTAMP:20260424T050938
CREATED:20220125T164534Z
LAST-MODIFIED:20220125T164534Z
UID:5064-1643200200-1643202000@linagalvez.eu
SUMMARY:Encuentro con JM Moreno Bonilla.
DESCRIPTION:
URL:https://linagalvez.eu/agenda/encuentro-con-jm-moreno-bonilla/
CATEGORIES:Actualidad,Andalucía,Parlamento
END:VEVENT
BEGIN:VEVENT
DTSTART;TZID=Europe/Madrid:20220126T133000
DTEND;TZID=Europe/Madrid:20220126T154500
DTSTAMP:20260424T050938
CREATED:20210611T142459Z
LAST-MODIFIED:20220124T140928Z
UID:5046-1643203800-1643211900@linagalvez.eu
SUMMARY:Reunión de la Comisión de Industria\, Investigación y Energía (ITRE)
DESCRIPTION:El Comité ITRE abordará en la agenda de tarde los siguientes temas; \n\nModificación de la Decisión en lo que respecta a la cantidad de derechos de emisión que deben depositarse en la reserva de estabilidad del mercado para el régimen de comercio de derechos de emisión de gases de efecto invernadero de la Unión hasta 2030.\nDespliegue de infraestructuras de combustibles alternativos y derogación de la Directiva 2014/94/UE del Parlamento Europeo y del Consejo\nModificación del Reglamento en relación al refuerzo de las normas de comportamiento en materia de emisiones de CO2 de los turismos nuevos y los vehículos industriales ligeros nuevos en consonancia con la mayor ambición climática de la Unión
URL:https://linagalvez.eu/agenda/reunion-de-la-comision-de-industria-investigacion-y-energia-itre-17-2-2-2-2-2-2-3-2-2-2-2-2-2-2/
CATEGORIES:ITRE
ATTACH;FMTTYPE=image/jpeg:https://linagalvez.eu/wp-content/uploads/2021/06/Itre-votacion.jpg
END:VEVENT
BEGIN:VEVENT
DTSTART;TZID=Europe/Madrid:20220126T163000
DTEND;TZID=Europe/Madrid:20220126T173000
DTSTAMP:20260424T050938
CREATED:20210419T093724Z
LAST-MODIFIED:20220125T164653Z
UID:5029-1643214600-1643218200@linagalvez.eu
SUMMARY:Reunión del grupo parlamentario de amistad sobre el New European Bauhaus
DESCRIPTION:
URL:https://linagalvez.eu/agenda/reunion-del-grupo-parlamentario-de-amistad-sobre-el-new-european-bauhaus-4/
CATEGORIES:Actualidad,Destacado,Parlamento,S&D
ATTACH;FMTTYPE=image/jpeg:https://linagalvez.eu/wp-content/uploads/2021/04/New-European-Bauhausjpg.jpg
END:VEVENT
BEGIN:VEVENT
DTSTART;TZID=Europe/Madrid:20220126T164500
DTEND;TZID=Europe/Madrid:20220126T173000
DTSTAMP:20260424T050938
CREATED:20210412T084247Z
LAST-MODIFIED:20220124T145342Z
UID:5049-1643215500-1643218200@linagalvez.eu
SUMMARY:Comisión conjunta de las Comisiones FEMM y DEVE (Cooperación)
DESCRIPTION:El miércoles 26 de enero\, las comisiones de Cooperación al desarrollo y de Derechos de la Mujer e Igualdad de Género votarán el informe sobre el «Plan de Acción de Género de la UE (GAP) III». \nEn su informe\, la ponente Chrysoula Zacharopoulou propondrá un compromiso más efectivo de la UE y examina las acciones y objetivos propuestos en el GAP III en relación con la eliminación de la violencia de género\, la garantía del acceso de las mujeres a la asistencia sanitaria\, la promoción de la igualdad económica y social\, el fomento de la participación y el liderazgo de las mujeres\, la participación de las mujeres en la construcción de la paz y la seguridad\, y la construcción de una sociedad verde y digital. \nSe presentaron 540 enmiendas y se prepararon 59 enmiendas de compromiso. \nMás información AQUÍ
URL:https://linagalvez.eu/agenda/sd-femm-working-group-5-2-3-2-2-2-2-2-2/
CATEGORIES:ITRE,Parlamento
ATTACH;FMTTYPE=image/jpeg:https://linagalvez.eu/wp-content/uploads/2021/01/Lina-galvez-FEMM_260121.jpg
END:VEVENT
BEGIN:VEVENT
DTSTART;TZID=Europe/Madrid:20220127T090000
DTEND;TZID=Europe/Madrid:20220127T120000
DTSTAMP:20260424T050938
CREATED:20210611T142459Z
LAST-MODIFIED:20220127T110606Z
UID:5053-1643274000-1643284800@linagalvez.eu
SUMMARY:Reunión de la Comisión de Industria\, Investigación y Energía (ITRE)
DESCRIPTION:Presentaciones de las prioridades de la Presidencia francesa. Intercambio de puntos de vista con la Sra. Barbara Pompili\, Ministra de Transición Ecológica (energía) y la Sra. Agnès Pannier-Runacher\, Ministra Delegada de Industria (industria\, PYME\, espacio). También habrá debate con el Sr. Cédric O\, Secretario de Estado para la Transición Digital y la Comunicación Electrónica (telecomunicaciones\, TIC) y la Sra. Frédérique Vidal\, Ministra de Enseñanza Superior\, Investigación e Innovación (investigación\, innovación)
URL:https://linagalvez.eu/agenda/reunion-de-la-comision-de-industria-investigacion-y-energia-itre-17-2-2-2-2-2-2-3-2-2-2-2-2-2-2-2/
CATEGORIES:Destacado,ITRE
ATTACH;FMTTYPE=image/jpeg:https://linagalvez.eu/wp-content/uploads/2021/06/Itre-votacion.jpg
END:VEVENT
BEGIN:VEVENT
DTSTART;TZID=Europe/Madrid:20220127T130000
DTEND;TZID=Europe/Madrid:20220127T150000
DTSTAMP:20260424T050938
CREATED:20200608T074306Z
LAST-MODIFIED:20220124T142736Z
UID:5055-1643288400-1643295600@linagalvez.eu
SUMMARY:Meeting shadow rapporteurs. Empleo
DESCRIPTION:Reunión  de (EMPL)  relacionadas con las negociaciones #shadows\, del Expediente sobre Salarios Mínimos Adecuados. del European Parliament\,
URL:https://linagalvez.eu/agenda/meeting-shadow-rapporteurs-eit-package-4-2-2-2-2-2/
CATEGORIES:Actualidad,EMPL
ATTACH;FMTTYPE=image/jpeg:https://linagalvez.eu/wp-content/uploads/2020/06/Negociacion-semestre-2.jpg
END:VEVENT
BEGIN:VEVENT
DTSTART;TZID=Europe/Madrid:20220128T090000
DTEND;TZID=Europe/Madrid:20220128T103000
DTSTAMP:20260424T050938
CREATED:20220127T110405Z
LAST-MODIFIED:20220127T113542Z
UID:5070-1643360400-1643365800@linagalvez.eu
SUMMARY:Fuera de Plató. RTVE
DESCRIPTION:La eurodiputada Lina Gálvez asistirá al encuentro ‘Fuera de plató’\, la RTVE  Andalucía pone en marcha un formato de mesa de trabajo informativos con personas invitadas de primer nivel de diferentes disciplinas. \nEl primer encuentro tendrá lugar el viernes 28 de enero en Sevilla\, y contará como invitada la Ministra de Hacienda y Administración Pública\, María Jesús Montero\, y lo presentará la periodista Paloma Jara\, directora del centro territorial de RTVE en la Comunidad de Andalucía.
URL:https://linagalvez.eu/agenda/fuera-de-plato-rtve/
CATEGORIES:Actualidad,Andalucía,Destacado,S&D
ATTACH;FMTTYPE=image/jpeg:https://linagalvez.eu/wp-content/uploads/2022/01/Fuera-de-Plato-RTVE.jpg
END:VEVENT
BEGIN:VEVENT
DTSTART;TZID=Europe/Madrid:20220128T110000
DTEND;TZID=Europe/Madrid:20220128T120000
DTSTAMP:20260424T050938
CREATED:20211206T085232Z
LAST-MODIFIED:20220124T145010Z
UID:5020-1643367600-1643371200@linagalvez.eu
SUMMARY:Encuentro entre la dirección Círculo de Artesanos de Sanlúcar de Barrameda y la eurodiputada Lina Gálvez. Sevilla
DESCRIPTION:La eurodiputada Lina Gálvez mantendrá una reunión con el Círculo de Artesanos de Sanlúcar de Barrameda.
URL:https://linagalvez.eu/agenda/encuentro-entre-la-direccion-de-ugt-andalucia-y-la-eurodiputada-lina-galvez-sevilla-2/
CATEGORIES:Actualidad,Andalucía,S&D
ATTACH;FMTTYPE=image/jpeg:https://linagalvez.eu/wp-content/uploads/2020/07/Calendario2.jpg
END:VEVENT
BEGIN:VEVENT
DTSTART;TZID=Europe/Madrid:20220128T180000
DTEND;TZID=Europe/Madrid:20220128T190000
DTSTAMP:20260424T050938
CREATED:20220125T172829Z
LAST-MODIFIED:20220127T113307Z
UID:5066-1643392800-1643396400@linagalvez.eu
SUMMARY:Clausura. Seminario Internacional en Teoría Crítica de los Derechos Humanos
DESCRIPTION:La Europarlamentaria Lina Gálvez clausurará en la Universidad Pablo de Olavide el XIII Seminario Internacional de Teoría Crítica de los Derechos Humanos\, \nPrograma
URL:https://linagalvez.eu/agenda/clausura-seminario-internacional-en-teoria-critica-de-los-derechos-humanos/
CATEGORIES:Actualidad,Destacado,S&D,Universidad
ATTACH;FMTTYPE=image/jpeg:https://linagalvez.eu/wp-content/uploads/2022/01/Seminario-DDHH.jpg
END:VEVENT
BEGIN:VEVENT
DTSTART;TZID=Europe/Madrid:20220131T094500
DTEND;TZID=Europe/Madrid:20220131T104500
DTSTAMP:20260424T050938
CREATED:20220130T185025Z
LAST-MODIFIED:20220130T185038Z
UID:5089-1643622300-1643625900@linagalvez.eu
SUMMARY:Desayuno Conferencia-Coloquio Alcalde de Sevilla
DESCRIPTION:La Eurodiputada Lina Gálvez asistirá al desayuno Conferencia-Coloquio organizado por el diario ABC con Antonio Muñoz Alcalde de Sevilla
URL:https://linagalvez.eu/agenda/desayuno-conferencia-coloquio-alcalde-de-sevilla/
CATEGORIES:Actualidad,Andalucía,Destacado,S&D
ATTACH;FMTTYPE=image/jpeg:https://linagalvez.eu/wp-content/uploads/2020/07/Calendario2.jpg
END:VEVENT
BEGIN:VEVENT
DTSTART;TZID=Europe/Madrid:20220131T113000
DTEND;TZID=Europe/Madrid:20220131T130000
DTSTAMP:20260424T050938
CREATED:20220124T143728Z
LAST-MODIFIED:20220130T184201Z
UID:5059-1643628600-1643634000@linagalvez.eu
SUMMARY:Reunión de trabajo. PSOE-A. Sevilla
DESCRIPTION:
URL:https://linagalvez.eu/agenda/reunion-de-trabajo-psoe-a-sevilla/
CATEGORIES:Andalucía,S&D
ATTACH;FMTTYPE=image/png:https://linagalvez.eu/wp-content/uploads/2022/01/1200px-Logo_PSOE-A.svg.png
END:VEVENT
BEGIN:VEVENT
DTSTART;TZID=Europe/Madrid:20220131T123000
DTEND;TZID=Europe/Madrid:20220131T133000
DTSTAMP:20260424T050938
CREATED:20210412T084247Z
LAST-MODIFIED:20220130T190924Z
UID:5092-1643632200-1643635800@linagalvez.eu
SUMMARY:S&D FEMM Working Group
DESCRIPTION:Sesión interna de trabajo en el seno del S&D para coordinar y revisar las iniciativas que se tratarán en el Pleno y la Comisión FEMM. Punto destacado reelección de la Coordinación de Grupo.
URL:https://linagalvez.eu/agenda/sd-femm-working-group-5-2-3-2-3-2-2-2-4-2-2-2/
CATEGORIES:Destacado,FEMM,S&D
END:VEVENT
BEGIN:VEVENT
DTSTART;TZID=Europe/Madrid:20220131T150000
DTEND;TZID=Europe/Madrid:20220131T160000
DTSTAMP:20260424T050938
CREATED:20210412T083611Z
LAST-MODIFIED:20220130T191205Z
UID:5094-1643641200-1643644800@linagalvez.eu
SUMMARY:S&D Grupo de trabajo de Empleo y Asuntos Sociales
DESCRIPTION:Grupo de trabajo interno del  S&D EMPL para coordinar las iniciativas legislativas que están en marcha.
URL:https://linagalvez.eu/agenda/sd-grupo-de-trabajo-de-empleo-y-asuntos-sociales-4-2-2-2-2-2-2-2-2-2-2-2-3/
CATEGORIES:Actualidad,Destacado,EMPL,Parlamento,S&D
ATTACH;FMTTYPE=image/jpeg:https://linagalvez.eu/wp-content/uploads/2020/11/SD-WG-ITRE.jpg
END:VEVENT
BEGIN:VEVENT
DTSTART;VALUE=DATE:20220201
DTEND;VALUE=DATE:20220203
DTSTAMP:20260424T050938
CREATED:20220130T192428Z
LAST-MODIFIED:20220201T102842Z
UID:5101-1643673600-1643846399@linagalvez.eu
SUMMARY:The Afghan Women Days
DESCRIPTION:En el marco de los Días de la Mujer Afgana se están organizando una serie de actos con la participación de destacadas mujeres afganas que fueron nominadas como finalistas del Premio Sájarov en 2021. En un esfuerzo por mantener la situación de las mujeres afganas en un lugar destacado de la agenda de la UE y de la comunidad internacional\, los actos se centrarán en la grave situación de las mujeres y las niñas en Afganistán tras la toma del poder por parte de los talibanes el pasado mes de agosto y el retroceso de sus derechos y su estatus en la sociedad afgana. \nLas Jornadas de la Mujer Afgana abordarán diferentes ángulos\, como la actual crisis humanitaria y el régimen represivo de los talibanes\, así como los retos que supone el exilio y la construcción de una nueva vida lejos de la patria
URL:https://linagalvez.eu/agenda/the-afghan-women-days/
CATEGORIES:Actualidad,Destacado,FEMM,Parlamento
ATTACH;FMTTYPE=image/jpeg:https://linagalvez.eu/wp-content/uploads/2022/01/The-Afghan-Women-Days.jpeg
END:VEVENT
BEGIN:VEVENT
DTSTART;TZID=Europe/Madrid:20220201T090000
DTEND;TZID=Europe/Madrid:20220201T110000
DTSTAMP:20260424T050938
CREATED:20210419T093724Z
LAST-MODIFIED:20220131T090108Z
UID:5097-1643706000-1643713200@linagalvez.eu
SUMMARY:Audiencia pública conjunta de las comisiones ITRE y CULT sobre la “Nueva iniciativa europea sobre la Bauhaus”
DESCRIPTION:El 1 de febrero\, CULT e ITRE organizan conjuntamente un intercambio de puntos de vista sobre la Nueva Bauhaus Europea. Esta iniciativa creativa e interdisciplinaria\, lanzada a principios de 2021\, tiene como objetivo conectar el Pacto Verde Europeo con nuestros espacios de vida y experiencias con proyectos transformadores anclados en tres valores fundamentales: sostenibilidad\, estética e inclusión. \n\nAdemás de los dos coponentes\, el Christian Ehler (ITRE) y el Marcos Ros Sempere (CULT)\, l@s oradores incluyen también a la Mariya Gabriel\, Comisaria europea de Innovación\, Investigación\, Cultura\, Educación y Juventud; la Presidencia francesa del Consejo; dos expertos de la Mesa Redonda de Alto Nivel sobre Bauhaus y representantes de otras Instituciones. En el evento también participarán miembros de los comités REGI y EMPL. Este intercambio de puntos de vista constituye el primer paso en el proceso de adopción de un informe conjunto de iniciativa propia CULT-ITRE sobre el tema.\n\nhttps://www.europarl.europa.eu/committees/en/product/product-details/20210602CHE08963
URL:https://linagalvez.eu/agenda/reunion-del-grupo-parlamentario-de-amistad-sobre-el-new-european-bauhaus-2-2/
CATEGORIES:Actualidad,Parlamento,S&D
ATTACH;FMTTYPE=image/jpeg:https://linagalvez.eu/wp-content/uploads/2021/04/New-European-Bauhausjpg.jpg
END:VEVENT
BEGIN:VEVENT
DTSTART;TZID=Europe/Madrid:20220201T090000
DTEND;TZID=Europe/Madrid:20220201T120000
DTSTAMP:20260424T050938
CREATED:20210830T165910Z
LAST-MODIFIED:20220201T102825Z
UID:5021-1643706000-1643716800@linagalvez.eu
SUMMARY:Comisión de Empleo y Asuntos Sociales
DESCRIPTION:Debates previstos \n\nIntercambio de puntos de vista con los directores ejecutivos de las agencias bajo el mandato de EMPL: Cedefop\, Eurofound\, EU-OSHA\, ETF y ELA\nSalarios mínimos adecuados en la Unión Europea – Informes a la comisión sobre las negociaciones (artículo 74\, apartado 3) – Coponentes: Dennis RADTKE (PPE\, DE)\, Agnes JONGERIUS (S&D\, NL)\n\nVotos \n\nUn nuevo marco estratégico de la UE sobre salud y seguridad en el trabajo posterior a 2020 (incluida una mejor protección de los trabajadores frente a la exposición a sustancias nocivas\, el estrés en el trabajo y las lesiones por movimientos repetitivos) – Adopción del proyecto de informe – Ponente: Marianne VIND (S&D\, DA)
URL:https://linagalvez.eu/agenda/comision-de-empleo-y-asuntos-sociales-2-2-2-2-2-2-2-2/
CATEGORIES:Actualidad,Destacado,EMPL,Parlamento
ATTACH;FMTTYPE=image/jpeg:https://linagalvez.eu/wp-content/uploads/2021/05/Estrategia-Industrial.jpg
END:VEVENT
BEGIN:VEVENT
DTSTART;TZID=Europe/Madrid:20220201T103000
DTEND;TZID=Europe/Madrid:20220201T120000
DTSTAMP:20260424T050938
CREATED:20210528T185833Z
LAST-MODIFIED:20220130T200051Z
UID:5107-1643711400-1643716800@linagalvez.eu
SUMMARY:Evento STOA. sobre el 'Uso de sumas globales en Programas Marco de investigación e innovación de la UE'
DESCRIPTION: Este evento STOA: sobre el ‘Uso de sumas globales en Programas Marco de investigación e innovación de la UE’ \nLa financiación de los Programas Marco de Investigación e Innovación de la Unión Europea (UE)\, como Horizonte Europa\, se ha basado tradicionalmente en el reembolso de los costes reales. Debido a la necesidad de una contabilidad de costos detallada\, este sistema conlleva una gran carga administrativa para los beneficiarios y ha sufrido una alta tasa de error en el pasado. Esto ha motivado la búsqueda de formas simplificadas de financiación\, como el uso de sumas globales. Con pagos basados ​​en los resultados obtenidos\, este último pretende simplificar la administración y poner el foco en el contenido científico y técnico de los proyectos. \nHace unos años\, la Comisión Europea (CE) lanzó un programa piloto de suma global\, dentro de Horizonte 2020\, en el que determinados temas utilizaban un esquema de financiación basado en sumas globales en lugar del método tradicional. Su objetivo era evaluar el uso de la financiación a tanto alzado\, y la CE publicó recientemente su evaluación de este piloto. Paralelamente\, STOA encargó un estudio para recopilar comentarios y reflexionar sobre el uso de la financiación a tanto alzado. \nEste evento de STOA tiene como objetivo presentar tanto estos estudios como las opiniones de diferentes partes interesadas\, con el fin de responder a la pregunta: ¿Es la suma global la herramienta adecuada para los programas de investigación de la UE? \nMás información AQUÍ
URL:https://linagalvez.eu/agenda/panel-stoa-presentacion-de-los-estudios-impacto-en-la-salud-del-5g-e-impacto-medioambiental-del-5g-2-2/
CATEGORIES:Actualidad,ITRE,STOA
ATTACH;FMTTYPE=image/jpeg:https://linagalvez.eu/wp-content/uploads/2021/05/Uso-de-sumas-globales-.jpeg
END:VEVENT
BEGIN:VEVENT
DTSTART;TZID=Europe/Madrid:20220201T123000
DTEND;TZID=Europe/Madrid:20220201T130000
DTSTAMP:20260424T050938
CREATED:20220130T194913Z
LAST-MODIFIED:20220201T102728Z
UID:5104-1643718600-1643720400@linagalvez.eu
SUMMARY:Reunión con ECODES. Fondo Social del Clima
DESCRIPTION:
URL:https://linagalvez.eu/agenda/reunion-con-ecodes-fondo-social-del-clima/
CATEGORIES:Actualidad,ITRE,Parlamento
ATTACH;FMTTYPE=image/jpeg:https://linagalvez.eu/wp-content/uploads/2020/07/Calendario2.jpg
END:VEVENT
BEGIN:VEVENT
DTSTART;TZID=Europe/Madrid:20220202T090000
DTEND;TZID=Europe/Madrid:20220202T160000
DTSTAMP:20260424T050938
CREATED:20210611T142459Z
LAST-MODIFIED:20220201T102905Z
UID:5096-1643792400-1643817600@linagalvez.eu
SUMMARY:Reunión de la Comisión de Industria\, Investigación y Energía (ITRE)
DESCRIPTION:El Comité ITRE abordará en la agenda de tarde los siguientes temas; \n9.00-12.00 Comisión ITRE \nSe van a debatir el presupuesto para 2023 y algunos expedientes relacionados con el paquete legislativo Fit for 55. En concreto\, se presenta el borrador del informe sobre el Fondo Social del Clima\, del que la eurodiputada es relatora en la sombra\, y el mecanismo de ajuste en frontera de carbono. \n13.45-15.45 Comisión ITRE \nIntercambio de puntos de vista con la Comisaria de Energía sobre los precios de la energía en la UE y presentación por parte de la Comisaria del nuevo marco europeo para descarbonizar los mercados del gas\, promover el hidrógeno y reducir las emisiones de metano y la revisión de la Directiva de Eficiencia Energética de los Edificios.
URL:https://linagalvez.eu/agenda/reunion-de-la-comision-de-industria-investigacion-y-energia-itre-17-2-2-2-2-2-2-3-2-2-2-2-2-2-2-3/
CATEGORIES:Actualidad,Destacado,ITRE,Parlamento
ATTACH;FMTTYPE=image/jpeg:https://linagalvez.eu/wp-content/uploads/2021/06/Itre-votacion.jpg
END:VEVENT
BEGIN:VEVENT
DTSTART;TZID=Europe/Madrid:20220202T120000
DTEND;TZID=Europe/Madrid:20220202T124500
DTSTAMP:20260424T050938
CREATED:20220130T194913Z
LAST-MODIFIED:20220131T075233Z
UID:5110-1643803200-1643805900@linagalvez.eu
SUMMARY:Reunión con WWF-Adena. Fondo Social del Clima
DESCRIPTION:
URL:https://linagalvez.eu/agenda/reunion-con-ecodes-fondo-social-del-clima-2/
CATEGORIES:Actualidad,ITRE,Parlamento
ATTACH;FMTTYPE=image/jpeg:https://linagalvez.eu/wp-content/uploads/2020/07/Calendario2.jpg
END:VEVENT
END:VCALENDAR