BEGIN:VCALENDAR
VERSION:2.0
PRODID:-//Lina Gálvez - ECPv6.15.20//NONSGML v1.0//EN
CALSCALE:GREGORIAN
METHOD:PUBLISH
X-WR-CALNAME:Lina Gálvez
X-ORIGINAL-URL:https://linagalvez.eu
X-WR-CALDESC:Eventos para Lina Gálvez
REFRESH-INTERVAL;VALUE=DURATION:PT1H
X-Robots-Tag:noindex
X-PUBLISHED-TTL:PT1H
BEGIN:VTIMEZONE
TZID:Europe/Madrid
BEGIN:DAYLIGHT
TZOFFSETFROM:+0100
TZOFFSETTO:+0200
TZNAME:CEST
DTSTART:20200329T010000
END:DAYLIGHT
BEGIN:STANDARD
TZOFFSETFROM:+0200
TZOFFSETTO:+0100
TZNAME:CET
DTSTART:20201025T010000
END:STANDARD
BEGIN:DAYLIGHT
TZOFFSETFROM:+0100
TZOFFSETTO:+0200
TZNAME:CEST
DTSTART:20210328T010000
END:DAYLIGHT
BEGIN:STANDARD
TZOFFSETFROM:+0200
TZOFFSETTO:+0100
TZNAME:CET
DTSTART:20211031T010000
END:STANDARD
BEGIN:DAYLIGHT
TZOFFSETFROM:+0100
TZOFFSETTO:+0200
TZNAME:CEST
DTSTART:20220327T010000
END:DAYLIGHT
BEGIN:STANDARD
TZOFFSETFROM:+0200
TZOFFSETTO:+0100
TZNAME:CET
DTSTART:20221030T010000
END:STANDARD
END:VTIMEZONE
BEGIN:VEVENT
DTSTART;TZID=Europe/Madrid:20210601T090000
DTEND;TZID=Europe/Madrid:20210601T100000
DTSTAMP:20260420T081831
CREATED:20200705T124907Z
LAST-MODIFIED:20210528T192011Z
UID:1966-1622538000-1622541600@linagalvez.eu
SUMMARY:Group Meeting S&D. Grupo de Trabajo conjunto de Economía\, Presupuestos y Empleo
DESCRIPTION:
URL:https://linagalvez.eu/agenda/group-meeting-sd-2-2/
CATEGORIES:Actualidad,Parlamento,S&D
ATTACH;FMTTYPE=image/png:https://linagalvez.eu/wp-content/uploads/2020/01/1-S&D.svg.png
END:VEVENT
BEGIN:VEVENT
DTSTART;TZID=Europe/Madrid:20210601T100000
DTEND;TZID=Europe/Madrid:20210601T113000
DTSTAMP:20260420T081831
CREATED:20210312T181424Z
LAST-MODIFIED:20210528T192119Z
UID:3760-1622541600-1622547000@linagalvez.eu
SUMMARY:Comisión Industria\, Investigación y Energía ITRE
DESCRIPTION:Presentación de las actividades actuales y futuras del Centro de Satélites de la Unión Europea por el Embajador Sorin Dumitru Ducaru\, Director de SatCen y Matthias Petschke\, Director de Espacio (DG DEFIS)\, También tendrá lugar un intercambio de ideas con Timo Pesonen\, Director General de Industria de Defensa y Espacio (DG DEFIS)\, sobre el Acuerdo Marco Financiero de Asociación en el marco del Programa Espacial de la UE.
URL:https://linagalvez.eu/agenda/comision-industria-investigacion-y-energia-2-2-3-2-2-2-2-2/
CATEGORIES:Actualidad,ITRE,Parlamento
ATTACH;FMTTYPE=image/png:https://linagalvez.eu/wp-content/uploads/2020/09/ITRE.-Logo.png
END:VEVENT
BEGIN:VEVENT
DTSTART;TZID=Europe/Madrid:20210601T103000
DTEND;TZID=Europe/Madrid:20210601T110000
DTSTAMP:20260420T081831
CREATED:20210528T192325Z
LAST-MODIFIED:20210531T162626Z
UID:3764-1622543400-1622545200@linagalvez.eu
SUMMARY:Acto de firma del Manifiesto sobre el Área de Innovación Europea EIA
DESCRIPTION:
URL:https://linagalvez.eu/agenda/acto-de-firma-del-manifiesto-sobre-el-area-de-innovacion-europea-eia/
CATEGORIES:Destacado,ITRE,Parlamento,STOA
ATTACH;FMTTYPE=image/jpeg:https://linagalvez.eu/wp-content/uploads/2021/05/Manifiesto-Europeo-de-Innovacion.jpg
END:VEVENT
BEGIN:VEVENT
DTSTART;TZID=Europe/Madrid:20210601T123000
DTEND;TZID=Europe/Madrid:20210601T143000
DTSTAMP:20260420T081831
CREATED:20210301T093643Z
LAST-MODIFIED:20250210T090243Z
UID:3767-1622550600-1622557800@linagalvez.eu
SUMMARY:S&D Reunión de la Delegación Socialista Española
DESCRIPTION:Reunión interna de trabajo y de coordinación.
URL:https://linagalvez.eu/agenda/sd-reunion-de-la-delegacion-socialista-espanola-11-2-2-2-2/
CATEGORIES:Parlamento,S&D
ATTACH;FMTTYPE=image/png:https://linagalvez.eu/wp-content/uploads/2020/07/Delegacion-española.png
END:VEVENT
BEGIN:VEVENT
DTSTART;TZID=Europe/Madrid:20210601T140000
DTEND;TZID=Europe/Madrid:20210601T170000
DTSTAMP:20260420T081831
CREATED:20210412T083611Z
LAST-MODIFIED:20210528T192644Z
UID:3769-1622556000-1622566800@linagalvez.eu
SUMMARY:S&D Grupo de trabajo de Empleo y Asuntos Sociales
DESCRIPTION:Grupo de trabajo S&D EMPL en el que se tratarán los temas que se debatirán en la Comisión EMPL del martes 23 abril.
URL:https://linagalvez.eu/agenda/sd-grupo-de-trabajo-de-empleo-y-asuntos-sociales-4-2-2-3/
CATEGORIES:Actualidad,Destacado,EMPL,Parlamento
ATTACH;FMTTYPE=image/jpeg:https://linagalvez.eu/wp-content/uploads/2020/11/SD-WG-ITRE.jpg
END:VEVENT
BEGIN:VEVENT
DTSTART;TZID=Europe/Madrid:20210601T160000
DTEND;TZID=Europe/Madrid:20210601T173000
DTSTAMP:20260420T081831
CREATED:20210531T100606Z
LAST-MODIFIED:20210531T162637Z
UID:3787-1622563200-1622568600@linagalvez.eu
SUMMARY:Participación en el Fórum Europeo de Internet (EIF)
DESCRIPTION:La Eurodiputada Lina Gálvez participará en el Fórum Europeo de Internet (EIF) en relación a la nueva Ley europea de Servicios Digitales\, en concreto se centrará  en las oportunidades y los desafíos que ofrece esta reforma legislativa para convertir el entorno online en más seguro\, inclusivo\, innovador y abierto. \nEste debate se centrará en discutir diversas perspectivas sobre la propuesta de la Comisión de una Ley de Servicios Digitales y cómo crear mejor un conjunto de normas completo\, viable y eficaz para los servicios digitales en Europa. \nMás información AQUÍ
URL:https://linagalvez.eu/agenda/participacion-en-el-forum-europeo-de-internet-eif/
CATEGORIES:Actualidad,Destacado,ITRE,Parlamento,S&D,STOA
ATTACH;FMTTYPE=image/jpeg:https://linagalvez.eu/wp-content/uploads/2021/05/Europenan-Internet-Forum.jpg
END:VEVENT
BEGIN:VEVENT
DTSTART;TZID=Europe/Madrid:20210601T181500
DTEND;TZID=Europe/Madrid:20210601T203000
DTSTAMP:20260420T081831
CREATED:20210208T092530Z
LAST-MODIFIED:20210528T192954Z
UID:3772-1622571300-1622579400@linagalvez.eu
SUMMARY:S&D Group Meeting
DESCRIPTION:Reunión del Grupo S&D preparatoria de la siguiente sesión plenaria.
URL:https://linagalvez.eu/agenda/sd-group-meeting-23-3-2-2-4-2-2/
CATEGORIES:Actualidad,Parlamento,S&D
ATTACH;FMTTYPE=image/png:https://linagalvez.eu/wp-content/uploads/2020/01/1-S&D.svg.png
END:VEVENT
BEGIN:VEVENT
DTSTART;TZID=Europe/Madrid:20210602T090000
DTEND;TZID=Europe/Madrid:20210602T120000
DTSTAMP:20260420T081831
CREATED:20210208T092530Z
LAST-MODIFIED:20210531T072852Z
UID:3774-1622624400-1622635200@linagalvez.eu
SUMMARY:S&D Group Meeting
DESCRIPTION:Reunión del Grupo S&D preparatoria de la siguiente sesión plenaria.
URL:https://linagalvez.eu/agenda/sd-group-meeting-23-3-2-2-4-2-3/
CATEGORIES:Actualidad,Parlamento,S&D
ATTACH;FMTTYPE=image/png:https://linagalvez.eu/wp-content/uploads/2020/01/1-S&D.svg.png
END:VEVENT
BEGIN:VEVENT
DTSTART;TZID=Europe/Madrid:20210602T140000
DTEND;TZID=Europe/Madrid:20210602T170000
DTSTAMP:20260420T081831
CREATED:20200122T145648Z
LAST-MODIFIED:20210602T070935Z
UID:3795-1622642400-1622653200@linagalvez.eu
SUMMARY:Reunión de coordinación Oficina Parlamentaria LGM
DESCRIPTION:
URL:https://linagalvez.eu/agenda/reunion-de-coordinacion-oficina-parlamentaria-lgm-5-2-2-2-2-2/
CATEGORIES:Actualidad,Parlamento
ATTACH;FMTTYPE=image/jpeg:https://linagalvez.eu/wp-content/uploads/2020/07/Calendario.jpg
END:VEVENT
BEGIN:VEVENT
DTSTART;TZID=Europe/Madrid:20210602T170000
DTEND;TZID=Europe/Madrid:20210602T183000
DTSTAMP:20260420T081831
CREATED:20210208T092530Z
LAST-MODIFIED:20210601T171305Z
UID:3776-1622653200-1622658600@linagalvez.eu
SUMMARY:S&D Grupo de trabajo extraordinario. “NO to AI-powered bias\, inequality and mass surveillance”
DESCRIPTION:Reunión del Grupo S&D preparatoria de la siguiente sesión plenaria.
URL:https://linagalvez.eu/agenda/sd-group-meeting-23-3-2-2-4-2-2-2/
CATEGORIES:Actualidad,Destacado,Parlamento,S&D
ATTACH;FMTTYPE=image/png:https://linagalvez.eu/wp-content/uploads/2020/01/1-S&D.svg.png
END:VEVENT
BEGIN:VEVENT
DTSTART;TZID=Europe/Madrid:20210603T090000
DTEND;TZID=Europe/Madrid:20210603T160000
DTSTAMP:20260420T081831
CREATED:20210312T175910Z
LAST-MODIFIED:20210601T171741Z
UID:3779-1622710800-1622736000@linagalvez.eu
SUMMARY:Comisión de Empleo y Asuntos Sociales
DESCRIPTION:Debates previstos \n\nAdequate minimum wages in the European Union (COD)\nIntroduction of an European Social Security number with a personal labour card (RSP)\,\nStructured dialogue with Valdis DOMBROVSKIS\, Executive Vice President of the European Commission with responsibility for An Economy that Works for People and Nicolas SCHMIT\, Commissioner for Jobs and Social Rights\nHearing of Juan MENÉNDEZ-VALDÉS\, the EU-OSHA Executive Director-nominee\nThe impact of teleworking and digital work on workers and society – Presentation of a study
URL:https://linagalvez.eu/agenda/comision-de-empleo-y-asuntos-sociales-2-2/
CATEGORIES:Actualidad,Destacado,EMPL,Parlamento
ATTACH;FMTTYPE=image/jpeg:https://linagalvez.eu/wp-content/uploads/2021/01/eldiario_linagalvez.jpeg
END:VEVENT
BEGIN:VEVENT
DTSTART;TZID=Europe/Madrid:20210604T093000
DTEND;TZID=Europe/Madrid:20210604T120000
DTSTAMP:20260420T081831
CREATED:20200122T145648Z
LAST-MODIFIED:20210531T073933Z
UID:3781-1622799000-1622808000@linagalvez.eu
SUMMARY:Reunión de coordinación Oficina Parlamentaria LGM
DESCRIPTION:
URL:https://linagalvez.eu/agenda/reunion-de-coordinacion-oficina-parlamentaria-lgm-5-2-2-2-2/
CATEGORIES:Actualidad,Parlamento
ATTACH;FMTTYPE=image/jpeg:https://linagalvez.eu/wp-content/uploads/2020/07/Calendario.jpg
END:VEVENT
BEGIN:VEVENT
DTSTART;TZID=Europe/Madrid:20210607T080000
DTEND;TZID=Europe/Madrid:20210610T170000
DTSTAMP:20260420T081831
CREATED:20210211T164450Z
LAST-MODIFIED:20210607T063635Z
UID:3085-1623052800-1623344400@linagalvez.eu
SUMMARY:Pleno del Parlamento Europeo
DESCRIPTION:Pleno. Estrasburgo\, 7-10 de junio 2021 \nCertificado Covid digital de la UE\nAprobación final al Certificado Covid digital de la UE\, para facilitar los viajes dentro de la UE durante la pandemia. El pleno debatirá el asunto el martes y lo votará al día siguiente. \nPremio LUX\nEl presidente del PE\, David Sassoli\, revelará la película ganadora de la edición 2021 del Premio del Público LUX en una ceremonia en el hemiciclo de Estrasburgo el miércoles a mediodía. En el acto participarán representantes de las tres cintas finalistas. La ganadora es elegida en votación por eurodiputados y ciudadanos\, con un 50% del peso en el resultado para cada uno. \nEstrategia para la biodiversidad\nEl pleno debatirá el lunes la nueva estrategia sobre biodiversidad para 2030 y la votará al día siguiente. Los eurodiputados reclaman que al menos el 30% de las áreas terrestres y\nmarinas de UE gocen de protección\, así como medidas urgentes para detener la reducción de\nlos abejas y otros polinizadores. \nBielorrusia\nLos eurodiputados discutirán con el alto representante de la UE para la Política Exterior\, Josep Borrell\, cómo responder al aterrizaje forzado en Minsk de un avión de Ryanair para detener a continuación a un periodista bielorruso\, Roman Protasevich. Tras el debate\, el pleno votará una resolución. \nSuspensión de las patentes de las vacunas\nLos eurodiputados se pronunciarán el miércoles sobre la posibilidad de pedir en la Organización Mundial del Comercio la retirada temporal de las patentes contra la Covid-19. \nEuropa Global\nEl pleno del Parlamento votará el martes el acuerdo histórico de la UE alcanzado en diciembre para destinar 79 500 millones de euros al fondo Europa Global. El programa apoyará a los países vecinos y al resto del mundo y se centrará en proyectos que apoyen los valores europeos\, como los derechos humanos y la democracia. \nEstado de derecho\nEn un debate el miércoles por la tarde\, el pleno tratará cómo se aplicarán las nuevas reglas sobre condicionalidad de los fondos europeos al respeto del Estado de derecho y los valores de la UE. Los eurodiputados votarán una resolución al día siguiente. \nFondo Social Europeo\nEl pleno tiene previsto adoptar el nuevo Fondo Social Europeo\, que dedicará parte de sus 87 995 millones de euros a luchar contra el desempleo juvenil y la pobreza infantil. Además\, desempeña un papel importante en la lucha contra las consecuencias socioeconómicas de la pandemia de Covid-19. \nCrisis migratoria en Ceuta\nLos recientes acontecimientos en Ceuta\, tras el cruce de miles de personas\, entre ellos centenares de niños\, desde Marruecos\, centrarán un debate el jueves en el pleno. \nCuba\nSe debatirá la situación política y de los derechos humanos en Cuba con el Alto Representante\, Josep Borrell\, el martes por la tarde. \nOtros asuntos en la agenda\n\nRespuesta a la iniciativa ciudadana europea para acabar con las jaulas en las granjas de la UE.\nCiberataques recientes contra instituciones de la UE e infraestructuras críticas.\nResolución que demanda tratar el conflicto de interés del primer ministro checo.\nEvalución que la cumbre extraordinaria que tuvo lugar en mayo.\nDebate con la Comisión y el Consejo sobre los planes nacionales de reforma.
URL:https://linagalvez.eu/agenda/pleno-del-parlamento-europeo-2-2-2-2-2-2/
CATEGORIES:Actualidad,Parlamento
ATTACH;FMTTYPE=image/jpeg:https://linagalvez.eu/wp-content/uploads/2020/03/European_Parliament_Strasbourg_Hemicycle_-_Diliff-2-scaled.jpg
END:VEVENT
BEGIN:VEVENT
DTSTART;TZID=Europe/Madrid:20210607T130000
DTEND;TZID=Europe/Madrid:20210607T140000
DTSTAMP:20260420T081831
CREATED:20210412T083611Z
LAST-MODIFIED:20210604T162608Z
UID:3810-1623070800-1623074400@linagalvez.eu
SUMMARY:S&D Grupo de trabajo de Empleo y Asuntos Sociales
DESCRIPTION:Grupo de trabajo S&D EMPL en el que se tratarán los temas que se debatirán en el pleno de la semana
URL:https://linagalvez.eu/agenda/sd-grupo-de-trabajo-de-empleo-y-asuntos-sociales-4-2-2-3-2/
CATEGORIES:Actualidad,Destacado,EMPL,Parlamento
ATTACH;FMTTYPE=image/jpeg:https://linagalvez.eu/wp-content/uploads/2020/11/SD-WG-ITRE.jpg
END:VEVENT
BEGIN:VEVENT
DTSTART;TZID=Europe/Madrid:20210607T170000
DTEND;TZID=Europe/Madrid:20210607T180000
DTSTAMP:20260420T081831
CREATED:20210412T083611Z
LAST-MODIFIED:20210702T114236Z
UID:3996-1623085200-1623088800@linagalvez.eu
SUMMARY:S&D Grupo de trabajo de Empleo y Asuntos Sociales
DESCRIPTION:Grupo de trabajo S&D EMPL en el que se tratarán los temas que se debatirán en el pleno de la semana
URL:https://linagalvez.eu/agenda/sd-grupo-de-trabajo-de-empleo-y-asuntos-sociales-4-2-2-3-2-2/
CATEGORIES:Actualidad,Destacado,EMPL,Parlamento
ATTACH;FMTTYPE=image/jpeg:https://linagalvez.eu/wp-content/uploads/2020/11/SD-WG-ITRE.jpg
END:VEVENT
BEGIN:VEVENT
DTSTART;TZID=Europe/Madrid:20210607T170000
DTEND;TZID=Europe/Madrid:20210607T220000
DTSTAMP:20260420T081831
CREATED:20210423T144018Z
LAST-MODIFIED:20210604T162311Z
UID:3808-1623085200-1623103200@linagalvez.eu
SUMMARY:Intervención. Debate en pleno sobre Participación en el debate conjunto sobre Pequeñas y medianas empresas.
DESCRIPTION:La Eurodiputada Lina Gálvez participará en el plenario dentro en el punto del orden del día relacionado con las Pequeñas y medianas empresas\, SME\,s. \nSe podrá seguir el debate en este enlace.
URL:https://linagalvez.eu/agenda/participacion-en-plenario-en-el-debate-conjunto-sobre-investigacion-e-innovacion-2-2-2-2/
CATEGORIES:Destacado,EMPL,STOA
ATTACH;FMTTYPE=image/jpeg:https://linagalvez.eu/wp-content/uploads/2021/04/LGM_intervencion_290421.jpg
END:VEVENT
BEGIN:VEVENT
DTSTART;TZID=Europe/Madrid:20210608T170000
DTEND;TZID=Europe/Madrid:20210608T183000
DTSTAMP:20260420T081831
CREATED:20210208T092530Z
LAST-MODIFIED:20210607T064528Z
UID:3814-1623171600-1623177000@linagalvez.eu
SUMMARY:S&D Group Meeting sobre Propiedad Intelectual
DESCRIPTION:Reunión del Grupo S&D monográfica sobre Plan de Acción de la Propiedad Intelectual.
URL:https://linagalvez.eu/agenda/sd-group-meeting-23-3-2-2-4-2-3-2/
CATEGORIES:Actualidad,ITRE,Parlamento,S&D
ATTACH;FMTTYPE=image/png:https://linagalvez.eu/wp-content/uploads/2020/01/1-S&D.svg.png
END:VEVENT
BEGIN:VEVENT
DTSTART;TZID=Europe/Madrid:20210608T180000
DTEND;TZID=Europe/Madrid:20210608T200000
DTSTAMP:20260420T081831
CREATED:20210208T092530Z
LAST-MODIFIED:20210607T064656Z
UID:3817-1623175200-1623182400@linagalvez.eu
SUMMARY:S&D Group Meeting
DESCRIPTION:Reunión del Grupo S&D preparatoria de la siguiente sesión plenaria.
URL:https://linagalvez.eu/agenda/sd-group-meeting-23-3-2-2-4-2-2-3/
CATEGORIES:Actualidad,Parlamento,S&D
ATTACH;FMTTYPE=image/png:https://linagalvez.eu/wp-content/uploads/2020/01/1-S&D.svg.png
END:VEVENT
BEGIN:VEVENT
DTSTART;TZID=Europe/Madrid:20210609T133000
DTEND;TZID=Europe/Madrid:20210609T150000
DTSTAMP:20260420T081831
CREATED:20210208T092530Z
LAST-MODIFIED:20210607T065935Z
UID:3824-1623245400-1623250800@linagalvez.eu
SUMMARY:S&D Group Meeting. Ley de Servicios Digitales.
DESCRIPTION:Reunión del Grupo horizontal de trabajo S&D sobre la Ley de Servicios Digitales\, DSA\, y el Acta de Mercado Digital\, DMA.
URL:https://linagalvez.eu/agenda/sd-group-meeting-23-3-2-2-4-2-3-2-2/
CATEGORIES:Actualidad,ITRE,Parlamento,S&D
ATTACH;FMTTYPE=image/png:https://linagalvez.eu/wp-content/uploads/2020/01/1-S&D.svg.png
END:VEVENT
BEGIN:VEVENT
DTSTART;TZID=Europe/Madrid:20210609T180000
DTEND;TZID=Europe/Madrid:20210609T200000
DTSTAMP:20260420T081831
CREATED:20210208T092530Z
LAST-MODIFIED:20210607T064756Z
UID:3820-1623261600-1623268800@linagalvez.eu
SUMMARY:S&D Group Meeting
DESCRIPTION:Reunión del Grupo S&D preparatoria de la siguiente sesión plenaria.
URL:https://linagalvez.eu/agenda/sd-group-meeting-23-3-2-2-4-2-2-3-2/
CATEGORIES:Actualidad,Parlamento,S&D
ATTACH;FMTTYPE=image/png:https://linagalvez.eu/wp-content/uploads/2020/01/1-S&D.svg.png
END:VEVENT
BEGIN:VEVENT
DTSTART;TZID=Europe/Madrid:20210609T200000
DTEND;TZID=Europe/Madrid:20210609T213000
DTSTAMP:20260420T081831
CREATED:20210423T144018Z
LAST-MODIFIED:20210609T081124Z
UID:3818-1623268800-1623274200@linagalvez.eu
SUMMARY:Intervención. Debate en pleno sobre cuestiones FEMM
DESCRIPTION:La Eurodiputada Lina Gálvez participará en el plenario dentro en el punto del orden del día relacionado con la Promoción de la igualdad de género en la educación y las carreras STEM ( Promoting gender equality in science\, technology\, engineering and mathematics (STEM) education and careers). \n\nSe discutirán en el plenario dos puntos importantes relacionados con los asuntos de la Comisión de Derechos de las Mujeres e Igualdad de Género #FEMM:\n\n\n \n\n\n✅Ciberseguridad y Mujeres en la política: lucha contra el ciberacoso\n\n\n✅La Igualdad de género en la educación y las carreras STEM\n\n\n \n\n\nLos debates de los asuntos FEMM comenzarán entorno a las 20h\nPodrán seguirse en directo en este ENLACE
URL:https://linagalvez.eu/agenda/participacion-en-plenario-en-el-debate-conjunto-sobre-investigacion-e-innovacion-2-2-2-2-2/
CATEGORIES:Destacado,EMPL,STOA
ATTACH;FMTTYPE=image/jpeg:https://linagalvez.eu/wp-content/uploads/2021/05/estrategia-industrial-europea.jpg
END:VEVENT
BEGIN:VEVENT
DTSTART;TZID=Europe/Madrid:20210611T130000
DTEND;TZID=Europe/Madrid:20210611T140000
DTSTAMP:20260420T081831
CREATED:20200705T094158Z
LAST-MODIFIED:20210611T133054Z
UID:3827-1623416400-1623420000@linagalvez.eu
SUMMARY:Reunión de equipo. Coordinación interna
DESCRIPTION:
URL:https://linagalvez.eu/agenda/reunion-de-equipo-coordinacion-interna-2-2-2/
CATEGORIES:Actualidad,Parlamento
END:VEVENT
BEGIN:VEVENT
DTSTART;TZID=Europe/Madrid:20210612T080000
DTEND;TZID=Europe/Madrid:20210612T170000
DTSTAMP:20260420T081831
CREATED:20240513T103331Z
LAST-MODIFIED:20240513T103413Z
UID:9168-1623484800-1623517200@linagalvez.eu
SUMMARY:Acto sobre Economía y Empleo. Ponencia Marco del 40 Congreso del PSOE\,
DESCRIPTION:Acto sobre Economía y Empleo como parte de los trabajos preparatorios de la Ponencia Marco del 40 Congreso del PSOE\, en el que intervienen la vicepresidenta segunda del Gobierno y ministra de Economía\, Nadia Calviño\, la portavoz del Ejecutivo y ministra de Hacienda\, María Jesús Montero\, la coordinadora de la Ponencia Marco del 40 Congreso\, Lina Gálvez\, y Jonás Fernández\, eurodiputado y ponente del capítulo ‘Economía y Empleo’.
URL:https://linagalvez.eu/agenda/9168/
CATEGORIES:Actualidad,Andalucía,EMPL,FEMM,S&D
ATTACH;FMTTYPE=image/jpeg:https://linagalvez.eu/wp-content/uploads/2024/05/51242562949_bdc0893510_o.jpg
END:VEVENT
BEGIN:VEVENT
DTSTART;TZID=Europe/Madrid:20210614T110000
DTEND;TZID=Europe/Madrid:20210614T120000
DTSTAMP:20260420T081831
CREATED:20210611T132859Z
LAST-MODIFIED:20210611T132859Z
UID:3848-1623668400-1623672000@linagalvez.eu
SUMMARY:Innovation at the heart of Next Generation EU
DESCRIPTION:Las innovaciones y las nuevas tecnologías de próxima generación son los principales impulsores de NextGenerationEU. El fondo NextGenerationEU debe apoyar proyectos de innovación ambiciosos en varios ecosistemas industriales\, en la salud\, para un suministro de alimentos sostenible\, la generación de energía verde y movilidad limpia. Los proyectos que se financian son necesarios para asegurar un futuro sostenible para el planeta y las personas. \nEste Foro organizado por K4I intenta reflexionar sobre el concepto de Innovación en el corazón de los fondos NextGenerationEU \nhttps://www.knowledge4innovation.eu/events/innovation-at-the-heart-of-nextgenerationeu/
URL:https://linagalvez.eu/agenda/innovation-at-the-heart-of-next-generation-eu/
CATEGORIES:Destacado,ITRE,S&D,STOA
ATTACH;FMTTYPE=image/jpeg:https://linagalvez.eu/wp-content/uploads/2021/06/Innovation-at-the-heart-of-Next-Generation-EU.jpg
END:VEVENT
BEGIN:VEVENT
DTSTART;TZID=Europe/Madrid:20210614T140000
DTEND;TZID=Europe/Madrid:20210614T153000
DTSTAMP:20260420T081831
CREATED:20210611T133737Z
LAST-MODIFIED:20210611T133753Z
UID:3852-1623679200-1623684600@linagalvez.eu
SUMMARY:Grupo de Trabajo Horizonte Europa
DESCRIPTION:Grupo de trabajo en el Parlamento Europeo dedicado a hacer el seguimiento de la implementación del programa de investigación e innovación Horizonte Europa.
URL:https://linagalvez.eu/agenda/grupo-de-trabajo-horizonte-europa/
CATEGORIES:Destacado,ITRE,S&D
ATTACH;FMTTYPE=image/png:https://linagalvez.eu/wp-content/uploads/2021/06/Horizon-Europe.png
END:VEVENT
BEGIN:VEVENT
DTSTART;TZID=Europe/Madrid:20210615T100000
DTEND;TZID=Europe/Madrid:20210615T103000
DTSTAMP:20260420T081831
CREATED:20200921T070440Z
LAST-MODIFIED:20210611T135540Z
UID:3844-1623751200-1623753000@linagalvez.eu
SUMMARY:Committee on Women’s Rights and Gender Equality FEMM
DESCRIPTION:Presentación de la opinión sobre salarios mínimos\, de la que es relatora la eurodiputada Lina Gálvez. \nLa sesión podrá ser seguida en el siguiente enlace AQUI
URL:https://linagalvez.eu/agenda/committee-on-womens-rights-and-gender-equality-femm-7-2-2-2/
CATEGORIES:Destacado,FEMM,Parlamento
ATTACH;FMTTYPE=image/jpeg:https://linagalvez.eu/wp-content/uploads/2021/05/Estrategia-Industrial.jpg
END:VEVENT
BEGIN:VEVENT
DTSTART;TZID=Europe/Madrid:20210615T103000
DTEND;TZID=Europe/Madrid:20210615T113000
DTSTAMP:20260420T081831
CREATED:20210412T080804Z
LAST-MODIFIED:20210611T135952Z
UID:3862-1623753000-1623756600@linagalvez.eu
SUMMARY:S&D ITRE Working Group meeting
DESCRIPTION:Grupo de trabajo S&D ITRE en el que se tratarán los temas que se debatirán en el siguiente Pleno.
URL:https://linagalvez.eu/agenda/sd-itre-working-group-meeting-2-4-2/
CATEGORIES:Actualidad,ITRE,S&D
ATTACH;FMTTYPE=image/png:https://linagalvez.eu/wp-content/uploads/2020/01/1-S&D.svg.png
END:VEVENT
BEGIN:VEVENT
DTSTART;TZID=Europe/Madrid:20210615T103000
DTEND;TZID=Europe/Madrid:20210615T123000
DTSTAMP:20260420T081831
CREATED:20210525T064413Z
LAST-MODIFIED:20210611T140220Z
UID:3843-1623753000-1623760200@linagalvez.eu
SUMMARY:Comité conjunto de las Comisiones FEMM y LIBE
DESCRIPTION:Reunión conjunta de las Comisiones FEMM y LIBE considerarán un proyecto de informe legislativo de propia iniciativa que pide a la Comisión que presente una Directiva sobre la lucha contra la ciberviolencia de género. \n\n\nEl proyecto de texto identifica los «delitos informáticos» como base jurídica de la Directiva de conformidad con el artículo 83\, apartado 1\, del TFUE). Se centra en la lucha contra la ciberviolencia como expresión de la violencia de género con especial atención a la violencia contra las mujeres y aborda aspectos como las medidas encaminadas a la prevención del delito\, a la mejora de la seguridad en línea y a afrontar eficazmente este fenómeno. \nMás Info
URL:https://linagalvez.eu/agenda/comite-especial-sobe-inteligencia-artificial-2-4/
CATEGORIES:Destacado,FEMM,Parlamento
ATTACH;FMTTYPE=image/jpeg:https://linagalvez.eu/wp-content/uploads/2021/05/Ciberacoso.jpg
END:VEVENT
BEGIN:VEVENT
DTSTART;TZID=Europe/Madrid:20210615T163000
DTEND;TZID=Europe/Madrid:20210615T173000
DTSTAMP:20260420T081831
CREATED:20210611T135205Z
LAST-MODIFIED:20210611T135254Z
UID:3855-1623774600-1623778200@linagalvez.eu
SUMMARY:Mujeres en situación de pobreza; el impacto COVID
DESCRIPTION:a pandemia de COVID-19 y su crisis económica asociada han afectado a las mujeres de manera diferente que a los hombres en la UE. Los efectos de la crisis del COVID-19 están poniendo en peligro los avances logrados en las últimas décadas en materia de reducción de las desigualdades de género. El objetivo de esta audiencia es analizar los principales elementos y causas de la pobreza de las mujeres en Europa y en terceros países. El evento también quiere discutir cuáles son los principales impulsores de la pobreza\, cuál es la situación socioeconómica de las mujeres en Europa y cómo la pandemia COVID-19 la ha impactado. \nEl resultado de la audiencia alimentará el próximo informe de iniciativa propia de FEMM sobre «La pobreza de las mujeres en Europa».
URL:https://linagalvez.eu/agenda/mujeres-en-situacion-de-pobreza-el-impacto-covid/
CATEGORIES:Actualidad,FEMM,S&D
ATTACH;FMTTYPE=image/jpeg:https://linagalvez.eu/wp-content/uploads/2021/06/Mujeres-y-pobreza.jpeg
END:VEVENT
BEGIN:VEVENT
DTSTART;TZID=Europe/Madrid:20210615T164500
DTEND;TZID=Europe/Madrid:20210615T184500
DTSTAMP:20260420T081831
CREATED:20200921T070440Z
LAST-MODIFIED:20210611T140628Z
UID:3845-1623775500-1623782700@linagalvez.eu
SUMMARY:Committee on Women’s Rights and Gender Equality FEMM
DESCRIPTION:Debate sobre la perspectiva de género en los planes nacionales y en la implementación del Mecanismo de Recuperación y Resiliencia. \nLa sesión podrá ser seguida en el siguiente enlace AQUI
URL:https://linagalvez.eu/agenda/committee-on-womens-rights-and-gender-equality-femm-7-2-2-3/
CATEGORIES:FEMM,Parlamento
ATTACH;FMTTYPE=image/jpeg:https://linagalvez.eu/wp-content/uploads/2021/04/EMPL_220421.jpg
END:VEVENT
END:VCALENDAR