BEGIN:VCALENDAR
VERSION:2.0
PRODID:-//Lina Gálvez - ECPv6.15.20//NONSGML v1.0//EN
CALSCALE:GREGORIAN
METHOD:PUBLISH
X-ORIGINAL-URL:https://linagalvez.eu
X-WR-CALDESC:Eventos para Lina Gálvez
REFRESH-INTERVAL;VALUE=DURATION:PT1H
X-Robots-Tag:noindex
X-PUBLISHED-TTL:PT1H
BEGIN:VTIMEZONE
TZID:Europe/Madrid
BEGIN:DAYLIGHT
TZOFFSETFROM:+0100
TZOFFSETTO:+0200
TZNAME:CEST
DTSTART:20210328T010000
END:DAYLIGHT
BEGIN:STANDARD
TZOFFSETFROM:+0200
TZOFFSETTO:+0100
TZNAME:CET
DTSTART:20211031T010000
END:STANDARD
BEGIN:DAYLIGHT
TZOFFSETFROM:+0100
TZOFFSETTO:+0200
TZNAME:CEST
DTSTART:20220327T010000
END:DAYLIGHT
BEGIN:STANDARD
TZOFFSETFROM:+0200
TZOFFSETTO:+0100
TZNAME:CET
DTSTART:20221030T010000
END:STANDARD
BEGIN:DAYLIGHT
TZOFFSETFROM:+0100
TZOFFSETTO:+0200
TZNAME:CEST
DTSTART:20230326T010000
END:DAYLIGHT
BEGIN:STANDARD
TZOFFSETFROM:+0200
TZOFFSETTO:+0100
TZNAME:CET
DTSTART:20231029T010000
END:STANDARD
END:VTIMEZONE
BEGIN:VEVENT
DTSTART;TZID=Europe/Madrid:20221201T140000
DTEND;TZID=Europe/Madrid:20221204T160000
DTSTAMP:20260425T163023
CREATED:20200111T151627Z
LAST-MODIFIED:20250221T133713Z
UID:6535-1669903200-1670169600@linagalvez.eu
SUMMARY:85ª Reunión Interparlamentaria UE-EE.UU. de legisladores transatlánticos. Washington DC
DESCRIPTION:La Comisión de relaciones con EEUU en colaboración viajará a EE.UU para participar en un encuentro con legisladores americanos. \nAgenda prevista: \nJueves 1 \n17:30-19:00 Recepción en la Cámara de Representantes. \nViernes 2 \n:00-10:30 Sesión sobre la Guerra en Ucrania y la estrategia transatlántica en materia de defensa y ayuda humanitaria. \n10:45-12:15 Sesión sobre la transformación democrática y económica de Ucrania y Moldavia a largo plazo.  \n13:30-15:00 Sesión sobre el Consejo de Comercio y Tecnología en la que se abordarán los retos que planta una globalización segmentada en la articulación de cadenas de suministro seguras a nivel global.  \n15:15-16:45 Sesión sobre la crisis inflacionista y las prioridades en materia económica en el ámbito económico\, así como los retos que éstas pueden presentar en las relaciones comerciales entre ambos países.  \nSábado 3  \n9:00-10:30 Sesión sobre el rol de China en las cadenas de suministro globales y las estrategias transatlánticas destinadas a garantizar la seguridad de las mismas en los próximos años.  \n12:00-13:30 Sesión de evaluación sobre los acuerdos alcanzados en la reunión de la COP27\, así como el estado de juego de las políticas climáticas y la seguridad energética. 
URL:https://linagalvez.eu/agenda/reunion-de-la-delegacion-usa-2-2-2-2-2-3-2-2/
CATEGORIES:Actualidad,D-US,Destacado,Parlamento
ATTACH;FMTTYPE=image/jpeg:https://linagalvez.eu/wp-content/uploads/2017_EU-USA-Leaders-Meeting_copyright-EU-Council-2017.jpg
END:VEVENT
BEGIN:VEVENT
DTSTART;TZID=Europe/Madrid:20221205T150000
DTEND;TZID=Europe/Madrid:20221205T183000
DTSTAMP:20260425T163023
CREATED:20210611T142459Z
LAST-MODIFIED:20221204T194430Z
UID:6546-1670252400-1670265000@linagalvez.eu
SUMMARY:Reunión de la Comisión de Industria\, Investigación y Energía (ITRE)
DESCRIPTION:La Eurodiputada Lina Gálvez forma parte de la Comisión de Industria\, Investigación y Energía\, conocida por las siglas ITRE\, es Vicepresidenta de la misma desde 2019. La próxima reunión del Comité ITRE será presencial y tendrá lugar el lunes 5 de diciembre de 2022. \nReunión de la Comisión de Industria\, Investigación y Energía en la que se discutirá el acuerdo de cooperación digital entre la UE y Corea del Sur en el marco de la\nmisión de la Comisión a Corea el mes pasado en la que participó Lina Gálvez.
URL:https://linagalvez.eu/agenda/reunion-de-la-comision-de-industria-investigacion-y-energia-itre-17-2-2-2-2-2-2-3-2-2-2-2-2-2-6-3-3-2/
CATEGORIES:Destacado,ITRE,Parlamento
ATTACH;FMTTYPE=image/png:https://linagalvez.eu/wp-content/uploads/2022/03/LGM_ITRE.png
END:VEVENT
BEGIN:VEVENT
DTSTART;TZID=Europe/Madrid:20221206T090000
DTEND;TZID=Europe/Madrid:20221206T101500
DTSTAMP:20260425T163023
CREATED:20211108T110030Z
LAST-MODIFIED:20221204T194904Z
UID:6553-1670317200-1670321700@linagalvez.eu
SUMMARY:S&D Group Meeting
DESCRIPTION:Reunión de Grupo S&D preparatoria para la actividad legislativa de la semana y en la que se discutirá qué medidas progresistas pueden ser puestas en marcha para paliar los efectos sociales de la crisis inflacionista que atraviesa Europa.
URL:https://linagalvez.eu/agenda/sd-group-meeting-23-3-2-2-4-2-3-3-5-2-2-2-2-2-2-2-3-3-2-3-2-3-5-2-3-2/
CATEGORIES:Actualidad,Parlamento,S&D
ATTACH;FMTTYPE=image/png:https://linagalvez.eu/wp-content/uploads/2020/01/1-S&D.svg.png
END:VEVENT
BEGIN:VEVENT
DTSTART;TZID=Europe/Madrid:20221206T120000
DTEND;TZID=Europe/Madrid:20221206T130000
DTSTAMP:20260425T163023
CREATED:20211108T110030Z
LAST-MODIFIED:20221204T195536Z
UID:6555-1670328000-1670331600@linagalvez.eu
SUMMARY:S&D Group Meeting
DESCRIPTION:Reunión de Grupo S&D sobre política digital en el que se presentarán el position paper elaborado por el grupo en el se aborda de qué manera se pueden integrar nociones de equidad y justicia social en la agenda digital de la UE.
URL:https://linagalvez.eu/agenda/sd-group-meeting-23-3-2-2-4-2-3-3-5-2-2-2-2-2-2-2-3-3-2-3-2-3-5-2-3-2-2/
CATEGORIES:Actualidad,Parlamento,S&D
ATTACH;FMTTYPE=image/png:https://linagalvez.eu/wp-content/uploads/2020/01/1-S&D.svg.png
END:VEVENT
BEGIN:VEVENT
DTSTART;TZID=Europe/Madrid:20221206T140000
DTEND;TZID=Europe/Madrid:20221206T153000
DTSTAMP:20260425T163023
CREATED:20200705T094158Z
LAST-MODIFIED:20221204T214732Z
UID:6559-1670335200-1670340600@linagalvez.eu
SUMMARY:Reunión de equipo. Coordinación interna
DESCRIPTION:
URL:https://linagalvez.eu/agenda/reunion-de-equipo-coordinacion-interna-2-2-2-3-3-2-3-2/
CATEGORIES:Actualidad,Parlamento
ATTACH;FMTTYPE=image/jpeg:https://linagalvez.eu/wp-content/uploads/2020/07/Calendario.jpg
END:VEVENT
BEGIN:VEVENT
DTSTART;TZID=Europe/Madrid:20221207T090000
DTEND;TZID=Europe/Madrid:20221207T120000
DTSTAMP:20260425T163023
CREATED:20211108T110030Z
LAST-MODIFIED:20221204T214041Z
UID:6557-1670403600-1670414400@linagalvez.eu
SUMMARY:S&D Group Meeting
DESCRIPTION:Reunión de Grupo S&D para coordinar la actividad legislativa del próximo Pleno
URL:https://linagalvez.eu/agenda/sd-group-meeting-23-3-2-2-4-2-3-3-5-2-2-2-2-2-2-2-3-3-2-3-2-3-5-2-3-2-2-2/
CATEGORIES:Actualidad,Destacado,Parlamento,S&D
ATTACH;FMTTYPE=image/png:https://linagalvez.eu/wp-content/uploads/2020/01/1-S&D.svg.png
END:VEVENT
BEGIN:VEVENT
DTSTART;TZID=Europe/Madrid:20221208T090000
DTEND;TZID=Europe/Madrid:20221208T120000
DTSTAMP:20260425T163023
CREATED:20210927T104830Z
LAST-MODIFIED:20221204T214633Z
UID:6561-1670490000-1670500800@linagalvez.eu
SUMMARY:Reunión de la Comisión de Derechos de las Mujeres e Igualdad de Género FEMM
DESCRIPTION:Reunión de la Comisión de Derechos de las Mujeres e Igualdad de Género en la que se abordarán los siguientes temas: \n\n\nAgenda por definir\n\n\n\n\n\nSitio web de la Comisión de Derechos de la Mujer e Igualdad de Género 
URL:https://linagalvez.eu/agenda/joint-meeting-committee-on-employment-and-social-affairs-committee-on-womens-rights-and-gender-equality-2-3-2-3-2-2-2-2-4-2-2-2-2-2/
CATEGORIES:Destacado,FEMM,Parlamento
ATTACH;FMTTYPE=image/png:https://linagalvez.eu/wp-content/uploads/2022/03/FEMM.png
END:VEVENT
BEGIN:VEVENT
DTSTART;TZID=Europe/Madrid:20221212T160000
DTEND;TZID=Europe/Madrid:20221212T170000
DTSTAMP:20260425T163023
CREATED:20211108T110030Z
LAST-MODIFIED:20221212T094354Z
UID:6573-1670860800-1670864400@linagalvez.eu
SUMMARY:S&D Group Meeting
DESCRIPTION:Reunión interna de trabajo del Grupo S&D  para coordinar  la actividad legislativa de la semana.
URL:https://linagalvez.eu/agenda/sd-group-meeting-23-3-2-2-4-2-3-3-5-2-2-2-2-2-2-2-3-3-2-3-2-3-5-2-3-3/
CATEGORIES:Actualidad,Parlamento,S&D
ATTACH;FMTTYPE=image/png:https://linagalvez.eu/wp-content/uploads/2020/01/1-S&D.svg.png
END:VEVENT
BEGIN:VEVENT
DTSTART;TZID=Europe/Madrid:20221212T170000
DTEND;TZID=Europe/Madrid:20221215T183000
DTSTAMP:20260425T163023
CREATED:20210211T164450Z
LAST-MODIFIED:20221212T092355Z
UID:6135-1670864400-1671129000@linagalvez.eu
SUMMARY:Pleno del Parlamento Europeo en Estrasburgo
DESCRIPTION:Destacados del pleno. Estrasburgo \n\n\n\n\n\n\nPremio Sájarov 2022 para el pueblo de Ucrania \n\n\n\n\nEl pueblo ucraniano recibirá el Premio Sájarov a la Libertad de Conciencia en una ceremonia en el hemiciclo el miércoles a mediodía. \n\n\n\n\n\n\n\n\nLos eurodiputad@s presentan sus prioridades para el Consejo Europeo de diciembre  \n\n\n\n\nEn un debate con la Comisión y la presidencia checa del Consejo el miércoles por la mañana\, los eurodiputados expondrán sus demandas y expectativas ante la cumbre del 15 de diciembre. \n\n\n\n\n\n\n\n\nImpulso a las renovables en respuesta a la crisis energética \n\n\n\n\nEl pleno debatirá y votará una propuesta lesgislativa para acelerar la concesión de permisos para la producción de energías renovables\, incluidos paneles solares y molinos de viento. \n\n\n\n\n\n\n\n\nLos bombardeos rusos en Ucrania y sus consecuencias \n\n\n\n\nLa situación humanitaria en Ucrania como consecuencia de los ataques rusos contra infraestructuras esenciales centrará un debate en el pleno el jueves. \n\n\n\n\n\n\n\n\nRespuesta de la UE a las ayudas fiscales en EEUU: debate con la CE y el Consejo \n\n\n\n\nLos eurodiputados y eurodiputadas quieren saber cómo respondera la UE al plan estadounidense de subvenciones y exenciones a empresas\, un esquema que coloca en desventaja a sus competidoras europeas. \n\n\n\n\n\n\n\n\nEl primer ministro esloveno\, Robert Golob\, interviene ante el pleno \n\n\n\n\nLos eurodiputados discutirán las perspectivas de la UE con el primer ministro esloveno\, Robert Golob\, el martes a las 10.30. \n\n\n\n\n\n\n\n\nIsrael y Palestina y la solución de los dos Estados \n\n\n\n\nEl martes por la tarde\, la Cámara evaluará con la Comisión Europea las posibilidades de que salga adelante la solución de los dos Estados para Israel y Palestina. \n\n\n\n\n\n\n\n\nGarantía Infantil: el PE pide fondos para asegurar atención en tiempo de crisis \n\n\n\n\nEl martes\, l@s eurodiputad@s debatirán con la Comisión y el Consejo la necesidad de un presupuesto específico para convertir en realidad la Garantía Infantil\, esencial dada la crisis. \n\n\n\n\n\n\n\n\nDebate sobre la libertad de prensa en la UE \n\n\n\n\nEl pleno tratará la situación de los periodistas en la UE y sus implicaciones para el Estado de derecho en un debate con la Comisión y el Consejo el miércoles. \n\n\n\n\n\n\n\n\nProtección de los derechos de las personas con discapacidad \n\n\n\n\nEl Parlamento pedirá medidas para permitir a las personas con discapacidad participar socialmente y en el mercado de trabajo\, y planteará soluciones para atajar la discriminación. \n\n\n\n\n\n\n\n\nEl presupuesto de la UE a largo plazo necesita revisión a la vista de la crisis \n\n\n\n\nEl PE apuesta por reformar el marco presupuestario comunitario para responder mejor a demandas cambiantes\, cubrir necesidades de financiación y hacerlo más flexible. \n\n\n\n\n\n\n\n\nVolcán de La Palma: el PE vota una ayuda de 9\,45 millones para paliar daños \n\n\n\n\nLos eurodiputados se pronunciarán sobre la propuesta de conceder a España 9\,45 millones de euros para mitigar los daños por la erupción del volcán de La Palma. \n\n\n\n\n\n\n\n\nCómo defender a las democracias de la UE frente a interferencias \n\n\n\n\nLa protección de infraestructuras esenciales\, redes y medios de comunicación\, y las medidas de seguridad energética frente a amenazas externas centrarán un debate con la Comisión el martes. \n\n\n\n\n\n\n\n\nCOP27: debate sobre el resultado de las negociaciones sobre clima en Egipto \n\n\n\n\nEl pleno examinará el lunes los resultados de la Conferencia de la ONU sobre cambio climático COP27\, celebrada en Sharm el Sheik (Egipto) del 6 al 19 de noviembre. \n\nBombardeos turcos en Irak y Siria. Declaración de la Comisión\, sin resolución. Debate\, el martes.\nProtección de la infraestructura clave frente a China. Ronda de preguntas a la Comisión\, el martes.\nResoluciones sobre derechos humanos y democracia (represión de protestas pacíficas en China y Chad\, y el caso del activista Abdulhadi Al-Khawaja de Bahrain). Debates\, el miércoles; votaciones\, el jueves.\nDesafíos en el sector de la aviación. Declaración de la Comisión\, sin resolución. Debate\, el lunes.\n30 aniversario de la Declaración de la ONU sobre los derechos de las personas pertenecientes a minorías nacionales o étnicas\, religiosas y lingüísticas. Declaración de la Comisión\, sin resolución. Debate\, el jueves
URL:https://linagalvez.eu/agenda/pleno-del-parlamento-europeo-2-2-2-2-2-2-2-6-2-3-3-4/
CATEGORIES:Actualidad,Destacado,FEMM,Parlamento
ATTACH;FMTTYPE=image/jpeg:https://linagalvez.eu/wp-content/uploads/2020/03/European_Parliament_Strasbourg_Hemicycle_-_Diliff-2-scaled.jpg
END:VEVENT
BEGIN:VEVENT
DTSTART;TZID=Europe/Madrid:20221212T180000
DTEND;TZID=Europe/Madrid:20221212T190000
DTSTAMP:20260425T163023
CREATED:20210412T083611Z
LAST-MODIFIED:20221212T102235Z
UID:6574-1670868000-1670871600@linagalvez.eu
SUMMARY:S&D Grupo de trabajo de Empleo y Asuntos Sociales
DESCRIPTION:Grupo de trabajo interno del  S&D EMPL para coordinar las iniciativas relacionadas con los trabajos legislativos en curso y que analizará entre otros expedientes: la preparación del debate de actualidad del pleno “Hacer frente a la crisis del coste de la vida: aumentar los salarios\, gravar los beneficios\, frenar la especulación”.
URL:https://linagalvez.eu/agenda/sd-grupo-de-trabajo-de-empleo-y-asuntos-sociales-4-2-2-2-2-2-2-2-2-2-2-2-3-3-2-2-3-2-2-2-2-2-2-2-2/
CATEGORIES:Actualidad,Destacado,EMPL,Parlamento,S&D
ATTACH;FMTTYPE=image/jpeg:https://linagalvez.eu/wp-content/uploads/2020/11/SD-WG-ITRE.jpg
END:VEVENT
BEGIN:VEVENT
DTSTART;TZID=Europe/Madrid:20221213T090000
DTEND;TZID=Europe/Madrid:20221213T130000
DTSTAMP:20260425T163023
CREATED:20220502T092018Z
LAST-MODIFIED:20221212T110220Z
UID:6191-1670922000-1670936400@linagalvez.eu
SUMMARY:Destacados del pleno. 13 de diciembre 2022 
DESCRIPTION:Debates en el pleno de Estrasburgo\, \n09:00 – 11:50 Debate clave en el pleno sobre Respuesta de la UE a la Ley de Reducción de la Inflación de EE.UU\n12:00 – 12:30 Debate clave a propósito de Sakharov Prize 2022: el pueblo de Ucrania\n12.30 – 13.30 VOTOS\n13.30 – Debate de actualidad “Hacer frente a la crisis del coste de la vida: aumentar los salarios\, gravar los beneficios\, acabar con la especulación”.
URL:https://linagalvez.eu/agenda/participacion-en-plenario-en-el-debate-conjunto-sobre-investigacion-e-innovacion-2-2-2-2-2-2-2-3-2-2-4-3/
CATEGORIES:Actualidad,Destacado,Parlamento,S&D
ATTACH;FMTTYPE=image/jpeg:https://linagalvez.eu/wp-content/uploads/2022/01/Captura_LGM.jpg
END:VEVENT
BEGIN:VEVENT
DTSTART;TZID=Europe/Madrid:20221213T103000
DTEND;TZID=Europe/Madrid:20221213T120000
DTSTAMP:20260425T163023
CREATED:20210927T094856Z
LAST-MODIFIED:20221212T103325Z
UID:6575-1670927400-1670932800@linagalvez.eu
SUMMARY:Grupo de trabajo S&D ITRE
DESCRIPTION:Reunión del grupo de trabajo S&D de la Comisión de Industria\, Investigación y Energía en la que se abordarán los asuntos legislativos en marcha\, y entre otros expedientes la directiva de Gas e Hidrógeno y la eficiencia energética de los edificios a debate en el plenario de la semana.
URL:https://linagalvez.eu/agenda/encuentro-con-la-embajadora-espanola-en-malta-external-group-meeting-2-5-2-3/
CATEGORIES:ITRE,S&D
ATTACH;FMTTYPE=image/jpeg:https://linagalvez.eu/wp-content/uploads/2022/10/Lina-Galvez_TimeUseWeek2002.jpg
END:VEVENT
BEGIN:VEVENT
DTSTART;TZID=Europe/Madrid:20221213T130000
DTEND;TZID=Europe/Madrid:20221213T143000
DTSTAMP:20260425T163023
CREATED:20210301T093643Z
LAST-MODIFIED:20250210T090037Z
UID:6576-1670936400-1670941800@linagalvez.eu
SUMMARY:S&D Reunión de la Delegación Socialista Española
DESCRIPTION:Reunión interna de trabajo para coordinar la actividad legislativa del Pleno del Parlamento Europeo.
URL:https://linagalvez.eu/agenda/sd-reunion-de-la-delegacion-socialista-espanola-11-2-2-2-2-2-2-2-2-4-3-2-2-2-2-2-2-2-2-2/
CATEGORIES:Destacado,Parlamento,S&D
ATTACH;FMTTYPE=image/jpeg:https://linagalvez.eu/wp-content/uploads/2021/03/WhatsApp-Image-2022-07-11-at-12.02.33-PM.jpeg
END:VEVENT
BEGIN:VEVENT
DTSTART;TZID=Europe/Madrid:20221213T143000
DTEND;TZID=Europe/Madrid:20221213T153000
DTSTAMP:20260425T163023
CREATED:20210412T083611Z
LAST-MODIFIED:20221212T104352Z
UID:6581-1670941800-1670945400@linagalvez.eu
SUMMARY:S&D Reunión conjunta de los Grupos de trabajo de las Comisiones EMPL y FEMM
DESCRIPTION:Grupo de trabajo interno del  S&D EMPL y FEMM para coordinar las iniciativas relacionadas con los trabajos legislativos en curso y que analizará el paquete final sobre la «Propuesta de Directiva del Parlamento Europeo y del Consejo destinada a reforzar la aplicación del principio de igualdad de retribución entre\nhombres y mujeres para un mismo trabajo o para un trabajo de igual valor mediante la transparencia salarial y mecanismos de ejecución»
URL:https://linagalvez.eu/agenda/sd-grupo-de-trabajo-de-empleo-y-asuntos-sociales-4-2-2-2-2-2-2-2-2-2-2-2-3-3-2-2-3-2-2-2-2-2-2-2-2-2/
CATEGORIES:Actualidad,Destacado,EMPL,Parlamento,S&D
ATTACH;FMTTYPE=image/jpeg:https://linagalvez.eu/wp-content/uploads/2020/11/SD-WG-ITRE.jpg
END:VEVENT
BEGIN:VEVENT
DTSTART;TZID=Europe/Madrid:20221213T170000
DTEND;TZID=Europe/Madrid:20221213T173000
DTSTAMP:20260425T163023
CREATED:20221212T110637Z
LAST-MODIFIED:20221212T110637Z
UID:6592-1670950800-1670952600@linagalvez.eu
SUMMARY:Recepción de agradecimiento por el apoyo del Parlamento europeo a Taiwan.
DESCRIPTION:El Embajador Remus Li-Kuo CHEN\, Jefe de la Oficina de Representación de Taipei en la UE y Bélgica\, y el eurodiputado Michael GAHLER\, Presidente del Grupo de Amistad PE-Taiwán y Copresidente fundador del Club Formosa\, organizan esta recepción en el Parlamento europeo de Estrasburgo en agradecimiento al firme apoyo del Parlamento Europeo y a la inestimable amistad de Taiwán.
URL:https://linagalvez.eu/agenda/recepcion-de-agradecimiento-por-el-apoyo-del-parlamento-europeo-a-taiwan/
CATEGORIES:Actualidad,Parlamento,S&D
END:VEVENT
BEGIN:VEVENT
DTSTART;TZID=Europe/Madrid:20221213T190000
DTEND;TZID=Europe/Madrid:20221213T200000
DTSTAMP:20260425T163023
CREATED:20221212T104836Z
LAST-MODIFIED:20221212T104836Z
UID:6583-1670958000-1670961600@linagalvez.eu
SUMMARY:Debate TVE Canarias desde Estrasburgo
DESCRIPTION:Debate televisado sobre la Agenda Digital coincidiendo con la cumbre de la OCDE en Gran Canaria sobre los retos de la Agenda Digital. Se trata del primer debate sobre esta cuestión\, e intervendrán tres eurodiputadas entre ellas Lina Gálvez en calidad de Vicepresidenta de ITRE.
URL:https://linagalvez.eu/agenda/debate-tve-canarias-desde-estrasburgo/
CATEGORIES:Actualidad,ITRE,S&D,STOA
ATTACH;FMTTYPE=image/jpeg:https://linagalvez.eu/wp-content/uploads/2022/11/lina-galvez_innovacion-investigacion.jpg
END:VEVENT
BEGIN:VEVENT
DTSTART;TZID=Europe/Madrid:20221214T143000
DTEND;TZID=Europe/Madrid:20221214T153000
DTSTAMP:20260425T163024
CREATED:20200111T151627Z
LAST-MODIFIED:20250221T134036Z
UID:6585-1671028200-1671031800@linagalvez.eu
SUMMARY:Reunión de la Delegación USA
DESCRIPTION:La Comisión de relaciones con EEUU intercambio de opiniones sobre la 85ª Reunión Interparlamentaria UE-EEUU de legisladores y legisladoras transatlánticos.
URL:https://linagalvez.eu/agenda/reunion-de-la-delegacion-usa-2-2-2-2-2-3-2-3/
CATEGORIES:Actualidad,D-US,Parlamento
ATTACH;FMTTYPE=image/jpeg:https://linagalvez.eu/wp-content/uploads/banderas-eu-es-horiz_img_77743_pca-freepik.jpg
END:VEVENT
BEGIN:VEVENT
DTSTART;TZID=Europe/Madrid:20221214T180000
DTEND;TZID=Europe/Madrid:20221214T210000
DTSTAMP:20260425T163024
CREATED:20211108T110030Z
LAST-MODIFIED:20221212T105353Z
UID:6587-1671040800-1671051600@linagalvez.eu
SUMMARY:S&D Group Meeting
DESCRIPTION:Reunión interna de trabajo del Grupo S&D  para coordinar  la actividad legislativa de la semana.
URL:https://linagalvez.eu/agenda/sd-group-meeting-23-3-2-2-4-2-3-3-5-2-2-2-2-2-2-2-3-3-2-3-2-3-5-2-3-3-2/
CATEGORIES:Actualidad,Parlamento,S&D
ATTACH;FMTTYPE=image/png:https://linagalvez.eu/wp-content/uploads/2020/01/1-S&D.svg.png
END:VEVENT
BEGIN:VEVENT
DTSTART;TZID=Europe/Madrid:20221215T083000
DTEND;TZID=Europe/Madrid:20221215T083000
DTSTAMP:20260425T163024
CREATED:20210412T084247Z
LAST-MODIFIED:20221212T105823Z
UID:6571-1671093000-1671093000@linagalvez.eu
SUMMARY:S&D FEMM Working Group
DESCRIPTION:Sesión interna de trabajo en el seno del S&D para coordinar y revisar las iniciativas que se tratarán en el Pleno y la Comisión FEMM. En la agenda\, discusión sobre los posibles nuevos expedientes de FEMM de cara a 2023.
URL:https://linagalvez.eu/agenda/sd-femm-working-group-6-2-2-3-2/
CATEGORIES:FEMM,Parlamento,S&D
END:VEVENT
BEGIN:VEVENT
DTSTART;TZID=Europe/Madrid:20221215T093000
DTEND;TZID=Europe/Madrid:20221215T113000
DTSTAMP:20260425T163024
CREATED:20210528T185833Z
LAST-MODIFIED:20221212T114447Z
UID:6594-1671096600-1671103800@linagalvez.eu
SUMMARY:Panel STOA
DESCRIPTION:La próxima reunión del Panel STOA\, Panel para el Futuro de la Ciencia y la Tecnología\, se llevará a cabo el jueves 16 de octubre de 2022\, de 9.00 a 11.30 horas. \nEn la agenda de reunión la presentación del informe «Un enfoque social de las ciudades inteligentes y el proceso de digitalización de las ciudades» este informe fue solicitado por las europarlamentarias Lina Gálvez  y su compañera de Grupo S&D\, Patrizia TOIA.
URL:https://linagalvez.eu/agenda/panel-stoa-presentacion-de-los-estudios-impacto-en-la-salud-del-5g-e-impacto-medioambiental-del-5g-3-2-2-2-2-2-2-3/
CATEGORIES:Actualidad,Destacado,ITRE,STOA
ATTACH;FMTTYPE=image/jpeg:https://linagalvez.eu/wp-content/uploads/2021/05/STOA-28M-e1639394848457.jpg
END:VEVENT
BEGIN:VEVENT
DTSTART;TZID=Europe/Madrid:20221219T080000
DTEND;TZID=Europe/Madrid:20221223T170000
DTSTAMP:20260425T163024
CREATED:20210205T102540Z
LAST-MODIFIED:20221220T132959Z
UID:6605-1671436800-1671814800@linagalvez.eu
SUMMARY:External parliamentary activities. Week.
DESCRIPTION:Durante las semanas verdes\,  l@s eurodiputad@s desarrollan actividades fuera del Parlamento Europeo. Trabajan en sus circunscripciones para tener la oportunidad de estar en contacto con las personas electoras\, o en las delegaciones del Parlamento para mantener relaciones con los países ajenos a la UE.\nLa eurodiputada Lina Gálvez mantendrá durante la semana diversos encuentros informales con distintas autoridades\, asociaciones y profesionales.\n\nMás Información 
URL:https://linagalvez.eu/agenda/external-parliamentary-activities-week-2-6-2-2-2-2/
CATEGORIES:Actualidad,Destacado,Parlamento
ATTACH;FMTTYPE=image/jpeg:https://linagalvez.eu/wp-content/uploads/2020/07/Calendario2.jpg
END:VEVENT
BEGIN:VEVENT
DTSTART;TZID=Europe/Madrid:20221219T113000
DTEND;TZID=Europe/Madrid:20221219T133000
DTSTAMP:20260425T163024
CREATED:20211108T110030Z
LAST-MODIFIED:20221220T132347Z
UID:6572-1671449400-1671456600@linagalvez.eu
SUMMARY:S&D Group Meeting
DESCRIPTION:Reunión de Grupo S&D  para coordinar la actividad legislativa y los temas de actualidad del Parlamento Europeo
URL:https://linagalvez.eu/agenda/sd-group-meeting-23-3-2-2-4-2-3-3-5-2-2-2-2-2-2-2-3-3-2-3-2-3-5-2-3-4/
CATEGORIES:Actualidad,Destacado,Parlamento,S&D
ATTACH;FMTTYPE=image/png:https://linagalvez.eu/wp-content/uploads/2020/01/1-S&D.svg.png
END:VEVENT
END:VCALENDAR