BEGIN:VCALENDAR
VERSION:2.0
PRODID:-//Lina Gálvez - ECPv6.15.20//NONSGML v1.0//EN
CALSCALE:GREGORIAN
METHOD:PUBLISH
X-WR-CALNAME:Lina Gálvez
X-ORIGINAL-URL:https://linagalvez.eu
X-WR-CALDESC:Eventos para Lina Gálvez
REFRESH-INTERVAL;VALUE=DURATION:PT1H
X-Robots-Tag:noindex
X-PUBLISHED-TTL:PT1H
BEGIN:VTIMEZONE
TZID:Europe/Madrid
BEGIN:DAYLIGHT
TZOFFSETFROM:+0100
TZOFFSETTO:+0200
TZNAME:CEST
DTSTART:20210328T010000
END:DAYLIGHT
BEGIN:STANDARD
TZOFFSETFROM:+0200
TZOFFSETTO:+0100
TZNAME:CET
DTSTART:20211031T010000
END:STANDARD
BEGIN:DAYLIGHT
TZOFFSETFROM:+0100
TZOFFSETTO:+0200
TZNAME:CEST
DTSTART:20220327T010000
END:DAYLIGHT
BEGIN:STANDARD
TZOFFSETFROM:+0200
TZOFFSETTO:+0100
TZNAME:CET
DTSTART:20221030T010000
END:STANDARD
BEGIN:DAYLIGHT
TZOFFSETFROM:+0100
TZOFFSETTO:+0200
TZNAME:CEST
DTSTART:20230326T010000
END:DAYLIGHT
BEGIN:STANDARD
TZOFFSETFROM:+0200
TZOFFSETTO:+0100
TZNAME:CET
DTSTART:20231029T010000
END:STANDARD
END:VTIMEZONE
BEGIN:VEVENT
DTSTART;TZID=Europe/Madrid:20220117T180000
DTEND;TZID=Europe/Madrid:20220117T190000
DTSTAMP:20260423T223538
CREATED:20220116T204839Z
LAST-MODIFIED:20220116T204907Z
UID:4977-1642442400-1642446000@linagalvez.eu
SUMMARY:Tributo al presidente David Sassoli
DESCRIPTION:El Parlamento Europeo rendirá homenaje al fallecido presidente David Sassoli\, fallecido el 11 de enero\, en una ceremonia al inicio de la sesión plenaria\, el lunes a las 18:00 en Estrasburgo. \nEl presidente del Consejo Europeo\, Charles Michel\, la presidenta de la Comisión\, Ursula von der Leyen\, el presidente francés\, Emmanuel Macron\, y el ex primer ministro y ex eurodiputado italiano Enrico Letta\, así como los líderes de los grupos políticos intervendrán ante la Cámara. \nMiembro del Parlamento Europeo desde 2009\, David Sassoli fue elegido presidente en julio de 2019 para la primera mitad de esta legislatura.
URL:https://linagalvez.eu/agenda/tributo-al-presidente-david-sassoli/
CATEGORIES:Actualidad,Destacado,Parlamento,S&D
ATTACH;FMTTYPE=image/jpeg:https://linagalvez.eu/wp-content/uploads/2022/01/20220114PHT21003_original.jpg
END:VEVENT
END:VCALENDAR