BEGIN:VCALENDAR
VERSION:2.0
PRODID:-//Lina Gálvez - ECPv6.15.20//NONSGML v1.0//EN
CALSCALE:GREGORIAN
METHOD:PUBLISH
X-ORIGINAL-URL:https://linagalvez.eu
X-WR-CALDESC:Eventos para Lina Gálvez
REFRESH-INTERVAL;VALUE=DURATION:PT1H
X-Robots-Tag:noindex
X-PUBLISHED-TTL:PT1H
BEGIN:VTIMEZONE
TZID:Europe/Madrid
BEGIN:DAYLIGHT
TZOFFSETFROM:+0100
TZOFFSETTO:+0200
TZNAME:CEST
DTSTART:20230326T010000
END:DAYLIGHT
BEGIN:STANDARD
TZOFFSETFROM:+0200
TZOFFSETTO:+0100
TZNAME:CET
DTSTART:20231029T010000
END:STANDARD
BEGIN:DAYLIGHT
TZOFFSETFROM:+0100
TZOFFSETTO:+0200
TZNAME:CEST
DTSTART:20240331T010000
END:DAYLIGHT
BEGIN:STANDARD
TZOFFSETFROM:+0200
TZOFFSETTO:+0100
TZNAME:CET
DTSTART:20241027T010000
END:STANDARD
BEGIN:DAYLIGHT
TZOFFSETFROM:+0100
TZOFFSETTO:+0200
TZNAME:CEST
DTSTART:20250330T010000
END:DAYLIGHT
BEGIN:STANDARD
TZOFFSETFROM:+0200
TZOFFSETTO:+0100
TZNAME:CET
DTSTART:20251026T010000
END:STANDARD
END:VTIMEZONE
BEGIN:VEVENT
DTSTART;TZID=Europe/Madrid:20241029T130000
DTEND;TZID=Europe/Madrid:20241029T140000
DTSTAMP:20260424T053910
CREATED:20241028T091139Z
LAST-MODIFIED:20241029T120937Z
UID:10017-1730206800-1730210400@linagalvez.eu
SUMMARY:Encuentro sobre los desafíos de la política de igualdad en la UE - EUdemos
DESCRIPTION:Lina Gálvez participará de forma online en un encuentro con participantes en el proyecto europeo EUdemos: estudiantes de final de secundaria y bachillerato de 5 centros educativos de 5 Estados miembros (Portugal\, España\, Polonia\, Grecia e Italia)\, en el que hablará sobre los desafíos de la política de igualdad en la Unión Europea.\nSerá retransmitido en streaming por Euroactiv aquí.
URL:https://linagalvez.eu/agenda/encuentro-desafios-politica-igualdad-ue-eudemos/
CATEGORIES:Actualidad
ATTACH;FMTTYPE=image/png:https://linagalvez.eu/wp-content/uploads/2024/10/EUdemos_imagen-16-9.png
END:VEVENT
END:VCALENDAR